BEGIN:VCALENDAR
VERSION:2.0
PRODID:-//Hendricks County Parks &amp; Recreation - ECPv6.15.20//NONSGML v1.0//EN
CALSCALE:GREGORIAN
METHOD:PUBLISH
X-ORIGINAL-URL:https://hendrickscountyparks.org
X-WR-CALDESC:Events for Hendricks County Parks &amp; Recreation
REFRESH-INTERVAL;VALUE=DURATION:PT1H
X-Robots-Tag:noindex
X-PUBLISHED-TTL:PT1H
BEGIN:VTIMEZONE
TZID:America/Indiana/Indianapolis
BEGIN:DAYLIGHT
TZOFFSETFROM:-0500
TZOFFSETTO:-0400
TZNAME:EDT
DTSTART:20230312T070000
END:DAYLIGHT
BEGIN:STANDARD
TZOFFSETFROM:-0400
TZOFFSETTO:-0500
TZNAME:EST
DTSTART:20231105T060000
END:STANDARD
BEGIN:DAYLIGHT
TZOFFSETFROM:-0500
TZOFFSETTO:-0400
TZNAME:EDT
DTSTART:20240310T070000
END:DAYLIGHT
BEGIN:STANDARD
TZOFFSETFROM:-0400
TZOFFSETTO:-0500
TZNAME:EST
DTSTART:20241103T060000
END:STANDARD
BEGIN:DAYLIGHT
TZOFFSETFROM:-0500
TZOFFSETTO:-0400
TZNAME:EDT
DTSTART:20250309T070000
END:DAYLIGHT
BEGIN:STANDARD
TZOFFSETFROM:-0400
TZOFFSETTO:-0500
TZNAME:EST
DTSTART:20251102T060000
END:STANDARD
END:VTIMEZONE
BEGIN:VEVENT
DTSTART;VALUE=DATE:20240907
DTEND;VALUE=DATE:20241101
DTSTAMP:20260424T130245
CREATED:20240806T180415Z
LAST-MODIFIED:20240806T180415Z
UID:10000768-1725667200-1730419199@hendrickscountyparks.org
SUMMARY:McCloud Prairie Maze
DESCRIPTION:Come out to McCloud Nature Park during the months of September and October for the 2024 McCloud Prairie Maze and celebrate Hendricks County’s bicentennial!   \nReceiving its official designation as an Indiana county on April 1\, 1824\, Hendricks County is now 200 years old! For more information about Hendricks County’s bicentennial\, visit Hendricks200.com.   \nWe are celebrating the county’s 200th birthday with our own take on the official bicentennial logo\, based on nature.  \nA snake slithers in the shape of the two in 200\, while the first zero is a tree and the second zero is an owl. All three “numbers” are bathed in sunshine.   \nCelebrate Hendricks County this fall with a trip through our bicentennial-themed prairie maze. Be sure to dress for the weather\, wear comfortable closed-toe shoes\, and bring some water. The correct route through the maze results in a hike of approximately 2/3 of a mile.  \nBring the kids\, too\, as this maze is appropriate for all ages\, and be sure to explore the McCloud Prairie Maze by October 31!  \nAdmission to McCloud Nature Park and the prairie maze is absolutely FREE\, and both are open from dawn to dusk daily. To access the prairie maze\, park in the Nature Center parking lot. Maps to the maze are available in the kiosk outside of the Nature Center\, as well as in the kiosk at the entrance to the maze.
URL:https://hendrickscountyparks.org/event/mccloud-prairie-maze-3/
LOCATION:McCloud Nature Park\, 8518 Hughes Road\, North Salem\, IN\, 46165\, United States
CATEGORIES:All Programs,Hiking,McCloud Nature Park,Plants and Trees
ATTACH;FMTTYPE=image/jpeg:https://hendrickscountyparks.org/wp-content/uploads/2024/07/Bicentennial-Prairie-Maze-scaled.jpg
END:VEVENT
BEGIN:VEVENT
DTSTART;TZID=America/Indiana/Indianapolis:20241019T083000
DTEND;TZID=America/Indiana/Indianapolis:20241019T103000
DTSTAMP:20260424T130245
CREATED:20240810T153957Z
LAST-MODIFIED:20240810T153957Z
UID:10000787-1729326600-1729333800@hendrickscountyparks.org
SUMMARY:2024 Fall Colors Run
DESCRIPTION:Enjoy the beautiful fall colors and the crisp air while running the trails at McCloud Nature Park. Scenes will include forest\, prairie\, Big Walnut Creek\, and the historic truss bridge!\n \nAfter the professionally timed race\, stick around for the McCloud Fall Colors Festival which includes food\, archery\, atlatls\, hayride\, prairie maze\, games\, and more for the whole family!\n \nAPPROPRIATE FOR ALL AGES\n \nFEE: $20/PERSON FOR 5K WALK/RUN; $30/PERSON FOR 10K RUN\n \nREGISTER IN ADVANCE AT: https://runsignup.com/…/IN/NorthSalem/McCloudFallColorsRun
URL:https://hendrickscountyparks.org/event/2024-fall-colors-run/
LOCATION:McCloud Nature Park\, 8518 Hughes Road\, North Salem\, IN\, 46165\, United States
CATEGORIES:All Programs,Festivals,McCloud Nature Park
ATTACH;FMTTYPE=image/jpeg:https://hendrickscountyparks.org/wp-content/uploads/2022/07/2016-Fall-Colors-Run-Logo-color-scaled.jpg
END:VEVENT
BEGIN:VEVENT
DTSTART;TZID=America/Indiana/Indianapolis:20241019T100000
DTEND;TZID=America/Indiana/Indianapolis:20241019T150000
DTSTAMP:20260424T130245
CREATED:20240806T175809Z
LAST-MODIFIED:20240806T175809Z
UID:10000767-1729332000-1729350000@hendrickscountyparks.org
SUMMARY:Fall Colors Festival
DESCRIPTION:Autumn is a beautiful time of year\, and McCloud Nature Park bursts into colorful splendor in October and November every year. As such\, we celebrate the fabulous fall foliage every October with our fun\, FREE\, family-friendly Fall Colors Festival. We have 232 acres of natural beauty to explore while you’re here\, including 6½ miles of trails\, the McCloud Nature Center\, and our bicentennial-themed 2024 McCloud Prairie Maze. We have hands-on activities for everyone to enjoy at the Fall Colors Festival\, such as axe-throwing\, throwing an atlatl (an ancient hunting weapon)\, hayrides\, yard games\, crafts\, and more! \nAPPROPRIATE FOR ALL AGES \nFREE TO ATTEND \nNO ADVANCE REGISTRATION REQUIRED \nAPPROXIMATE PROGRAM DURATION: 5 HOURS (ONGOING)
URL:https://hendrickscountyparks.org/event/fall-colors-festival-4/
LOCATION:McCloud Nature Park\, 8518 Hughes Road\, North Salem\, IN\, 46165\, United States
CATEGORIES:All Programs,Festivals,McCloud Nature Park
ATTACH;FMTTYPE=image/png:https://hendrickscountyparks.org/wp-content/uploads/2024/08/Fall-Colors-Festival.png
END:VEVENT
END:VCALENDAR