BEGIN:VCALENDAR
VERSION:2.0
PRODID:-//Hendricks County Parks &amp; Recreation - ECPv6.15.20//NONSGML v1.0//EN
CALSCALE:GREGORIAN
METHOD:PUBLISH
X-ORIGINAL-URL:https://hendrickscountyparks.org
X-WR-CALDESC:Events for Hendricks County Parks &amp; Recreation
REFRESH-INTERVAL;VALUE=DURATION:PT1H
X-Robots-Tag:noindex
X-PUBLISHED-TTL:PT1H
BEGIN:VTIMEZONE
TZID:America/Indiana/Indianapolis
BEGIN:DAYLIGHT
TZOFFSETFROM:-0500
TZOFFSETTO:-0400
TZNAME:EDT
DTSTART:20230312T070000
END:DAYLIGHT
BEGIN:STANDARD
TZOFFSETFROM:-0400
TZOFFSETTO:-0500
TZNAME:EST
DTSTART:20231105T060000
END:STANDARD
BEGIN:DAYLIGHT
TZOFFSETFROM:-0500
TZOFFSETTO:-0400
TZNAME:EDT
DTSTART:20240310T070000
END:DAYLIGHT
BEGIN:STANDARD
TZOFFSETFROM:-0400
TZOFFSETTO:-0500
TZNAME:EST
DTSTART:20241103T060000
END:STANDARD
BEGIN:DAYLIGHT
TZOFFSETFROM:-0500
TZOFFSETTO:-0400
TZNAME:EDT
DTSTART:20250309T070000
END:DAYLIGHT
BEGIN:STANDARD
TZOFFSETFROM:-0400
TZOFFSETTO:-0500
TZNAME:EST
DTSTART:20251102T060000
END:STANDARD
END:VTIMEZONE
BEGIN:VEVENT
DTSTART;TZID=America/Indiana/Indianapolis:20241116T100000
DTEND;TZID=America/Indiana/Indianapolis:20241116T120000
DTSTAMP:20260424T114309
CREATED:20240808T140918Z
LAST-MODIFIED:20240808T140918Z
UID:10000776-1731751200-1731758400@hendrickscountyparks.org
SUMMARY:Journey Through Time: McCloud's Remarkable Past
DESCRIPTION:Step into the pages of history as we explore McCloud Nature Park—a place where echoes of the past resonate through the trees and trails. Here’s what awaits you: Homestead Beginnings\, the Resort Days\, the Bridge Across Time\, and Looking Toward the Future. Try your hand at making butter\, learn about Dutch oven cooking\, and tour some of the remnants of days gone by still in our beautiful park. \nJoin us for a day where past\, present and future intertwine—a journey that bridges generations. \nAPPROPRIATE FOR ALL AGES \nFREE TO ATTEND \nNO ADVANCE REGISTRATION REQUIRED \nAPPROXIMATE PROGRAM DURATION: 2 HOURS
URL:https://hendrickscountyparks.org/event/journey-through-time-mcclouds-remarkable-past/
LOCATION:McCloud Nature Park\, 8518 Hughes Road\, North Salem\, IN\, 46165\, United States
CATEGORIES:All Programs,Hiking,McCloud Nature Park
ATTACH;FMTTYPE=image/png:https://hendrickscountyparks.org/wp-content/uploads/2024/08/Journey-Through-Time.png
END:VEVENT
END:VCALENDAR