BEGIN:VCALENDAR
VERSION:2.0
PRODID:-//Hendricks County Parks &amp; Recreation - ECPv6.15.20//NONSGML v1.0//EN
CALSCALE:GREGORIAN
METHOD:PUBLISH
X-ORIGINAL-URL:https://hendrickscountyparks.org
X-WR-CALDESC:Events for Hendricks County Parks &amp; Recreation
REFRESH-INTERVAL;VALUE=DURATION:PT1H
X-Robots-Tag:noindex
X-PUBLISHED-TTL:PT1H
BEGIN:VTIMEZONE
TZID:America/Indiana/Indianapolis
BEGIN:DAYLIGHT
TZOFFSETFROM:-0500
TZOFFSETTO:-0400
TZNAME:EDT
DTSTART:20240310T070000
END:DAYLIGHT
BEGIN:STANDARD
TZOFFSETFROM:-0400
TZOFFSETTO:-0500
TZNAME:EST
DTSTART:20241103T060000
END:STANDARD
BEGIN:DAYLIGHT
TZOFFSETFROM:-0500
TZOFFSETTO:-0400
TZNAME:EDT
DTSTART:20250309T070000
END:DAYLIGHT
BEGIN:STANDARD
TZOFFSETFROM:-0400
TZOFFSETTO:-0500
TZNAME:EST
DTSTART:20251102T060000
END:STANDARD
BEGIN:DAYLIGHT
TZOFFSETFROM:-0500
TZOFFSETTO:-0400
TZNAME:EDT
DTSTART:20260308T070000
END:DAYLIGHT
BEGIN:STANDARD
TZOFFSETFROM:-0400
TZOFFSETTO:-0500
TZNAME:EST
DTSTART:20261101T060000
END:STANDARD
END:VTIMEZONE
BEGIN:VEVENT
DTSTART;TZID=America/Indiana/Indianapolis:20250403T100000
DTEND;TZID=America/Indiana/Indianapolis:20250403T140000
DTSTAMP:20260423T154638
CREATED:20241122T183715Z
LAST-MODIFIED:20241122T183715Z
UID:10000798-1743674400-1743688800@hendrickscountyparks.org
SUMMARY:Salamander Safari Spring Break Camp
DESCRIPTION:Join us for Salamander Safari during the peak of amphibian spawning season! Campers will embark on a thrilling adventure searching for salamanders and other amphibians and observing their fascinating behaviors. We’ll learn about their life cycles and the importance of preserving their ecosystems. It’s a hands-on\, muddy\, and unforgettable experience in the heart of nature. Dress for the weather! \nRECOMMENDED FOR AGES 6-15 \nFEE: $20/PERSON \nADVANCE REGISTRATION REQUIRED BY MARCH 13 AT: https://hcparks.recdesk.com/Community/Program/Detail?programId=904 \nAPPROXIMATE PROGRAM DURATION: 4 HOURS
URL:https://hendrickscountyparks.org/event/salamander-safari-spring-break-camp-2/
LOCATION:McCloud Nature Park\, 8518 Hughes Road\, North Salem\, IN\, 46165\, United States
CATEGORIES:All Programs,Amphibians,Day Camps,McCloud Nature Park,Teens,Wildlife
ATTACH;FMTTYPE=image/jpeg:https://hendrickscountyparks.org/wp-content/uploads/2024/11/Salamander-Safari-Spring-Break-Camp-April-3.jpg
END:VEVENT
END:VCALENDAR