BEGIN:VCALENDAR
VERSION:2.0
PRODID:-//Hendricks County Parks &amp; Recreation - ECPv6.15.20//NONSGML v1.0//EN
CALSCALE:GREGORIAN
METHOD:PUBLISH
X-ORIGINAL-URL:https://hendrickscountyparks.org
X-WR-CALDESC:Events for Hendricks County Parks &amp; Recreation
REFRESH-INTERVAL;VALUE=DURATION:PT1H
X-Robots-Tag:noindex
X-PUBLISHED-TTL:PT1H
BEGIN:VTIMEZONE
TZID:America/Indiana/Indianapolis
BEGIN:DAYLIGHT
TZOFFSETFROM:-0500
TZOFFSETTO:-0400
TZNAME:EDT
DTSTART:20240310T070000
END:DAYLIGHT
BEGIN:STANDARD
TZOFFSETFROM:-0400
TZOFFSETTO:-0500
TZNAME:EST
DTSTART:20241103T060000
END:STANDARD
BEGIN:DAYLIGHT
TZOFFSETFROM:-0500
TZOFFSETTO:-0400
TZNAME:EDT
DTSTART:20250309T070000
END:DAYLIGHT
BEGIN:STANDARD
TZOFFSETFROM:-0400
TZOFFSETTO:-0500
TZNAME:EST
DTSTART:20251102T060000
END:STANDARD
BEGIN:DAYLIGHT
TZOFFSETFROM:-0500
TZOFFSETTO:-0400
TZNAME:EDT
DTSTART:20260308T070000
END:DAYLIGHT
BEGIN:STANDARD
TZOFFSETFROM:-0400
TZOFFSETTO:-0500
TZNAME:EST
DTSTART:20261101T060000
END:STANDARD
END:VTIMEZONE
BEGIN:VEVENT
DTSTART;TZID=America/Indiana/Indianapolis:20250724T100000
DTEND;TZID=America/Indiana/Indianapolis:20250724T140000
DTSTAMP:20260423T070028
CREATED:20250318T205027Z
LAST-MODIFIED:20250612T123358Z
UID:10000881-1753351200-1753365600@hendrickscountyparks.org
SUMMARY:DAY CAMP: Water Warriors (Ages 6-10)
DESCRIPTION:Uncover the hidden world beneath the water’s surface. We’ll learn about ecosystems\, collect samples\, and observe creek life up close and then end the day with a super fun water slide! \nFOR AGES 6-10\nFEE: $25\nADVANCE REGISTRATION REQUIRED BY JUNE 1 AT: https://hcparks.recdesk.com/Community/Program/Detail?programId=902\nAPPROXIMATE PROGRAM DURATION: 4 HOURS \nThis is a drop off day camp\, will break for group snack at 12 pm
URL:https://hendrickscountyparks.org/event/day-camp-water-warriors-ages-6-10/
LOCATION:McCloud Nature Park\, 8518 Hughes Road\, North Salem\, IN\, 46165\, United States
CATEGORIES:Ages 7-12,All Programs,Day Camps,McCloud Nature Park
ATTACH;FMTTYPE=image/jpeg:https://hendrickscountyparks.org/wp-content/uploads/2025/03/467844214_980425924118934_3349761653779927188_n-1.jpg
END:VEVENT
END:VCALENDAR