BEGIN:VCALENDAR
VERSION:2.0
PRODID:-//Hendricks County Parks &amp; Recreation - ECPv6.15.20//NONSGML v1.0//EN
CALSCALE:GREGORIAN
METHOD:PUBLISH
X-ORIGINAL-URL:https://hendrickscountyparks.org
X-WR-CALDESC:Events for Hendricks County Parks &amp; Recreation
REFRESH-INTERVAL;VALUE=DURATION:PT1H
X-Robots-Tag:noindex
X-PUBLISHED-TTL:PT1H
BEGIN:VTIMEZONE
TZID:America/Indiana/Indianapolis
BEGIN:DAYLIGHT
TZOFFSETFROM:-0500
TZOFFSETTO:-0400
TZNAME:EDT
DTSTART:20240310T070000
END:DAYLIGHT
BEGIN:STANDARD
TZOFFSETFROM:-0400
TZOFFSETTO:-0500
TZNAME:EST
DTSTART:20241103T060000
END:STANDARD
BEGIN:DAYLIGHT
TZOFFSETFROM:-0500
TZOFFSETTO:-0400
TZNAME:EDT
DTSTART:20250309T070000
END:DAYLIGHT
BEGIN:STANDARD
TZOFFSETFROM:-0400
TZOFFSETTO:-0500
TZNAME:EST
DTSTART:20251102T060000
END:STANDARD
BEGIN:DAYLIGHT
TZOFFSETFROM:-0500
TZOFFSETTO:-0400
TZNAME:EDT
DTSTART:20260308T070000
END:DAYLIGHT
BEGIN:STANDARD
TZOFFSETFROM:-0400
TZOFFSETTO:-0500
TZNAME:EST
DTSTART:20261101T060000
END:STANDARD
END:VTIMEZONE
BEGIN:VEVENT
DTSTART;VALUE=DATE:20250906
DTEND;VALUE=DATE:20251101
DTSTAMP:20260421T161133
CREATED:20250814T191439Z
LAST-MODIFIED:20250915T193232Z
UID:10000966-1757116800-1761955199@hendrickscountyparks.org
SUMMARY:McCloud Prairie Maze
DESCRIPTION:Oh deer! We sure do have a good reason for you to come out to McCloud Nature Park during the months of September and October – our 2025 McCloud Prairie Maze celebrating deer! The maze is open daily from dawn to dusk from Sept. 6 to Oct. 31\, 2025. \nThe correct path through the maze is one (1) mile long. Be sure to explore the McCloud Prairie Maze by October 31! Bring the fawns\, too\, as this maze is appropriate for all ages. \nFor more information\, including a downloadable map\, visit: https://hendrickscountyparks.org/programs/mccloud-prairie-maze/ \nAPPROPRIATE FOR ALL AGES\nFREE TO ATTEND\nNO ADVANCE REGISTRATION REQUIRED
URL:https://hendrickscountyparks.org/event/mccloud-prairie-maze-4/
LOCATION:McCloud Nature Park\, 8518 Hughes Road\, North Salem\, IN\, 46165\, United States
CATEGORIES:All Programs,Hiking,Mammals,McCloud Nature Park,Wildlife
ATTACH;FMTTYPE=image/png:https://hendrickscountyparks.org/wp-content/uploads/2025/09/2025-Prairie-Maze.png
END:VEVENT
BEGIN:VEVENT
DTSTART;TZID=America/Indiana/Indianapolis:20250926T080000
DTEND;TZID=America/Indiana/Indianapolis:20250926T090000
DTSTAMP:20260421T161133
CREATED:20250813T194117Z
LAST-MODIFIED:20250813T194117Z
UID:10000936-1758873600-1758877200@hendrickscountyparks.org
SUMMARY:Run Club
DESCRIPTION:Come for the miles\, stay for the smiles! Running is better with friends—and a beautiful trail beneath your feet. Lace up and join us for Run Club\, a welcoming\, non-competitive group run through our local parks and nature trails. We’ll gather at 8 a.m. at the designated park or trailhead\, warm up together\, and hit the path for an hour-long journey that includes pre- and post-run stretching to keep your body happy and healthy. Whether you’re a seasoned runner or just starting out\, this program is open to all paces and experience levels. Come build endurance\, explore the outdoors\, and enjoy the camaraderie of a supportive running community. Wear running shoes\, appropriate clothing for the weather\, and bring snacks and water! \nAPPROPRIATE FOR ALL AGES\nFREE TO ATTEND\nNO ADVANCE REGISTRATION REQUIRED\nAPPROX. PROGRAM DURATION: 1 HOUR
URL:https://hendrickscountyparks.org/event/run-club-2/
LOCATION:Vandalia Trail – Coatesville Trailhead\, 7963 Main Street\, Coatesville\, IN\, 46121\, United States
CATEGORIES:All Programs,Vandalia Trail
ATTACH;FMTTYPE=image/png:https://hendrickscountyparks.org/wp-content/uploads/2025/08/Run-Club-scaled.png
END:VEVENT
BEGIN:VEVENT
DTSTART;TZID=America/Indiana/Indianapolis:20250926T093000
DTEND;TZID=America/Indiana/Indianapolis:20250926T103000
DTSTAMP:20260421T161133
CREATED:20250813T191025Z
LAST-MODIFIED:20250813T191025Z
UID:10000924-1758879000-1758882600@hendrickscountyparks.org
SUMMARY:Phenology Fridays
DESCRIPTION:This is your invitation to watch the seasons change in McCloud Nature Park! We will go on a guided hike to the same spot every week and document our observations: weather\, wildlife\, plants at different stages\, including the turning of leaves for autumn. Our goal is to guide participants to explore and understand the cyclical nature of the seasons in Hendricks County. Bring anything that would make your hike more enjoyable: binoculars\, camera\, notebook\, field guidebooks\, etc. This program will be held rain or shine (except for lightning)\, so be prepared! \nRECOMMENDED FOR AGES 8 THROUGH ADULT\nFREE TO ATTEND\nNO ADVANCE REGISTRATION REQUIRED\nAPPROX. PROGRAM DURATION: 1 HOUR
URL:https://hendrickscountyparks.org/event/phenology-fridays-4/
LOCATION:McCloud Nature Park\, 8518 Hughes Road\, North Salem\, IN\, 46165\, United States
CATEGORIES:All Programs,Hiking,McCloud Nature Park,Wildlife
ATTACH;FMTTYPE=image/png:https://hendrickscountyparks.org/wp-content/uploads/2025/08/Phenology-Fridays-scaled.png
END:VEVENT
END:VCALENDAR