BEGIN:VCALENDAR
VERSION:2.0
PRODID:-//Hendricks County Parks &amp; Recreation - ECPv6.15.20//NONSGML v1.0//EN
CALSCALE:GREGORIAN
METHOD:PUBLISH
X-ORIGINAL-URL:https://hendrickscountyparks.org
X-WR-CALDESC:Events for Hendricks County Parks &amp; Recreation
REFRESH-INTERVAL;VALUE=DURATION:PT1H
X-Robots-Tag:noindex
X-PUBLISHED-TTL:PT1H
BEGIN:VTIMEZONE
TZID:America/Indiana/Indianapolis
BEGIN:DAYLIGHT
TZOFFSETFROM:-0500
TZOFFSETTO:-0400
TZNAME:EDT
DTSTART:20240310T070000
END:DAYLIGHT
BEGIN:STANDARD
TZOFFSETFROM:-0400
TZOFFSETTO:-0500
TZNAME:EST
DTSTART:20241103T060000
END:STANDARD
BEGIN:DAYLIGHT
TZOFFSETFROM:-0500
TZOFFSETTO:-0400
TZNAME:EDT
DTSTART:20250309T070000
END:DAYLIGHT
BEGIN:STANDARD
TZOFFSETFROM:-0400
TZOFFSETTO:-0500
TZNAME:EST
DTSTART:20251102T060000
END:STANDARD
BEGIN:DAYLIGHT
TZOFFSETFROM:-0500
TZOFFSETTO:-0400
TZNAME:EDT
DTSTART:20260308T070000
END:DAYLIGHT
BEGIN:STANDARD
TZOFFSETFROM:-0400
TZOFFSETTO:-0500
TZNAME:EST
DTSTART:20261101T060000
END:STANDARD
END:VTIMEZONE
BEGIN:VEVENT
DTSTART;VALUE=DATE:20250906
DTEND;VALUE=DATE:20251101
DTSTAMP:20260421T112250
CREATED:20250814T191439Z
LAST-MODIFIED:20250915T193232Z
UID:10000966-1757116800-1761955199@hendrickscountyparks.org
SUMMARY:McCloud Prairie Maze
DESCRIPTION:Oh deer! We sure do have a good reason for you to come out to McCloud Nature Park during the months of September and October – our 2025 McCloud Prairie Maze celebrating deer! The maze is open daily from dawn to dusk from Sept. 6 to Oct. 31\, 2025. \nThe correct path through the maze is one (1) mile long. Be sure to explore the McCloud Prairie Maze by October 31! Bring the fawns\, too\, as this maze is appropriate for all ages. \nFor more information\, including a downloadable map\, visit: https://hendrickscountyparks.org/programs/mccloud-prairie-maze/ \nAPPROPRIATE FOR ALL AGES\nFREE TO ATTEND\nNO ADVANCE REGISTRATION REQUIRED
URL:https://hendrickscountyparks.org/event/mccloud-prairie-maze-4/
LOCATION:McCloud Nature Park\, 8518 Hughes Road\, North Salem\, IN\, 46165\, United States
CATEGORIES:All Programs,Hiking,Mammals,McCloud Nature Park,Wildlife
ATTACH;FMTTYPE=image/png:https://hendrickscountyparks.org/wp-content/uploads/2025/09/2025-Prairie-Maze.png
END:VEVENT
BEGIN:VEVENT
DTSTART;TZID=America/Indiana/Indianapolis:20251015T123000
DTEND;TZID=America/Indiana/Indianapolis:20251015T133000
DTSTAMP:20260421T112250
CREATED:20250814T190949Z
LAST-MODIFIED:20250814T190949Z
UID:10000965-1760531400-1760535000@hendrickscountyparks.org
SUMMARY:SENIOR CENTER: Not So Spooky: Opossums
DESCRIPTION:You hear a loud bump outside at night! Spooky! Now you start to hear hissing! Is it a vampire? Or a snake? Its…. an opossum!! Join our naturalist team on Oct. 15 at the Hendricks County Senior Center to learn about the only native North American marsupials. You may find these creatures are not as scary as they seem! \nRECOMMENDED FOR SENIORS\nFREE TO ATTEND\nNO ADVANCE REGISTRATION REQUIRED
URL:https://hendrickscountyparks.org/event/senior-center-not-so-spooky-opossums/
LOCATION:Hendricks County Senior Services\, 1201 Sycamore Lane\, Danville\, IN\, 46122\, United States
CATEGORIES:Adult Education,All Programs,Mammals,Seniors,Wildlife
ATTACH;FMTTYPE=image/png:https://hendrickscountyparks.org/wp-content/uploads/2025/08/opossum-and-babies-getty.png
END:VEVENT
BEGIN:VEVENT
DTSTART;TZID=America/Indiana/Indianapolis:20251015T130000
DTEND;TZID=America/Indiana/Indianapolis:20251015T150000
DTSTAMP:20260421T112250
CREATED:20250813T144439Z
LAST-MODIFIED:20250813T144439Z
UID:10000890-1760533200-1760540400@hendrickscountyparks.org
SUMMARY:Crafty Creations
DESCRIPTION:Unleash your creativity with our Crafty Creations! In each session\, we’ll explore a different craft project\, so there’s always something new and exciting to make. Every class offers a unique opportunity to learn new techniques and create something you’ll love\, from painting to paper crafts and more. Come join us for a fun and inspiring crafting experience. \nAPPROPRIATE FOR ALL AGES\nFREE TO ATTEND\nNO ADVANCE REGISTRATION REQUIRED\nAPPROXIMATE PROGRAM DURATION: 2 HOURS (ONGOING)
URL:https://hendrickscountyparks.org/event/crafty-creations-9/
LOCATION:McCloud Nature Park\, 8518 Hughes Road\, North Salem\, IN\, 46165\, United States
CATEGORIES:All Programs,McCloud Nature Park
ATTACH;FMTTYPE=image/png:https://hendrickscountyparks.org/wp-content/uploads/2025/08/Crafty-Creations-scaled.png
END:VEVENT
END:VCALENDAR