BEGIN:VCALENDAR
VERSION:2.0
PRODID:-//Hendricks County Parks &amp; Recreation - ECPv6.15.20//NONSGML v1.0//EN
CALSCALE:GREGORIAN
METHOD:PUBLISH
X-WR-CALNAME:Hendricks County Parks &amp; Recreation
X-ORIGINAL-URL:https://hendrickscountyparks.org
X-WR-CALDESC:Events for Hendricks County Parks &amp; Recreation
REFRESH-INTERVAL;VALUE=DURATION:PT1H
X-Robots-Tag:noindex
X-PUBLISHED-TTL:PT1H
BEGIN:VTIMEZONE
TZID:America/Indiana/Indianapolis
BEGIN:DAYLIGHT
TZOFFSETFROM:-0500
TZOFFSETTO:-0400
TZNAME:EDT
DTSTART:20250309T070000
END:DAYLIGHT
BEGIN:STANDARD
TZOFFSETFROM:-0400
TZOFFSETTO:-0500
TZNAME:EST
DTSTART:20251102T060000
END:STANDARD
BEGIN:DAYLIGHT
TZOFFSETFROM:-0500
TZOFFSETTO:-0400
TZNAME:EDT
DTSTART:20260308T070000
END:DAYLIGHT
BEGIN:STANDARD
TZOFFSETFROM:-0400
TZOFFSETTO:-0500
TZNAME:EST
DTSTART:20261101T060000
END:STANDARD
BEGIN:DAYLIGHT
TZOFFSETFROM:-0500
TZOFFSETTO:-0400
TZNAME:EDT
DTSTART:20270314T070000
END:DAYLIGHT
BEGIN:STANDARD
TZOFFSETFROM:-0400
TZOFFSETTO:-0500
TZNAME:EST
DTSTART:20271107T060000
END:STANDARD
END:VTIMEZONE
BEGIN:VEVENT
DTSTART;TZID=America/Indiana/Indianapolis:20260422T123000
DTEND;TZID=America/Indiana/Indianapolis:20260422T133000
DTSTAMP:20260422T015016
CREATED:20251212T200217Z
LAST-MODIFIED:20260420T190009Z
UID:10001026-1776861000-1776864600@hendrickscountyparks.org
SUMMARY:Senior Center: Getting Outdoors
DESCRIPTION:Celebrate Earth Day by discovering the joy of connecting with nature and exploring new outdoor hobbies! This presentation will highlight simple\, accessible ways to enjoy the outdoors-whether it’s gardening\, birdwatching\, nature walks\, or outdoor art. We will learn how these activities boost well-being\, build community\, and inspire appreciation for our planet. \nRECOMMENDED FOR SENIORS\nFREE TO ATTEND\nNO ADVANCE REGISTRATION REQUIRED\nAPPROXIMATE PROGRAM DURATION: 1 HOUR
URL:https://hendrickscountyparks.org/event/senior-center-getting-outdoors/
LOCATION:Hendricks County Senior Services\, 1201 Sycamore Lane\, Danville\, IN\, 46122\, United States
CATEGORIES:All Programs,Seniors
ATTACH;FMTTYPE=image/jpeg:https://hendrickscountyparks.org/wp-content/uploads/2026/04/5-Great-National-Park-Tours-for-Seniors-Hero.jpg
END:VEVENT
END:VCALENDAR