BEGIN:VCALENDAR
VERSION:2.0
PRODID:-//Hendricks County Parks &amp; Recreation - ECPv6.15.20//NONSGML v1.0//EN
CALSCALE:GREGORIAN
METHOD:PUBLISH
X-WR-CALNAME:Hendricks County Parks &amp; Recreation
X-ORIGINAL-URL:https://hendrickscountyparks.org
X-WR-CALDESC:Events for Hendricks County Parks &amp; Recreation
REFRESH-INTERVAL;VALUE=DURATION:PT1H
X-Robots-Tag:noindex
X-PUBLISHED-TTL:PT1H
BEGIN:VTIMEZONE
TZID:America/Indiana/Indianapolis
BEGIN:DAYLIGHT
TZOFFSETFROM:-0500
TZOFFSETTO:-0400
TZNAME:EDT
DTSTART:20250309T070000
END:DAYLIGHT
BEGIN:STANDARD
TZOFFSETFROM:-0400
TZOFFSETTO:-0500
TZNAME:EST
DTSTART:20251102T060000
END:STANDARD
BEGIN:DAYLIGHT
TZOFFSETFROM:-0500
TZOFFSETTO:-0400
TZNAME:EDT
DTSTART:20260308T070000
END:DAYLIGHT
BEGIN:STANDARD
TZOFFSETFROM:-0400
TZOFFSETTO:-0500
TZNAME:EST
DTSTART:20261101T060000
END:STANDARD
BEGIN:DAYLIGHT
TZOFFSETFROM:-0500
TZOFFSETTO:-0400
TZNAME:EDT
DTSTART:20270314T070000
END:DAYLIGHT
BEGIN:STANDARD
TZOFFSETFROM:-0400
TZOFFSETTO:-0500
TZNAME:EST
DTSTART:20271107T060000
END:STANDARD
END:VTIMEZONE
BEGIN:VEVENT
DTSTART;TZID=America/Indiana/Indianapolis:20260619T210000
DTEND;TZID=America/Indiana/Indianapolis:20260619T223000
DTSTAMP:20260419T194748
CREATED:20260416T182641Z
LAST-MODIFIED:20260416T192627Z
UID:10001096-1781902800-1781908200@hendrickscountyparks.org
SUMMARY:Night Hike at McCloud
DESCRIPTION:Join us for a night at one of our parks! You’ll get the rare chance to experience our trails in the evening with a naturalist to guide you. Each night hike\, we will be looking for what the woods have to offer: bats\, owls\, fireflies\, and more! This program will last about 1.5 hours and will trek easy to moderate trails. Our parks have a variety of paved\, gravel\, and grassy trails\, so come prepared! Small flashlights will be available for use\, but light usage will be minimized in order to get the best experience and to avoid disrupting wildlife. In the event of rain or severe weather\, the event will be canceled. \nAPPROPRIATE FOR ALL AGESFEE: $5/PERSONADVANCE REGISTRATION REQUIRED BY JUNE 17 AT: https://hcparks.recdesk.com/Community/Program/Detail?programId=993APPROXIMATE PROGRAM DURATION: 1.5 HOURS
URL:https://hendrickscountyparks.org/event/night-hike-at-mccloud/
LOCATION:McCloud Nature Park\, 8518 Hughes Road\, North Salem\, IN\, 46165\, United States
CATEGORIES:All Programs,Hiking,McCloud Nature Park
ATTACH;FMTTYPE=image/jpeg:https://hendrickscountyparks.org/wp-content/uploads/2026/03/night-hike-photo.jpg
END:VEVENT
END:VCALENDAR