BEGIN:VCALENDAR
VERSION:2.0
PRODID:-//Hendricks County Parks &amp; Recreation - ECPv6.15.20//NONSGML v1.0//EN
CALSCALE:GREGORIAN
METHOD:PUBLISH
X-WR-CALNAME:Hendricks County Parks &amp; Recreation
X-ORIGINAL-URL:https://hendrickscountyparks.org
X-WR-CALDESC:Events for Hendricks County Parks &amp; Recreation
REFRESH-INTERVAL;VALUE=DURATION:PT1H
X-Robots-Tag:noindex
X-PUBLISHED-TTL:PT1H
BEGIN:VTIMEZONE
TZID:America/Indiana/Indianapolis
BEGIN:DAYLIGHT
TZOFFSETFROM:-0500
TZOFFSETTO:-0400
TZNAME:EDT
DTSTART:20250309T070000
END:DAYLIGHT
BEGIN:STANDARD
TZOFFSETFROM:-0400
TZOFFSETTO:-0500
TZNAME:EST
DTSTART:20251102T060000
END:STANDARD
BEGIN:DAYLIGHT
TZOFFSETFROM:-0500
TZOFFSETTO:-0400
TZNAME:EDT
DTSTART:20260308T070000
END:DAYLIGHT
BEGIN:STANDARD
TZOFFSETFROM:-0400
TZOFFSETTO:-0500
TZNAME:EST
DTSTART:20261101T060000
END:STANDARD
BEGIN:DAYLIGHT
TZOFFSETFROM:-0500
TZOFFSETTO:-0400
TZNAME:EDT
DTSTART:20270314T070000
END:DAYLIGHT
BEGIN:STANDARD
TZOFFSETFROM:-0400
TZOFFSETTO:-0500
TZNAME:EST
DTSTART:20271107T060000
END:STANDARD
END:VTIMEZONE
BEGIN:VEVENT
DTSTART;TZID=America/Indiana/Indianapolis:20260825T130000
DTEND;TZID=America/Indiana/Indianapolis:20260825T140000
DTSTAMP:20260420T083417
CREATED:20260416T190002Z
LAST-MODIFIED:20260416T190002Z
UID:10001103-1787662800-1787666400@hendrickscountyparks.org
SUMMARY:Name That Skull!
DESCRIPTION:NAME – THAT – SKULLLL! Join our naturalist to unveil our mysterious animal skull collection. We’ll put our skulls on display and leave it up to you to figure out which skull belongs to each animal. At the end\, we will reveal the true names of the animal skulls and share info about their specialized features. \nAPPROPRIATE FOR ALL AGESFREE TO ATTENDNO ADVANCE REGISTRATION REQUIREDAPPROXIMATE PROGRAM DURATION: 1 HOUR
URL:https://hendrickscountyparks.org/event/name-that-skull/2026-08-25/
LOCATION:McCloud Nature Park\, 8518 Hughes Road\, North Salem\, IN\, 46165\, United States
CATEGORIES:All Programs,Mammals,McCloud Nature Park,Wildlife
ATTACH;FMTTYPE=image/jpeg:https://hendrickscountyparks.org/wp-content/uploads/2026/03/skull-cart-photo.jpg
END:VEVENT
BEGIN:VEVENT
DTSTART;TZID=America/Indiana/Indianapolis:20260826T133000
DTEND;TZID=America/Indiana/Indianapolis:20260826T150000
DTSTAMP:20260420T083417
CREATED:20260416T174223Z
LAST-MODIFIED:20260416T174223Z
UID:10001090-1787751000-1787756400@hendrickscountyparks.org
SUMMARY:Plant ID Hike
DESCRIPTION:Ever wondered\, “What is that plant\, flower or tree?” Our Plant ID Hike is just the activity for you! Our naturalists will lead you on a guided hike and point out plants of interest on the way. Though we will not cover every plant we see\, we will try to discuss different plants each hike! We will also share historical uses of the plants\, if any. Feel free to bring any supplies on your hike to make your experience better. We hope to see you there! \nRECOMMENDED FOR AGES 8 AND UPFEE $3/PERSONADVANCE REGISTRATION REQUIRED BY AUG. 25 AT: https://hcparks.recdesk.com/Community/Program/Detail?programId=1002APPROXIMATE PROGRAM DURATION: 1.5 HOURS
URL:https://hendrickscountyparks.org/event/plant-id-hike-2/
LOCATION:McCloud Nature Park\, 8518 Hughes Road\, North Salem\, IN\, 46165\, United States
CATEGORIES:All Programs,Hiking,McCloud Nature Park,Plants and Trees
ATTACH;FMTTYPE=image/jpeg:https://hendrickscountyparks.org/wp-content/uploads/2026/03/plant-hike-photo.jpg
END:VEVENT
BEGIN:VEVENT
DTSTART;TZID=America/Indiana/Indianapolis:20260827T140000
DTEND;TZID=America/Indiana/Indianapolis:20260827T150000
DTSTAMP:20260420T083417
CREATED:20260416T171505Z
LAST-MODIFIED:20260416T171505Z
UID:10001077-1787839200-1787842800@hendrickscountyparks.org
SUMMARY:Critter Feeding!
DESCRIPTION:Meet all of our ambassador animals for a late lunch while we talk about what and how they eat! \nAPPROPRIATE FOR ALL AGESFEE: $2/PERSONADVANCE REGISTRATION REQUIREDAPPROXIMATE PROGRAM DURATION: 1 HOUR \nRegistration Links \n\nMay 14: https://hcparks.recdesk.com/Community/Program/Detail?programId=1017\nMay 21: https://hcparks.recdesk.com/Community/Program/Detail?programId=1018\nMay 28: https://hcparks.recdesk.com/Community/Program/Detail?programId=1019\nJune 4: https://hcparks.recdesk.com/Community/Program/Detail?programId=1020\nJune 11: https://hcparks.recdesk.com/Community/Program/Detail?programId=1021\nJune 18: https://hcparks.recdesk.com/Community/Program/Detail?programId=1022\nJune 25: https://hcparks.recdesk.com/Community/Program/Detail?programId=1023\nJuly 2: https://hcparks.recdesk.com/Community/Program/Detail?programId=1024\nJuly 9: https://hcparks.recdesk.com/Community/Program/Detail?programId=1025\nJuly 16: https://hcparks.recdesk.com/Community/Program/Detail?programId=1026\nJuly 23: https://hcparks.recdesk.com/Community/Program/Detail?programId=1027\nJuly 30: https://hcparks.recdesk.com/Community/Program/Detail?programId=1029\nAug. 6: https://hcparks.recdesk.com/Community/Program/Detail?programId=1030\nAug. 13: https://hcparks.recdesk.com/Community/Program/Detail?programId=1031\nAug. 20: https://hcparks.recdesk.com/Community/Program/Detail?programId=1032\nAug. 27: https://hcparks.recdesk.com/Community/Program/Detail?programId=1033
URL:https://hendrickscountyparks.org/event/critter-feeding/2026-08-27/
LOCATION:McCloud Nature Park\, 8518 Hughes Road\, North Salem\, IN\, 46165\, United States
CATEGORIES:All Programs,Amphibians,Insects,McCloud Nature Park,Reptiles,Wildlife
ATTACH;FMTTYPE=image/jpeg:https://hendrickscountyparks.org/wp-content/uploads/2026/03/critter-feeding-photo.jpg
END:VEVENT
BEGIN:VEVENT
DTSTART;TZID=America/Indiana/Indianapolis:20260919T200000
DTEND;TZID=America/Indiana/Indianapolis:20260919T220000
DTSTAMP:20260420T083417
CREATED:20260416T173609Z
LAST-MODIFIED:20260416T173634Z
UID:10001087-1789848000-1789855200@hendrickscountyparks.org
SUMMARY:Astronomy
DESCRIPTION:Looking for a fun and educational family activity this summer that’s FREE? \nTake stargazing to new heights by escaping the light pollution of the city and heading to McCloud Nature Park\, where thousands of stars twinkle like jewels in the dark night sky! \nThe Indiana Astronomical Society partners with Park Naturalists to hold sky seminars and viewings at McCloud on the Saturday nights listed below. These programs\, led by expert sky watchers\, are geared for the novice astronomer. \nTelescopes large and small will be set up for your use. Each evening will begin with a brief informational session (“sky seminar”) in the Nature Center where you will learn which planets and constellations will be visible that night. These seminars last about 30 minutes and are best suited for ages 8 and older. Outdoor sky-viewing will begin following the seminars. \nIMPORTANT NOTE: Sky seminars will take place rain or shine\, but sky viewings are dependent upon clear skies. If poor weather is forecast or any severe weather advisories are issued\, the sky-viewing portion of the program will be canceled. \nAll Astronomy programs are held on Saturdays at McCloud Nature Park. They are FREE to attend\, appropriate for all ages\, and no advance registration is required. Each program is approximately 2 hours in duration. \nPlease be advised that the park closes at 11 p.m. on Astronomy nights. \n2026 Program Schedule\n\nSaturday\, May 23 at 9 p.m.\nSaturday\, June 20 at 9 p.m.\nSaturday\, July 11 at 9 p.m.\nSaturday\, Aug. 8 at 9 p.m.\nSaturday\, Sept. 19 at 8 p.m.\nSaturday\, Oct. 3 at 7:30 p.m.\n\n(Cover photo by Jonathan Grober)
URL:https://hendrickscountyparks.org/event/astronomy-17/2026-09-19/
LOCATION:McCloud Nature Park\, 8518 Hughes Road\, North Salem\, IN\, 46165\, United States
CATEGORIES:All Programs,Astronomy,McCloud Nature Park
ATTACH;FMTTYPE=image/jpeg:https://hendrickscountyparks.org/wp-content/uploads/2026/04/Astronomy-CREDIT-JONATHAN-GROBER-scaled.jpg
END:VEVENT
BEGIN:VEVENT
DTSTART;TZID=America/Indiana/Indianapolis:20261003T193000
DTEND;TZID=America/Indiana/Indianapolis:20261003T213000
DTSTAMP:20260420T083417
CREATED:20260416T173609Z
LAST-MODIFIED:20260416T173634Z
UID:10001088-1791055800-1791063000@hendrickscountyparks.org
SUMMARY:Astronomy
DESCRIPTION:Looking for a fun and educational family activity this summer that’s FREE? \nTake stargazing to new heights by escaping the light pollution of the city and heading to McCloud Nature Park\, where thousands of stars twinkle like jewels in the dark night sky! \nThe Indiana Astronomical Society partners with Park Naturalists to hold sky seminars and viewings at McCloud on the Saturday nights listed below. These programs\, led by expert sky watchers\, are geared for the novice astronomer. \nTelescopes large and small will be set up for your use. Each evening will begin with a brief informational session (“sky seminar”) in the Nature Center where you will learn which planets and constellations will be visible that night. These seminars last about 30 minutes and are best suited for ages 8 and older. Outdoor sky-viewing will begin following the seminars. \nIMPORTANT NOTE: Sky seminars will take place rain or shine\, but sky viewings are dependent upon clear skies. If poor weather is forecast or any severe weather advisories are issued\, the sky-viewing portion of the program will be canceled. \nAll Astronomy programs are held on Saturdays at McCloud Nature Park. They are FREE to attend\, appropriate for all ages\, and no advance registration is required. Each program is approximately 2 hours in duration. \nPlease be advised that the park closes at 11 p.m. on Astronomy nights. \n2026 Program Schedule\n\nSaturday\, May 23 at 9 p.m.\nSaturday\, June 20 at 9 p.m.\nSaturday\, July 11 at 9 p.m.\nSaturday\, Aug. 8 at 9 p.m.\nSaturday\, Sept. 19 at 8 p.m.\nSaturday\, Oct. 3 at 7:30 p.m.\n\n(Cover photo by Jonathan Grober)
URL:https://hendrickscountyparks.org/event/astronomy-17/2026-10-03/
LOCATION:McCloud Nature Park\, 8518 Hughes Road\, North Salem\, IN\, 46165\, United States
CATEGORIES:All Programs,Astronomy,McCloud Nature Park
ATTACH;FMTTYPE=image/jpeg:https://hendrickscountyparks.org/wp-content/uploads/2026/04/Astronomy-CREDIT-JONATHAN-GROBER-scaled.jpg
END:VEVENT
END:VCALENDAR