BEGIN:VCALENDAR
VERSION:2.0
PRODID:-//Hendricks County Parks &amp; Recreation - ECPv6.15.20//NONSGML v1.0//EN
CALSCALE:GREGORIAN
METHOD:PUBLISH
X-ORIGINAL-URL:https://hendrickscountyparks.org
X-WR-CALDESC:Events for Hendricks County Parks &amp; Recreation
REFRESH-INTERVAL;VALUE=DURATION:PT1H
X-Robots-Tag:noindex
X-PUBLISHED-TTL:PT1H
BEGIN:VTIMEZONE
TZID:America/Indiana/Indianapolis
BEGIN:DAYLIGHT
TZOFFSETFROM:-0500
TZOFFSETTO:-0400
TZNAME:EDT
DTSTART:20250309T070000
END:DAYLIGHT
BEGIN:STANDARD
TZOFFSETFROM:-0400
TZOFFSETTO:-0500
TZNAME:EST
DTSTART:20251102T060000
END:STANDARD
BEGIN:DAYLIGHT
TZOFFSETFROM:-0500
TZOFFSETTO:-0400
TZNAME:EDT
DTSTART:20260308T070000
END:DAYLIGHT
BEGIN:STANDARD
TZOFFSETFROM:-0400
TZOFFSETTO:-0500
TZNAME:EST
DTSTART:20261101T060000
END:STANDARD
BEGIN:DAYLIGHT
TZOFFSETFROM:-0500
TZOFFSETTO:-0400
TZNAME:EDT
DTSTART:20270314T070000
END:DAYLIGHT
BEGIN:STANDARD
TZOFFSETFROM:-0400
TZOFFSETTO:-0500
TZNAME:EST
DTSTART:20271107T060000
END:STANDARD
END:VTIMEZONE
BEGIN:VEVENT
DTSTART;TZID=America/Indiana/Indianapolis:20260211T100000
DTEND;TZID=America/Indiana/Indianapolis:20260211T110000
DTSTAMP:20260419T212852
CREATED:20251212T182035Z
LAST-MODIFIED:20251212T182957Z
UID:10001019-1770804000-1770807600@hendrickscountyparks.org
SUMMARY:Tadpole Time: Let it Snow!
DESCRIPTION:Come learn about snow and make your very own paper snowflakes to take home! We’ll read a winter story\, then craft and decorate snowflakes. If we have real snow\, we can go out and play in it! \nRECOMMENDED FOR AGES 2-7 WITH PARENT OR GUARDIAN (THIS IS NOT A DROP-OFF PROGRAM).\nOLDER SIBLINGS\, AGES 6-7\, ARE WELCOME TO REGISTER AND PARTICIPATE\, TOO.\nFEE: $5/CHILD (PARENT/GUARDIAN IS FREE).\nADVANCE REGISTRATION REQUIRED BY FEB. 4 AT: https://hcparks.recdesk.com/Community/Program/Detail?programId=968\nAPPROXIMATE PROGRAM DURATION: 1 HOUR.
URL:https://hendrickscountyparks.org/event/tadpole-time-let-it-snow/
LOCATION:McCloud Nature Park\, 8518 Hughes Road\, North Salem\, IN\, 46165\, United States
CATEGORIES:All Programs,McCloud Nature Park,Tadpole Time,Weather
ATTACH;FMTTYPE=image/jpeg:https://hendrickscountyparks.org/wp-content/uploads/2017/01/snowy-trees.jpg
END:VEVENT
BEGIN:VEVENT
DTSTART;TZID=America/Indiana/Indianapolis:20260212T130000
DTEND;TZID=America/Indiana/Indianapolis:20260212T140000
DTSTAMP:20260419T212852
CREATED:20251204T144137Z
LAST-MODIFIED:20251204T144137Z
UID:10000996-1770901200-1770904800@hendrickscountyparks.org
SUMMARY:Naturalist's Choice
DESCRIPTION:Join us for the Naturalist’s Choice program\, where every session is a surprise adventure led by our naturalist team! Depending on the weather\, season\, and local wildlife activity\, you’ll explore a unique and engaging topic tailored to the day’s conditions. Be ready for anything and wear closed-toed shoes that you don’t mind getting wet or dirty for your safety and comfort. The naturalists will decide the topic of the week and announce it in the nature center and on our social media. Don’t miss out on this ever-changing exploration of the natural world! \nAPPROPRIATE FOR ALL AGES\nFREE TO ATTEND\nNO ADVANCE REGISTRATION REQUIRED\nAPPROX. PROGRAM DURATION: 1 HOUR
URL:https://hendrickscountyparks.org/event/naturalists-choice-19/
LOCATION:McCloud Nature Park\, 8518 Hughes Road\, North Salem\, IN\, 46165\, United States
CATEGORIES:All Programs,McCloud Nature Park
ATTACH;FMTTYPE=image/jpeg:https://hendrickscountyparks.org/wp-content/uploads/2025/12/Naturalists-Choice.jpg
END:VEVENT
BEGIN:VEVENT
DTSTART;TZID=America/Indiana/Indianapolis:20260213T100000
DTEND;TZID=America/Indiana/Indianapolis:20260213T110000
DTSTAMP:20260419T212852
CREATED:20251201T131247Z
LAST-MODIFIED:20251201T131337Z
UID:10000988-1770976800-1770980400@hendrickscountyparks.org
SUMMARY:Phenology Hike
DESCRIPTION:This is your invitation to watch the seasons change in McCloud Nature Park! We will go on a guided hike to the same spot every week and document our observations: weather\, wildlife\, plants at different stages\, including the reemergence of leaves in the spring. Our goal is to guide participants to explore and understand the cyclical nature of the seasons in Hendricks County. Bring anything that would make your hike more enjoyable: binoculars\, camera\, notebook\, field guidebooks\, etc. This program will be held rain or shine (except for severe weather)\, so be prepared! \nRECOMMENDED FOR AGES 8 THROUGH ADULT\nFREE TO ATTEND\nNO ADVANCE REGISTRATION REQUIRED\nAPPROX. PROGRAM DURATION: 1 HOUR
URL:https://hendrickscountyparks.org/event/phenology-hike-3/
LOCATION:McCloud Nature Park\, 8518 Hughes Road\, North Salem\, IN\, 46165\, United States
CATEGORIES:All Programs,Hiking,McCloud Nature Park
ATTACH;FMTTYPE=image/png:https://hendrickscountyparks.org/wp-content/uploads/2025/12/Phenology-Hikes.png
END:VEVENT
END:VCALENDAR