BEGIN:VCALENDAR
VERSION:2.0
PRODID:-//Hendricks County Parks &amp; Recreation - ECPv6.15.20//NONSGML v1.0//EN
CALSCALE:GREGORIAN
METHOD:PUBLISH
X-ORIGINAL-URL:https://hendrickscountyparks.org
X-WR-CALDESC:Events for Hendricks County Parks &amp; Recreation
REFRESH-INTERVAL;VALUE=DURATION:PT1H
X-Robots-Tag:noindex
X-PUBLISHED-TTL:PT1H
BEGIN:VTIMEZONE
TZID:America/Indiana/Indianapolis
BEGIN:DAYLIGHT
TZOFFSETFROM:-0500
TZOFFSETTO:-0400
TZNAME:EDT
DTSTART:20250309T070000
END:DAYLIGHT
BEGIN:STANDARD
TZOFFSETFROM:-0400
TZOFFSETTO:-0500
TZNAME:EST
DTSTART:20251102T060000
END:STANDARD
BEGIN:DAYLIGHT
TZOFFSETFROM:-0500
TZOFFSETTO:-0400
TZNAME:EDT
DTSTART:20260308T070000
END:DAYLIGHT
BEGIN:STANDARD
TZOFFSETFROM:-0400
TZOFFSETTO:-0500
TZNAME:EST
DTSTART:20261101T060000
END:STANDARD
BEGIN:DAYLIGHT
TZOFFSETFROM:-0500
TZOFFSETTO:-0400
TZNAME:EDT
DTSTART:20270314T070000
END:DAYLIGHT
BEGIN:STANDARD
TZOFFSETFROM:-0400
TZOFFSETTO:-0500
TZNAME:EST
DTSTART:20271107T060000
END:STANDARD
END:VTIMEZONE
BEGIN:VEVENT
DTSTART;TZID=America/Indiana/Indianapolis:20260318T100000
DTEND;TZID=America/Indiana/Indianapolis:20260318T110000
DTSTAMP:20260419T213056
CREATED:20251212T182807Z
LAST-MODIFIED:20251212T183146Z
UID:10001020-1773828000-1773831600@hendrickscountyparks.org
SUMMARY:Tadpole Time: Feathered Friends
DESCRIPTION:Discover the joy of learning about birds and creating adorable feeders for our feathered friends! We’ll enjoy a lovely book about birds and have fun playing a game too. Then\, we’ll get hands-on by using toilet paper tubes\, vegetable shortening\, and seeds to craft our very own bird feeders. And the best part? You\nget to take your special feeder home and watch the birds enjoy it at your house! \nRECOMMENDED FOR AGES 2-7 WITH PARENT OR GUARDIAN (THIS IS NOT A DROP-OFF PROGRAM).\nOLDER SIBLINGS\, AGES 6-7\, ARE WELCOME TO REGISTER AND PARTICIPATE\, TOO.\nFEE: $5/CHILD (PARENT/GUARDIAN IS FREE).\nADVANCE REGISTRATION REQUIRED BY MARCH 11 AT: https://hcparks.recdesk.com/Community/Program/Detail?programId=972\nAPPROXIMATE PROGRAM DURATION: 1 HOUR.
URL:https://hendrickscountyparks.org/event/tadpole-time-feathered-friends/
LOCATION:McCloud Nature Park\, 8518 Hughes Road\, North Salem\, IN\, 46165\, United States
CATEGORIES:All Programs,Birds,McCloud Nature Park,Tadpole Time,Wildlife
ATTACH;FMTTYPE=image/jpeg:https://hendrickscountyparks.org/wp-content/uploads/2024/04/Birds-scaled.jpg
END:VEVENT
BEGIN:VEVENT
DTSTART;TZID=America/Indiana/Indianapolis:20260318T130000
DTEND;TZID=America/Indiana/Indianapolis:20260318T150000
DTSTAMP:20260419T213056
CREATED:20251201T122009Z
LAST-MODIFIED:20251201T122009Z
UID:10000973-1773838800-1773846000@hendrickscountyparks.org
SUMMARY:Crafty Creations
DESCRIPTION:Unleash your creativity with our Crafty Creations! In each session\, we’ll explore a different craft project\, so there’s always something new and exciting to make. Every class offers a unique opportunity to learn new techniques and create something you’ll love\, from painting to paper crafts and more. Come join us for a fun and inspiring crafting experience. \nAPPROPRIATE FOR ALL AGES\nFREE TO ATTEND\nNO ADVANCE REGISTRATION REQUIRED\nAPPROXIMATE PROGRAM DURATION: 2 HOURS (ONGOING)
URL:https://hendrickscountyparks.org/event/crafty-creations-23/
LOCATION:McCloud Nature Park\, 8518 Hughes Road\, North Salem\, IN\, 46165\, United States
CATEGORIES:All Programs,McCloud Nature Park
ATTACH;FMTTYPE=image/png:https://hendrickscountyparks.org/wp-content/uploads/2025/12/Crafty-Creations.png
END:VEVENT
BEGIN:VEVENT
DTSTART;TZID=America/Indiana/Indianapolis:20260319T130000
DTEND;TZID=America/Indiana/Indianapolis:20260319T150000
DTSTAMP:20260419T213056
CREATED:20251201T123729Z
LAST-MODIFIED:20251201T123729Z
UID:10000982-1773925200-1773932400@hendrickscountyparks.org
SUMMARY:Nature Hike
DESCRIPTION:Come on out for a guided nature hike through the beautiful trails of McCloud Nature Park! This moderate hike is perfect for nature lovers of all ages and experience levels. Trail terrain varies between gravel\, grass\, and paved. Bring water\, dress for the weather\, and enjoy this peaceful adventure in the great outdoors! \nRECOMMENDED FOR AGES 8 THROUGH ADULT\nFREE TO ATTEND\nNO ADVANCE REGISTRATION REQUIRED\nAPPROX. PROGRAM DURATION: 2 HRS
URL:https://hendrickscountyparks.org/event/nature-hike-6/
LOCATION:McCloud Nature Park\, 8518 Hughes Road\, North Salem\, IN\, 46165\, United States
CATEGORIES:All Programs,Hiking,McCloud Nature Park
ATTACH;FMTTYPE=image/png:https://hendrickscountyparks.org/wp-content/uploads/2025/12/Nature-Hikes.png
END:VEVENT
BEGIN:VEVENT
DTSTART;TZID=America/Indiana/Indianapolis:20260320T100000
DTEND;TZID=America/Indiana/Indianapolis:20260320T113000
DTSTAMP:20260419T213056
CREATED:20251212T180301Z
LAST-MODIFIED:20251212T180950Z
UID:10001017-1774000800-1774006200@hendrickscountyparks.org
SUMMARY:Homeschool Ecology Series: Amphibian Outing
DESCRIPTION:As temperatures start to get slightly warmer\, we see the resurgence of one of our favorite critters\, amphibians! Join us for a hands-on program seeing if we can find any of our frogs or salamanders. Make sure to bundle up! \nRECOMMENDED FOR AGES 7-17 WITH PARENT OR GUARDIAN\nFEE: $10/CHILD (PARENT/GUARDIAN IS FREE)\nADVANCE REGISTRATION REQUIRED BY MARCH 13 AT: https://hcparks.recdesk.com/Community/Program/Detail?programId=973\nAPPROXIMATE PROGRAM DURATION: 90 MINUTES
URL:https://hendrickscountyparks.org/event/homeschool-ecology-series-amphibian-outing/
LOCATION:McCloud Nature Park\, 8518 Hughes Road\, North Salem\, IN\, 46165\, United States
CATEGORIES:All Programs,Amphibians,McCloud Nature Park,Wildlife
ATTACH;FMTTYPE=image/jpeg:https://hendrickscountyparks.org/wp-content/uploads/2018/03/Frog-Calls-Night-Hike-CREDIT-SILVIA-SCHNEIROV.jpg
END:VEVENT
BEGIN:VEVENT
DTSTART;TZID=America/Indiana/Indianapolis:20260320T130000
DTEND;TZID=America/Indiana/Indianapolis:20260320T150000
DTSTAMP:20260419T213056
CREATED:20251204T145612Z
LAST-MODIFIED:20260205T175312Z
UID:10001003-1774011600-1774018800@hendrickscountyparks.org
SUMMARY:Board Game Blitz
DESCRIPTION:Want to bring out your inner gamer? Join us at McCloud for an afternoon of board games and cards! Whether you’re a master of games or just like to have fun\, you’re sure to find something that fits your interests. Have a game you love to play? Bring it and show off your skills! Snacks provided. \nAPPROPRIATE FOR ALL AGES\nFREE TO ATTEND\nNO ADVANCE REGISTRATION REQUIRED\nAPPROX. PROGRAM DURATION: 2 HOURS (ONGOING)
URL:https://hendrickscountyparks.org/event/board-game-blitz-8/
LOCATION:McCloud Nature Park\, 8518 Hughes Road\, North Salem\, IN\, 46165\, United States
CATEGORIES:All Programs,Games,McCloud Nature Park
ATTACH;FMTTYPE=image/png:https://hendrickscountyparks.org/wp-content/uploads/2025/12/Board-Game-Blitz.png
END:VEVENT
END:VCALENDAR