BEGIN:VCALENDAR
VERSION:2.0
PRODID:-//Hendricks County Parks &amp; Recreation - ECPv6.15.20//NONSGML v1.0//EN
CALSCALE:GREGORIAN
METHOD:PUBLISH
X-WR-CALNAME:Hendricks County Parks &amp; Recreation
X-ORIGINAL-URL:https://hendrickscountyparks.org
X-WR-CALDESC:Events for Hendricks County Parks &amp; Recreation
REFRESH-INTERVAL;VALUE=DURATION:PT1H
X-Robots-Tag:noindex
X-PUBLISHED-TTL:PT1H
BEGIN:VTIMEZONE
TZID:America/Indiana/Indianapolis
BEGIN:DAYLIGHT
TZOFFSETFROM:-0500
TZOFFSETTO:-0400
TZNAME:EDT
DTSTART:20250309T070000
END:DAYLIGHT
BEGIN:STANDARD
TZOFFSETFROM:-0400
TZOFFSETTO:-0500
TZNAME:EST
DTSTART:20251102T060000
END:STANDARD
BEGIN:DAYLIGHT
TZOFFSETFROM:-0500
TZOFFSETTO:-0400
TZNAME:EDT
DTSTART:20260308T070000
END:DAYLIGHT
BEGIN:STANDARD
TZOFFSETFROM:-0400
TZOFFSETTO:-0500
TZNAME:EST
DTSTART:20261101T060000
END:STANDARD
BEGIN:DAYLIGHT
TZOFFSETFROM:-0500
TZOFFSETTO:-0400
TZNAME:EDT
DTSTART:20270314T070000
END:DAYLIGHT
BEGIN:STANDARD
TZOFFSETFROM:-0400
TZOFFSETTO:-0500
TZNAME:EST
DTSTART:20271107T060000
END:STANDARD
END:VTIMEZONE
BEGIN:VEVENT
DTSTART;TZID=America/Indiana/Indianapolis:20260609T130000
DTEND;TZID=America/Indiana/Indianapolis:20260609T140000
DTSTAMP:20260419T211620
CREATED:20260416T164259Z
LAST-MODIFIED:20260416T164259Z
UID:10001059-1781010000-1781013600@hendrickscountyparks.org
SUMMARY:Yap with a Naturalist!
DESCRIPTION:Tired of Googling every question you might have while outdoors or sitting and wondering “What’s this bird?” Come out to McCloud Nature Park for our naturalist’s yap hour\, where we will try our best to answer any burning questions you may have about the natural world or advice on how to get a good mix of birds coming to your feeders. You bring the questions; we’ll provide the answers and refreshments.\n\nAPPROPRIATE FOR ALL AGES\nFREE TO ATTENDNO ADVANCE REGISTRATION REQUIREDAPPROXIMATE PROGRAM DURATION: 1 HOUR (ONGOING)
URL:https://hendrickscountyparks.org/event/yap-with-a-naturalist/2026-06-09/
LOCATION:McCloud Nature Park\, 8518 Hughes Road\, North Salem\, IN\, 46165\, United States
CATEGORIES:All Programs,McCloud Nature Park
ATTACH;FMTTYPE=image/jpeg:https://hendrickscountyparks.org/wp-content/uploads/2026/03/Yap-with-a-naturalist-scaled.jpg
END:VEVENT
BEGIN:VEVENT
DTSTART;TZID=America/Indiana/Indianapolis:20260611T140000
DTEND;TZID=America/Indiana/Indianapolis:20260611T150000
DTSTAMP:20260419T211621
CREATED:20260416T171505Z
LAST-MODIFIED:20260416T171505Z
UID:10001066-1781186400-1781190000@hendrickscountyparks.org
SUMMARY:Critter Feeding!
DESCRIPTION:Meet all of our ambassador animals for a late lunch while we talk about what and how they eat! \nAPPROPRIATE FOR ALL AGESFEE: $2/PERSONADVANCE REGISTRATION REQUIREDAPPROXIMATE PROGRAM DURATION: 1 HOUR \nRegistration Links \n\nMay 14: https://hcparks.recdesk.com/Community/Program/Detail?programId=1017\nMay 21: https://hcparks.recdesk.com/Community/Program/Detail?programId=1018\nMay 28: https://hcparks.recdesk.com/Community/Program/Detail?programId=1019\nJune 4: https://hcparks.recdesk.com/Community/Program/Detail?programId=1020\nJune 11: https://hcparks.recdesk.com/Community/Program/Detail?programId=1021\nJune 18: https://hcparks.recdesk.com/Community/Program/Detail?programId=1022\nJune 25: https://hcparks.recdesk.com/Community/Program/Detail?programId=1023\nJuly 2: https://hcparks.recdesk.com/Community/Program/Detail?programId=1024\nJuly 9: https://hcparks.recdesk.com/Community/Program/Detail?programId=1025\nJuly 16: https://hcparks.recdesk.com/Community/Program/Detail?programId=1026\nJuly 23: https://hcparks.recdesk.com/Community/Program/Detail?programId=1027\nJuly 30: https://hcparks.recdesk.com/Community/Program/Detail?programId=1029\nAug. 6: https://hcparks.recdesk.com/Community/Program/Detail?programId=1030\nAug. 13: https://hcparks.recdesk.com/Community/Program/Detail?programId=1031\nAug. 20: https://hcparks.recdesk.com/Community/Program/Detail?programId=1032\nAug. 27: https://hcparks.recdesk.com/Community/Program/Detail?programId=1033
URL:https://hendrickscountyparks.org/event/critter-feeding/2026-06-11/
LOCATION:McCloud Nature Park\, 8518 Hughes Road\, North Salem\, IN\, 46165\, United States
CATEGORIES:All Programs,Amphibians,Insects,McCloud Nature Park,Reptiles,Wildlife
ATTACH;FMTTYPE=image/jpeg:https://hendrickscountyparks.org/wp-content/uploads/2026/03/critter-feeding-photo.jpg
END:VEVENT
END:VCALENDAR