BEGIN:VCALENDAR
VERSION:2.0
PRODID:-//Hendricks County Parks &amp; Recreation - ECPv6.15.20//NONSGML v1.0//EN
CALSCALE:GREGORIAN
METHOD:PUBLISH
X-WR-CALNAME:Hendricks County Parks &amp; Recreation
X-ORIGINAL-URL:https://hendrickscountyparks.org
X-WR-CALDESC:Events for Hendricks County Parks &amp; Recreation
REFRESH-INTERVAL;VALUE=DURATION:PT1H
X-Robots-Tag:noindex
X-PUBLISHED-TTL:PT1H
BEGIN:VTIMEZONE
TZID:America/Indiana/Indianapolis
BEGIN:DAYLIGHT
TZOFFSETFROM:-0500
TZOFFSETTO:-0400
TZNAME:EDT
DTSTART:20250309T070000
END:DAYLIGHT
BEGIN:STANDARD
TZOFFSETFROM:-0400
TZOFFSETTO:-0500
TZNAME:EST
DTSTART:20251102T060000
END:STANDARD
BEGIN:DAYLIGHT
TZOFFSETFROM:-0500
TZOFFSETTO:-0400
TZNAME:EDT
DTSTART:20260308T070000
END:DAYLIGHT
BEGIN:STANDARD
TZOFFSETFROM:-0400
TZOFFSETTO:-0500
TZNAME:EST
DTSTART:20261101T060000
END:STANDARD
BEGIN:DAYLIGHT
TZOFFSETFROM:-0500
TZOFFSETTO:-0400
TZNAME:EDT
DTSTART:20270314T070000
END:DAYLIGHT
BEGIN:STANDARD
TZOFFSETFROM:-0400
TZOFFSETTO:-0500
TZNAME:EST
DTSTART:20271107T060000
END:STANDARD
END:VTIMEZONE
BEGIN:VEVENT
DTSTART;TZID=America/Indiana/Indianapolis:20260623T130000
DTEND;TZID=America/Indiana/Indianapolis:20260623T140000
DTSTAMP:20260419T211803
CREATED:20260416T190002Z
LAST-MODIFIED:20260416T190002Z
UID:10001101-1782219600-1782223200@hendrickscountyparks.org
SUMMARY:Name That Skull!
DESCRIPTION:NAME – THAT – SKULLLL! Join our naturalist to unveil our mysterious animal skull collection. We’ll put our skulls on display and leave it up to you to figure out which skull belongs to each animal. At the end\, we will reveal the true names of the animal skulls and share info about their specialized features. \nAPPROPRIATE FOR ALL AGESFREE TO ATTENDNO ADVANCE REGISTRATION REQUIREDAPPROXIMATE PROGRAM DURATION: 1 HOUR
URL:https://hendrickscountyparks.org/event/name-that-skull/2026-06-23/
LOCATION:McCloud Nature Park\, 8518 Hughes Road\, North Salem\, IN\, 46165\, United States
CATEGORIES:All Programs,Mammals,McCloud Nature Park,Wildlife
ATTACH;FMTTYPE=image/jpeg:https://hendrickscountyparks.org/wp-content/uploads/2026/03/skull-cart-photo.jpg
END:VEVENT
BEGIN:VEVENT
DTSTART;TZID=America/Indiana/Indianapolis:20260624T103000
DTEND;TZID=America/Indiana/Indianapolis:20260624T123000
DTSTAMP:20260419T211803
CREATED:20260417T190249Z
LAST-MODIFIED:20260417T190435Z
UID:10001121-1782297000-1782304200@hendrickscountyparks.org
SUMMARY:NATURE DAY CAMP (AGES 2-6): Exploring Nature
DESCRIPTION:Join us for a day of nature filled fun! There is so much to explore and discover in the outdoors at McCloud Nature Park! We’ll start the day meeting the critters in the nature center\, then we will set off on a hike around the park. Our naturalist’s will guide campers on activities\, such as games and nature journaling. \nFOR AGES 2-7 WITH A PARENT OR GUARDIAN\nFEE: $15/CAMPER & PARENT/GUARDIAN\nADVANCE REGISTRATION REQUIRED BY JUNE 17 AT: https://hcparks.recdesk.com/Community/Program/Detail?programId=981\nAPPROXIMATE PROGRAM DURATION: 2 HOURS
URL:https://hendrickscountyparks.org/event/nature-day-camp-exploring-nature/
LOCATION:McCloud Nature Park\, 8518 Hughes Road\, North Salem\, IN\, 46165\, United States
CATEGORIES:Ages 2-6,All Programs,Day Camps,Hiking,McCloud Nature Park
ATTACH;FMTTYPE=image/png:https://hendrickscountyparks.org/wp-content/uploads/2026/04/Exploring-Nature.png
END:VEVENT
BEGIN:VEVENT
DTSTART;TZID=America/Indiana/Indianapolis:20260625T140000
DTEND;TZID=America/Indiana/Indianapolis:20260625T150000
DTSTAMP:20260419T211803
CREATED:20260416T171505Z
LAST-MODIFIED:20260416T171505Z
UID:10001068-1782396000-1782399600@hendrickscountyparks.org
SUMMARY:Critter Feeding!
DESCRIPTION:Meet all of our ambassador animals for a late lunch while we talk about what and how they eat! \nAPPROPRIATE FOR ALL AGESFEE: $2/PERSONADVANCE REGISTRATION REQUIREDAPPROXIMATE PROGRAM DURATION: 1 HOUR \nRegistration Links \n\nMay 14: https://hcparks.recdesk.com/Community/Program/Detail?programId=1017\nMay 21: https://hcparks.recdesk.com/Community/Program/Detail?programId=1018\nMay 28: https://hcparks.recdesk.com/Community/Program/Detail?programId=1019\nJune 4: https://hcparks.recdesk.com/Community/Program/Detail?programId=1020\nJune 11: https://hcparks.recdesk.com/Community/Program/Detail?programId=1021\nJune 18: https://hcparks.recdesk.com/Community/Program/Detail?programId=1022\nJune 25: https://hcparks.recdesk.com/Community/Program/Detail?programId=1023\nJuly 2: https://hcparks.recdesk.com/Community/Program/Detail?programId=1024\nJuly 9: https://hcparks.recdesk.com/Community/Program/Detail?programId=1025\nJuly 16: https://hcparks.recdesk.com/Community/Program/Detail?programId=1026\nJuly 23: https://hcparks.recdesk.com/Community/Program/Detail?programId=1027\nJuly 30: https://hcparks.recdesk.com/Community/Program/Detail?programId=1029\nAug. 6: https://hcparks.recdesk.com/Community/Program/Detail?programId=1030\nAug. 13: https://hcparks.recdesk.com/Community/Program/Detail?programId=1031\nAug. 20: https://hcparks.recdesk.com/Community/Program/Detail?programId=1032\nAug. 27: https://hcparks.recdesk.com/Community/Program/Detail?programId=1033
URL:https://hendrickscountyparks.org/event/critter-feeding/2026-06-25/
LOCATION:McCloud Nature Park\, 8518 Hughes Road\, North Salem\, IN\, 46165\, United States
CATEGORIES:All Programs,Amphibians,Insects,McCloud Nature Park,Reptiles,Wildlife
ATTACH;FMTTYPE=image/jpeg:https://hendrickscountyparks.org/wp-content/uploads/2026/03/critter-feeding-photo.jpg
END:VEVENT
BEGIN:VEVENT
DTSTART;TZID=America/Indiana/Indianapolis:20260626T103000
DTEND;TZID=America/Indiana/Indianapolis:20260626T143000
DTSTAMP:20260419T211803
CREATED:20260417T190602Z
LAST-MODIFIED:20260417T192912Z
UID:10001122-1782469800-1782484200@hendrickscountyparks.org
SUMMARY:NATURE DAY CAMP (AGES 7-12): Exploring Nature
DESCRIPTION:Join us for a day of nature filled fun! There is so much to explore and discover in the outdoors at McCloud Nature Park! We’ll start the day meeting the critters in the nature center\, then we will set off on a hike around the park. Our naturalist’s will guide campers on activities\, such as games and nature journaling. \nFOR AGES 7-12\nFEE: $30/CAMPER \nADVANCE REGISTRATION REQUIRED BY JUNE 19 AT: https://hcparks.recdesk.com/Community/Program/Detail?programId=982\nAPPROXIMATE PROGRAM DURATION: 4 HOURS
URL:https://hendrickscountyparks.org/event/nature-day-camp-ages-7-12-exploring-nature/
LOCATION:McCloud Nature Park\, 8518 Hughes Road\, North Salem\, IN\, 46165\, United States
CATEGORIES:Ages 7-12,All Programs,Day Camps,Hiking,McCloud Nature Park,Tweens
ATTACH;FMTTYPE=image/png:https://hendrickscountyparks.org/wp-content/uploads/2026/04/Exploring-Nature.png
END:VEVENT
END:VCALENDAR