BEGIN:VCALENDAR
VERSION:2.0
PRODID:-//Hendricks County Parks &amp; Recreation - ECPv6.15.20//NONSGML v1.0//EN
CALSCALE:GREGORIAN
METHOD:PUBLISH
X-WR-CALNAME:Hendricks County Parks &amp; Recreation
X-ORIGINAL-URL:https://hendrickscountyparks.org
X-WR-CALDESC:Events for Hendricks County Parks &amp; Recreation
REFRESH-INTERVAL;VALUE=DURATION:PT1H
X-Robots-Tag:noindex
X-PUBLISHED-TTL:PT1H
BEGIN:VTIMEZONE
TZID:America/Indiana/Indianapolis
BEGIN:DAYLIGHT
TZOFFSETFROM:-0500
TZOFFSETTO:-0400
TZNAME:EDT
DTSTART:20240310T070000
END:DAYLIGHT
BEGIN:STANDARD
TZOFFSETFROM:-0400
TZOFFSETTO:-0500
TZNAME:EST
DTSTART:20241103T060000
END:STANDARD
BEGIN:DAYLIGHT
TZOFFSETFROM:-0500
TZOFFSETTO:-0400
TZNAME:EDT
DTSTART:20250309T070000
END:DAYLIGHT
BEGIN:STANDARD
TZOFFSETFROM:-0400
TZOFFSETTO:-0500
TZNAME:EST
DTSTART:20251102T060000
END:STANDARD
BEGIN:DAYLIGHT
TZOFFSETFROM:-0500
TZOFFSETTO:-0400
TZNAME:EDT
DTSTART:20260308T070000
END:DAYLIGHT
BEGIN:STANDARD
TZOFFSETFROM:-0400
TZOFFSETTO:-0500
TZNAME:EST
DTSTART:20261101T060000
END:STANDARD
END:VTIMEZONE
BEGIN:VEVENT
DTSTART;TZID=America/Indiana/Indianapolis:20250208T110000
DTEND;TZID=America/Indiana/Indianapolis:20250208T130000
DTSTAMP:20260424T022528
CREATED:20241122T140012Z
LAST-MODIFIED:20241122T140012Z
UID:10000790-1739012400-1739019600@hendrickscountyparks.org
SUMMARY:There's Something About Sprouts!
DESCRIPTION:Have you ever wondered how to “start” plants? Curious about which plants should be in Indiana and which plants shouldn’t? Come on over to McCloud Nature Park and start the conversation about native sprouts! We will talk about which plants are native and which are invasive\, and we’ll clue you in on when and where you should start the seedlings. You can also put your knowledge into practice and take home a few starts of your own! \nRECOMMENDED FOR AGES 8 THROUGH ADULT \nFREE TO ATTEND \nNO ADVANCE REGISTRATION REQUIRED \nAPPROXIMATE PROGRAM DURATION: 2 HOURS
URL:https://hendrickscountyparks.org/event/theres-something-about-sprouts/
LOCATION:McCloud Nature Park\, 8518 Hughes Road\, North Salem\, IN\, 46165\, United States
CATEGORIES:All Programs,McCloud Nature Park,Plants and Trees
ATTACH;FMTTYPE=image/png:https://hendrickscountyparks.org/wp-content/uploads/2024/11/Theres-Something-About-Sprouts.png
END:VEVENT
BEGIN:VEVENT
DTSTART;TZID=America/Indiana/Indianapolis:20250228T100000
DTEND;TZID=America/Indiana/Indianapolis:20250228T120000
DTSTAMP:20260424T022528
CREATED:20241127T193906Z
LAST-MODIFIED:20241127T193906Z
UID:10000803-1740736800-1740744000@hendrickscountyparks.org
SUMMARY:Homeschool Ecology: Winter Tree Workshop
DESCRIPTION:Curious about identifying trees in winter? Join our workshop to learn the secrets of buds\, bark\, and other clues that help identify leafless trees. Embrace the challenge and start your journey in becoming a winter tree ID expert! \nRECOMMENDED FOR AGES 6-11 WITH PARENT OR GUARDIAN. SIBLINGS ARE WELCOME TO PARTICIPATE\, TOO. \nFEE: $10/CHILD (PARENT/GUARDIAN IS FREE). \nADVANCE REGISTRATION REQUIRED BY FEB. 21 AT: https://hcparks.recdesk.com/Community/Program/Detail?programId=911 \nAPPROXIMATE PROGRAM DURATION: 2 HOURS.
URL:https://hendrickscountyparks.org/event/homeschool-ecology-winter-tree-workshop/
LOCATION:McCloud Nature Park\, 8518 Hughes Road\, North Salem\, IN\, 46165\, United States
CATEGORIES:All Programs,McCloud Nature Park,Plants and Trees
ATTACH;FMTTYPE=image/png:https://hendrickscountyparks.org/wp-content/uploads/2024/11/Winter-Spring-2025-graphics-6.png
END:VEVENT
END:VCALENDAR