BEGIN:VCALENDAR
VERSION:2.0
PRODID:-//Hendricks County Parks &amp; Recreation - ECPv6.15.20//NONSGML v1.0//EN
CALSCALE:GREGORIAN
METHOD:PUBLISH
X-WR-CALNAME:Hendricks County Parks &amp; Recreation
X-ORIGINAL-URL:https://hendrickscountyparks.org
X-WR-CALDESC:Events for Hendricks County Parks &amp; Recreation
REFRESH-INTERVAL;VALUE=DURATION:PT1H
X-Robots-Tag:noindex
X-PUBLISHED-TTL:PT1H
BEGIN:VTIMEZONE
TZID:America/Indiana/Indianapolis
BEGIN:DAYLIGHT
TZOFFSETFROM:-0500
TZOFFSETTO:-0400
TZNAME:EDT
DTSTART:20250309T070000
END:DAYLIGHT
BEGIN:STANDARD
TZOFFSETFROM:-0400
TZOFFSETTO:-0500
TZNAME:EST
DTSTART:20251102T060000
END:STANDARD
BEGIN:DAYLIGHT
TZOFFSETFROM:-0500
TZOFFSETTO:-0400
TZNAME:EDT
DTSTART:20260308T070000
END:DAYLIGHT
BEGIN:STANDARD
TZOFFSETFROM:-0400
TZOFFSETTO:-0500
TZNAME:EST
DTSTART:20261101T060000
END:STANDARD
BEGIN:DAYLIGHT
TZOFFSETFROM:-0500
TZOFFSETTO:-0400
TZNAME:EDT
DTSTART:20270314T070000
END:DAYLIGHT
BEGIN:STANDARD
TZOFFSETFROM:-0400
TZOFFSETTO:-0500
TZNAME:EST
DTSTART:20271107T060000
END:STANDARD
END:VTIMEZONE
BEGIN:VEVENT
DTSTART;TZID=America/Indiana/Indianapolis:20260307T130000
DTEND;TZID=America/Indiana/Indianapolis:20260307T143000
DTSTAMP:20260423T184350
CREATED:20251212T152503Z
LAST-MODIFIED:20251215T190600Z
UID:10001014-1772888400-1772893800@hendrickscountyparks.org
SUMMARY:Seedling Workshop: Seed Sowing
DESCRIPTION:This 3-part series will explore the fascinating process of seed germination\, seasonal planting and gardening (including recipes and harvest calendars)\, and will culminate in the planting of a variety of seasonal seedlings into planters made from recyclable materials to jumpstart your successful fruit and veggie planning this Spring! Join us in the Ray & Mary Benson Nature Center at McCloud for any or all of these engaging and educational weekends!  \nLet the planting begin! Recyclable materials and seeds will be provided\, but attendees are invited to bring materials such as egg cartons\, cans\, or plastic bottles to use for planter construction. \nRECOMMENDED FOR AGES 10 AND OLDER\, BUT ALL AGES ARE WELCOME\nFEE: $5/PERSON\nADVANCE REGISTRATION REQUIRED BY FEB. 28 AT: https://hcparks.recdesk.com/Community/Program/Detail?programId=971\nAPPROXIMATE PROGRAM DURATION: 90 MINUTES
URL:https://hendrickscountyparks.org/event/seedling-workshop-seed-sowing/
LOCATION:McCloud Nature Park\, 8518 Hughes Road\, North Salem\, IN\, 46165\, United States
CATEGORIES:All Programs,McCloud Nature Park,Plants and Trees
ATTACH;FMTTYPE=image/png:https://hendrickscountyparks.org/wp-content/uploads/2025/12/Seedling-Workshops.png
END:VEVENT
BEGIN:VEVENT
DTSTART;TZID=America/Indiana/Indianapolis:20260314T100000
DTEND;TZID=America/Indiana/Indianapolis:20260314T150000
DTSTAMP:20260423T184350
CREATED:20251204T153420Z
LAST-MODIFIED:20251204T161805Z
UID:10001007-1773482400-1773500400@hendrickscountyparks.org
SUMMARY:Maple Syrup Days
DESCRIPTION:It’s syrup season! McCloud Nature Park is full of sugar maple trees\, which produce sap with a high sugar content. Once the daytime temperatures start rising\, the sap starts flowing\, and is ready to be collected. Come on out to McCloud Nature Park in March and join us in discovering the rich deliciousness of maple sugaring at our 16th Annual McCloud Maple Syrup Days! Bring the whole family because Maple Syrup Days are FREE to attend! This event is held entirely outdoors\, so be sure to dress for the weather. Learn how to tap a tree\, stop by our nature center to enjoy a pancake breakfast (8 a.m.- 2 p.m.) and buy syrup from Harris Sugar Bush to take home with you. See you there! \nAPPROPRIATE FOR ALL AGES\nFREE TO ATTEND\nNO ADVANCE REGISTRATION REQUIRED\nAPPROX. PROGRAM DURATION: 5 HOURS (ONGOING) \nWould you like to volunteer some time during Maple Syrup Days? It’s all outdoors\, so dress for the weather! There’s a free pancake breakfast in it for you! Thank you! We appreciate you very much! \nClick here to sign up to volunteer!
URL:https://hendrickscountyparks.org/event/maple-syrup-days-8/
LOCATION:McCloud Nature Park\, 8518 Hughes Road\, North Salem\, IN\, 46165\, United States
CATEGORIES:All Programs,Festivals,McCloud Nature Park,Plants and Trees
ATTACH;FMTTYPE=image/jpeg:https://hendrickscountyparks.org/wp-content/uploads/2025/12/Maple-Syrup-Days-CREDIT-DEB-STUKENBORG.jpg
END:VEVENT
END:VCALENDAR