BEGIN:VCALENDAR
VERSION:2.0
PRODID:-//Hendricks County Parks &amp; Recreation - ECPv6.15.20//NONSGML v1.0//EN
CALSCALE:GREGORIAN
METHOD:PUBLISH
X-ORIGINAL-URL:https://hendrickscountyparks.org
X-WR-CALDESC:Events for Hendricks County Parks &amp; Recreation
REFRESH-INTERVAL;VALUE=DURATION:PT1H
X-Robots-Tag:noindex
X-PUBLISHED-TTL:PT1H
BEGIN:VTIMEZONE
TZID:America/Indiana/Indianapolis
BEGIN:DAYLIGHT
TZOFFSETFROM:-0500
TZOFFSETTO:-0400
TZNAME:EDT
DTSTART:20240310T070000
END:DAYLIGHT
BEGIN:STANDARD
TZOFFSETFROM:-0400
TZOFFSETTO:-0500
TZNAME:EST
DTSTART:20241103T060000
END:STANDARD
BEGIN:DAYLIGHT
TZOFFSETFROM:-0500
TZOFFSETTO:-0400
TZNAME:EDT
DTSTART:20250309T070000
END:DAYLIGHT
BEGIN:STANDARD
TZOFFSETFROM:-0400
TZOFFSETTO:-0500
TZNAME:EST
DTSTART:20251102T060000
END:STANDARD
BEGIN:DAYLIGHT
TZOFFSETFROM:-0500
TZOFFSETTO:-0400
TZNAME:EDT
DTSTART:20260308T070000
END:DAYLIGHT
BEGIN:STANDARD
TZOFFSETFROM:-0400
TZOFFSETTO:-0500
TZNAME:EST
DTSTART:20261101T060000
END:STANDARD
END:VTIMEZONE
BEGIN:VEVENT
DTSTART;TZID=America/Indiana/Indianapolis:20250917T123000
DTEND;TZID=America/Indiana/Indianapolis:20250917T133000
DTSTAMP:20260424T002049
CREATED:20250814T190734Z
LAST-MODIFIED:20250814T190734Z
UID:10000964-1758112200-1758115800@hendrickscountyparks.org
SUMMARY:SENIOR CENTER: Invasive Plants Chat
DESCRIPTION:Curious about all the talk concerning invasive plants? Join us Sept. 17 at the Hendricks County Senior Center! We will discuss the negative impacts invasive plants have on our native species and ways to prevent them; all while playing a game of Bingo! \nRECOMMENDED FOR SENIORS\nFREE TO ATTEND\nNO ADVANCE REGISTRATION REQUIRED
URL:https://hendrickscountyparks.org/event/senior-center-invasive-plants-chat/
LOCATION:Hendricks County Senior Services\, 1201 Sycamore Lane\, Danville\, IN\, 46122\, United States
CATEGORIES:Adult Education,All Programs,Plants and Trees,Seniors
ATTACH;FMTTYPE=image/jpeg:https://hendrickscountyparks.org/wp-content/uploads/2025/08/Bush-honeysuckle_overview.jpg
END:VEVENT
END:VCALENDAR