BEGIN:VCALENDAR
VERSION:2.0
PRODID:-//Hendricks County Parks &amp; Recreation - ECPv6.15.20//NONSGML v1.0//EN
CALSCALE:GREGORIAN
METHOD:PUBLISH
X-ORIGINAL-URL:https://hendrickscountyparks.org
X-WR-CALDESC:Events for Hendricks County Parks &amp; Recreation
REFRESH-INTERVAL;VALUE=DURATION:PT1H
X-Robots-Tag:noindex
X-PUBLISHED-TTL:PT1H
BEGIN:VTIMEZONE
TZID:America/Indiana/Indianapolis
BEGIN:DAYLIGHT
TZOFFSETFROM:-0500
TZOFFSETTO:-0400
TZNAME:EDT
DTSTART:20250309T070000
END:DAYLIGHT
BEGIN:STANDARD
TZOFFSETFROM:-0400
TZOFFSETTO:-0500
TZNAME:EST
DTSTART:20251102T060000
END:STANDARD
BEGIN:DAYLIGHT
TZOFFSETFROM:-0500
TZOFFSETTO:-0400
TZNAME:EDT
DTSTART:20260308T070000
END:DAYLIGHT
BEGIN:STANDARD
TZOFFSETFROM:-0400
TZOFFSETTO:-0500
TZNAME:EST
DTSTART:20261101T060000
END:STANDARD
BEGIN:DAYLIGHT
TZOFFSETFROM:-0500
TZOFFSETTO:-0400
TZNAME:EDT
DTSTART:20270314T070000
END:DAYLIGHT
BEGIN:STANDARD
TZOFFSETFROM:-0400
TZOFFSETTO:-0500
TZNAME:EST
DTSTART:20271107T060000
END:STANDARD
END:VTIMEZONE
BEGIN:VEVENT
DTSTART;TZID=America/Indiana/Indianapolis:20260218T123000
DTEND;TZID=America/Indiana/Indianapolis:20260218T133000
DTSTAMP:20260423T172057
CREATED:20251212T195822Z
LAST-MODIFIED:20251212T195822Z
UID:10001024-1771417800-1771421400@hendrickscountyparks.org
SUMMARY:Senior Center: The Story of Maple Syrup
DESCRIPTION:Curious about how maple syrup goes from forest to flapjacks? Come along for a journey through the rich history and time-honored traditions of maple sugaring. You’ll learn how to identify maple trees\, explore the sap collection process\, and discover how that clear liquid transforms into golden syrup through boiling. Walk with us through each step—and leave with a newfound appreciation for every sweet drop. \nRECOMMENDED FOR SENIORS\nFREE TO ATTEND\nNO ADVANCE REGISTRATION REQUIRED\nAPPROXIMATE PROGRAM DURATION: 1 HOUR
URL:https://hendrickscountyparks.org/event/senior-center-the-story-of-maple-syrup/
LOCATION:Hendricks County Senior Services\, 1201 Sycamore Lane\, Danville\, IN\, 46122\, United States
CATEGORIES:All Programs,Plants and Trees,Seniors
ATTACH;FMTTYPE=image/jpeg:https://hendrickscountyparks.org/wp-content/uploads/2024/11/Maple-Syrup-Days.jpeg
END:VEVENT
END:VCALENDAR