BEGIN:VCALENDAR
VERSION:2.0
PRODID:-//Hendricks County Parks &amp; Recreation - ECPv6.15.20//NONSGML v1.0//EN
CALSCALE:GREGORIAN
METHOD:PUBLISH
X-WR-CALNAME:Hendricks County Parks &amp; Recreation
X-ORIGINAL-URL:https://hendrickscountyparks.org
X-WR-CALDESC:Events for Hendricks County Parks &amp; Recreation
REFRESH-INTERVAL;VALUE=DURATION:PT1H
X-Robots-Tag:noindex
X-PUBLISHED-TTL:PT1H
BEGIN:VTIMEZONE
TZID:America/Indiana/Indianapolis
BEGIN:DAYLIGHT
TZOFFSETFROM:-0500
TZOFFSETTO:-0400
TZNAME:EDT
DTSTART:20250309T070000
END:DAYLIGHT
BEGIN:STANDARD
TZOFFSETFROM:-0400
TZOFFSETTO:-0500
TZNAME:EST
DTSTART:20251102T060000
END:STANDARD
BEGIN:DAYLIGHT
TZOFFSETFROM:-0500
TZOFFSETTO:-0400
TZNAME:EDT
DTSTART:20260308T070000
END:DAYLIGHT
BEGIN:STANDARD
TZOFFSETFROM:-0400
TZOFFSETTO:-0500
TZNAME:EST
DTSTART:20261101T060000
END:STANDARD
BEGIN:DAYLIGHT
TZOFFSETFROM:-0500
TZOFFSETTO:-0400
TZNAME:EDT
DTSTART:20270314T070000
END:DAYLIGHT
BEGIN:STANDARD
TZOFFSETFROM:-0400
TZOFFSETTO:-0500
TZNAME:EST
DTSTART:20271107T060000
END:STANDARD
END:VTIMEZONE
BEGIN:VEVENT
DTSTART;TZID=America/Indiana/Indianapolis:20260624T163000
DTEND;TZID=America/Indiana/Indianapolis:20260624T183000
DTSTAMP:20260419T095406
CREATED:20260416T184124Z
LAST-MODIFIED:20260416T184507Z
UID:10001099-1782318600-1782325800@hendrickscountyparks.org
SUMMARY:Summer Fun Run
DESCRIPTION:The Parks Foundation of Hendricks County’s Summer Fun Run Series is back for 2026! Enjoy an untimed stroll or run with family and friends at the Amo trailhead of the Vandalia Trail at your convenience anytime between June 24 and June 29. We will offer a short and a long course to run or walk on the paved trail\, which is ideal for wheelchairs\, standard strollers\, bicycles\, scooters\, and roller blades/skates. On June 24 between 4:30 and 6:30 p.m.\, we’ll have staff on-site with ice cold water for you to cool down with when you’re done if you’d like to complete your run or walk at that time.\n\nAPPROPRIATE FOR ALL AGES\nVISIT https://runsignup.com/Race/IN/Danville/ParksFoundationofHendricksCountySummerFunRunSeries FOR REGISTRATION INFORMATION\nAPPROXIMATE PROGRAM DURATION: 2 HOURS (ONGOING)\n\n(Photo by Parks Foundation of Hendricks County)
URL:https://hendrickscountyparks.org/event/summer-fun-run-13/
LOCATION:Vandalia Trail – Amo Trailhead\, 5042 South Street\, Amo\, IN\, 46103\, United States
CATEGORIES:All Programs,Summer Fun Run Series,Vandalia Trail
ATTACH;FMTTYPE=image/jpeg:https://hendrickscountyparks.org/wp-content/uploads/2026/03/VT-Summer-Fun-Run-CREDIT-PFOHC.jpg
ORGANIZER;CN="Parks Foundation of Hendricks County":MAILTO:katy@pfohc.org
END:VEVENT
END:VCALENDAR