BEGIN:VCALENDAR
VERSION:2.0
PRODID:-//Hendricks County Parks &amp; Recreation - ECPv6.15.20//NONSGML v1.0//EN
CALSCALE:GREGORIAN
METHOD:PUBLISH
X-WR-CALNAME:Hendricks County Parks &amp; Recreation
X-ORIGINAL-URL:https://hendrickscountyparks.org
X-WR-CALDESC:Events for Hendricks County Parks &amp; Recreation
REFRESH-INTERVAL;VALUE=DURATION:PT1H
X-Robots-Tag:noindex
X-PUBLISHED-TTL:PT1H
BEGIN:VTIMEZONE
TZID:America/Indiana/Indianapolis
BEGIN:DAYLIGHT
TZOFFSETFROM:-0500
TZOFFSETTO:-0400
TZNAME:EDT
DTSTART:20250309T070000
END:DAYLIGHT
BEGIN:STANDARD
TZOFFSETFROM:-0400
TZOFFSETTO:-0500
TZNAME:EST
DTSTART:20251102T060000
END:STANDARD
BEGIN:DAYLIGHT
TZOFFSETFROM:-0500
TZOFFSETTO:-0400
TZNAME:EDT
DTSTART:20260308T070000
END:DAYLIGHT
BEGIN:STANDARD
TZOFFSETFROM:-0400
TZOFFSETTO:-0500
TZNAME:EST
DTSTART:20261101T060000
END:STANDARD
BEGIN:DAYLIGHT
TZOFFSETFROM:-0500
TZOFFSETTO:-0400
TZNAME:EDT
DTSTART:20270314T070000
END:DAYLIGHT
BEGIN:STANDARD
TZOFFSETFROM:-0400
TZOFFSETTO:-0500
TZNAME:EST
DTSTART:20271107T060000
END:STANDARD
END:VTIMEZONE
BEGIN:VEVENT
DTSTART;TZID=America/Indiana/Indianapolis:20260519T100000
DTEND;TZID=America/Indiana/Indianapolis:20260519T110000
DTSTAMP:20260419T135451
CREATED:20260417T195507Z
LAST-MODIFIED:20260417T195507Z
UID:10001127-1779184800-1779188400@hendrickscountyparks.org
SUMMARY:TADPOLE TIME: Salamander Safari!
DESCRIPTION:Hey there\, fellow nature lovers! If you’re excited about amphibians and reptiles\, let’s team up and explore the wonders of W.S. Gibbs Memorial Park together. Don’t forget to wear clothes that can get wet or muddy — it’s all part of the adventure! Can’t wait to see what we discover! \nFOR AGES 2-7 WITH A PARENT OR GUARDIAN\nFEE: $5/CHILD\nADVANCE REGISTRATION REQUIRED BY MAY 15 AT: https://hcparks.recdesk.com/Community/Program/Detail?programId=1009\nAPPROXIMATE PROGRAM DURATION: 1 HOUR
URL:https://hendrickscountyparks.org/event/tadpole-time-salamander-safari/
LOCATION:W.S. Gibbs Memorial Park\, 4521 Gibbs Road\, Danville\, IN\, 46122\, United States
CATEGORIES:All Programs,Amphibians,Reptiles,Tadpole Time,W.S. Gibbs Memorial Park,Wildlife
ATTACH;FMTTYPE=image/jpeg:https://hendrickscountyparks.org/wp-content/uploads/2026/04/669554350_1375697361258453_8625220996152390995_n.jpg
END:VEVENT
END:VCALENDAR