BEGIN:VCALENDAR
VERSION:2.0
PRODID:-//Hendricks County Parks &amp; Recreation - ECPv6.15.20//NONSGML v1.0//EN
CALSCALE:GREGORIAN
METHOD:PUBLISH
X-WR-CALNAME:Hendricks County Parks &amp; Recreation
X-ORIGINAL-URL:https://hendrickscountyparks.org
X-WR-CALDESC:Events for Hendricks County Parks &amp; Recreation
REFRESH-INTERVAL;VALUE=DURATION:PT1H
X-Robots-Tag:noindex
X-PUBLISHED-TTL:PT1H
BEGIN:VTIMEZONE
TZID:America/Indiana/Indianapolis
BEGIN:DAYLIGHT
TZOFFSETFROM:-0500
TZOFFSETTO:-0400
TZNAME:EDT
DTSTART:20250309T070000
END:DAYLIGHT
BEGIN:STANDARD
TZOFFSETFROM:-0400
TZOFFSETTO:-0500
TZNAME:EST
DTSTART:20251102T060000
END:STANDARD
BEGIN:DAYLIGHT
TZOFFSETFROM:-0500
TZOFFSETTO:-0400
TZNAME:EDT
DTSTART:20260308T070000
END:DAYLIGHT
BEGIN:STANDARD
TZOFFSETFROM:-0400
TZOFFSETTO:-0500
TZNAME:EST
DTSTART:20261101T060000
END:STANDARD
BEGIN:DAYLIGHT
TZOFFSETFROM:-0500
TZOFFSETTO:-0400
TZNAME:EDT
DTSTART:20270314T070000
END:DAYLIGHT
BEGIN:STANDARD
TZOFFSETFROM:-0400
TZOFFSETTO:-0500
TZNAME:EST
DTSTART:20271107T060000
END:STANDARD
END:VTIMEZONE
BEGIN:VEVENT
DTSTART;TZID=America/Indiana/Indianapolis:20260714T100000
DTEND;TZID=America/Indiana/Indianapolis:20260714T110000
DTSTAMP:20260419T182841
CREATED:20260417T195850Z
LAST-MODIFIED:20260417T195850Z
UID:10001129-1784023200-1784026800@hendrickscountyparks.org
SUMMARY:TADPOLE TIME: Natural Dyes!
DESCRIPTION:Come join us for a fun and creative time as we explore how to make natural dyes from things you can find right in your backyard! Plus you’ll get to dye a piece of fabric to take home and cherish! \nFOR AGES 2-7 WITH A PARENT OR GUARDIAN\nFEE: $5/CHILD\nADVANCE REGISTRATION REQUIRED BY JULY 10 AT: https://hcparks.recdesk.com/Community/Program/Detail?programId=1011\nAPPROXIMATE PROGRAM DURATION: 1 HOUR
URL:https://hendrickscountyparks.org/event/tadpole-time-natural-dyes/
LOCATION:W.S. Gibbs Memorial Park\, 4521 Gibbs Road\, Danville\, IN\, 46122\, United States
CATEGORIES:All Programs,Crafts,Plants and Trees,Reptiles,Tadpole Time,W.S. Gibbs Memorial Park
ATTACH;FMTTYPE=image/jpeg:https://hendrickscountyparks.org/wp-content/uploads/2026/04/Natural-Dye-Workshop.jpg
END:VEVENT
BEGIN:VEVENT
DTSTART;TZID=America/Indiana/Indianapolis:20260717T190000
DTEND;TZID=America/Indiana/Indianapolis:20260717T200000
DTSTAMP:20260419T182841
CREATED:20260416T155715Z
LAST-MODIFIED:20260416T160118Z
UID:10001047-1784314800-1784318400@hendrickscountyparks.org
SUMMARY:Yoga in the Park - All Ages
DESCRIPTION:Join Balance & Breath Yoga & Wellness Center this summer for FREE Yoga in the Park programs!\nGrab a beach towel or yoga mat\, some water\, and join us at the Bluegill Shelter at W.S. Gibbs Memorial Park! Our beginner-friendly series of classes are great for meeting those in the community and enjoying gentle movement outdoors in a beautiful park!\n\nThree different programs available:\n\nFamily Yoga (families of all ages)\, Saturdays at 9 a.m.\, (1-hour session)\nKids Yoga (ages 5-10)\, Tuesdays at 10 a.m.\, (1-hour session)\nYoga in the Park (all ages)\, Fridays at 7 p.m.\, (1-hour session)\n\nFREE to attend\nNo Advance Registration Required
URL:https://hendrickscountyparks.org/event/yoga-in-the-park-all-ages-5/2026-07-17/
LOCATION:W.S. Gibbs Memorial Park\, 4521 Gibbs Road\, Danville\, IN\, 46122\, United States
CATEGORIES:All Programs,W.S. Gibbs Memorial Park
ATTACH;FMTTYPE=image/jpeg:https://hendrickscountyparks.org/wp-content/uploads/2026/04/Yoga-in-the-Park-1-scaled.jpg
ORGANIZER;CN="Balance & Breath Yoga and Wellness Center":MAILTO:hello@balanceandbreathyoga.com
END:VEVENT
BEGIN:VEVENT
DTSTART;TZID=America/Indiana/Indianapolis:20260725T090000
DTEND;TZID=America/Indiana/Indianapolis:20260725T100000
DTSTAMP:20260419T182841
CREATED:20260416T162356Z
LAST-MODIFIED:20260416T162356Z
UID:10001055-1784970000-1784973600@hendrickscountyparks.org
SUMMARY:Family Yoga in the Park
DESCRIPTION:Join Balance & Breath Yoga & Wellness Center this summer for FREE Yoga in the Park programs!\nGrab a beach towel or yoga mat\, some water\, and join us at the Bluegill Shelter at W.S. Gibbs Memorial Park! Our beginner-friendly series of classes are great for meeting those in the community and enjoying gentle movement outdoors in a beautiful park!\n\nThree different programs available:\n\nFamily Yoga (families of all ages)\, Saturdays at 9 a.m.\, (1-hour session)\nKids Yoga (ages 5-10)\, Tuesdays at 10 a.m.\, (1-hour session)\nYoga in the Park (all ages)\, Fridays at 7 p.m.\, (1-hour session)\n\nFREE to attend\nNo Advance Registration Required
URL:https://hendrickscountyparks.org/event/family-yoga-in-the-park/2026-07-25/
LOCATION:W.S. Gibbs Memorial Park\, 4521 Gibbs Road\, Danville\, IN\, 46122\, United States
CATEGORIES:All Programs,W.S. Gibbs Memorial Park
ATTACH;FMTTYPE=image/png:https://hendrickscountyparks.org/wp-content/uploads/2026/04/EADBBAFB-5AB9-4304-B170-4633ACDC2FEA.png
ORGANIZER;CN="Balance & Breath Yoga and Wellness Center":MAILTO:hello@balanceandbreathyoga.com
END:VEVENT
BEGIN:VEVENT
DTSTART;TZID=America/Indiana/Indianapolis:20260729T140000
DTEND;TZID=America/Indiana/Indianapolis:20260729T153000
DTSTAMP:20260419T182841
CREATED:20260416T175106Z
LAST-MODIFIED:20260416T175106Z
UID:10001093-1785333600-1785339000@hendrickscountyparks.org
SUMMARY:Nature Journaling at Gibbs
DESCRIPTION:Tune in with your senses as we explore our parks\, bringing our nature journals along for the adventure! Our naturalists will take you on a guided walk where our goal is to absorb all nature has to offer and learn how to make observations and record them in your own way. Small\, simple journals will be offered\, but you may bring your own journal if you’d like! \nRECOMMENDED FOR AGES 7 AND UPFEE: $3/PERSONADVANCE REGISTRATION REQUIRED BY JULY 27 AT: https://hcparks.recdesk.com/Community/Program/Detail?programId=1007APPROXIMATE PROGRAM DURATION: 1.5 HOURS
URL:https://hendrickscountyparks.org/event/nature-journaling-at-gibbs/
LOCATION:W.S. Gibbs Memorial Park\, 4521 Gibbs Road\, Danville\, IN\, 46122\, United States
CATEGORIES:All Programs,Hiking,W.S. Gibbs Memorial Park
ATTACH;FMTTYPE=image/jpeg:https://hendrickscountyparks.org/wp-content/uploads/2026/03/nature-journaling-hike-photo.jpg
END:VEVENT
BEGIN:VEVENT
DTSTART;TZID=America/Indiana/Indianapolis:20260801T090000
DTEND;TZID=America/Indiana/Indianapolis:20260801T140000
DTSTAMP:20260419T182841
CREATED:20251204T164859Z
LAST-MODIFIED:20251204T164859Z
UID:10001009-1785574800-1785592800@hendrickscountyparks.org
SUMMARY:Market in the Park
DESCRIPTION:Come out to W.S. Gibbs Memorial Park this year for our Market in the Park (formerly Farmer’s Parket) events\, where you will find local artisans\, baked goods\, crafts\, homemade goods and more available for purchase from local vendors!  \nAPPROPRIATE FOR ALL AGES\nFREE TO ATTEND\nNO ADVANCE REGISTRATION REQUIRED\nAPPROXIMATE PROGRAM DURATION: 5 HOURS (ONGOING) \nVendor space is $20 for a 10’x10′ spot. If you would like to arrange booth space at this event\, sign up here: https://hcparks.recdesk.com/Community/Program/Detail?programId=964
URL:https://hendrickscountyparks.org/event/market-in-the-park/
LOCATION:W.S. Gibbs Memorial Park\, 4521 Gibbs Road\, Danville\, IN\, 46122\, United States
CATEGORIES:All Programs,W.S. Gibbs Memorial Park
ATTACH;FMTTYPE=image/png:https://hendrickscountyparks.org/wp-content/uploads/2025/12/Market-in-the-Park.png
END:VEVENT
BEGIN:VEVENT
DTSTART;TZID=America/Indiana/Indianapolis:20260807T190000
DTEND;TZID=America/Indiana/Indianapolis:20260807T200000
DTSTAMP:20260419T182841
CREATED:20260416T155715Z
LAST-MODIFIED:20260416T160118Z
UID:10001048-1786129200-1786132800@hendrickscountyparks.org
SUMMARY:Yoga in the Park - All Ages
DESCRIPTION:Join Balance & Breath Yoga & Wellness Center this summer for FREE Yoga in the Park programs!\nGrab a beach towel or yoga mat\, some water\, and join us at the Bluegill Shelter at W.S. Gibbs Memorial Park! Our beginner-friendly series of classes are great for meeting those in the community and enjoying gentle movement outdoors in a beautiful park!\n\nThree different programs available:\n\nFamily Yoga (families of all ages)\, Saturdays at 9 a.m.\, (1-hour session)\nKids Yoga (ages 5-10)\, Tuesdays at 10 a.m.\, (1-hour session)\nYoga in the Park (all ages)\, Fridays at 7 p.m.\, (1-hour session)\n\nFREE to attend\nNo Advance Registration Required
URL:https://hendrickscountyparks.org/event/yoga-in-the-park-all-ages-5/2026-08-07/
LOCATION:W.S. Gibbs Memorial Park\, 4521 Gibbs Road\, Danville\, IN\, 46122\, United States
CATEGORIES:All Programs,W.S. Gibbs Memorial Park
ATTACH;FMTTYPE=image/jpeg:https://hendrickscountyparks.org/wp-content/uploads/2026/04/Yoga-in-the-Park-1-scaled.jpg
ORGANIZER;CN="Balance & Breath Yoga and Wellness Center":MAILTO:hello@balanceandbreathyoga.com
END:VEVENT
BEGIN:VEVENT
DTSTART;TZID=America/Indiana/Indianapolis:20260811T100000
DTEND;TZID=America/Indiana/Indianapolis:20260811T110000
DTSTAMP:20260419T182841
CREATED:20260417T200034Z
LAST-MODIFIED:20260417T200034Z
UID:10001130-1786442400-1786446000@hendrickscountyparks.org
SUMMARY:TADPOLE TIME: Birding for Beginners!
DESCRIPTION:Welcome to a beginner’s intro to birding! We will go over how to use birding tools\, the keys to birding\, and see what we will find at W.S. Gibbs Memorial Park! \nFOR AGES 2-7 WITH A PARENT OR GUARDIAN\nFEE: $5/CHILD\nADVANCE REGISTRATION REQUIRED BY MAY 15 AT: https://hcparks.recdesk.com/Community/Program/Detail?programId=1012\nAPPROXIMATE PROGRAM DURATION: 1 HOUR
URL:https://hendrickscountyparks.org/event/tadpole-time-birding-for-beginners/
LOCATION:W.S. Gibbs Memorial Park\, 4521 Gibbs Road\, Danville\, IN\, 46122\, United States
CATEGORIES:All Programs,Birds,Tadpole Time,W.S. Gibbs Memorial Park,Wildlife
ATTACH;FMTTYPE=image/jpeg:https://hendrickscountyparks.org/wp-content/uploads/2026/04/cardinal-large.jpg
END:VEVENT
BEGIN:VEVENT
DTSTART;TZID=America/Indiana/Indianapolis:20260815T090000
DTEND;TZID=America/Indiana/Indianapolis:20260815T100000
DTSTAMP:20260419T182841
CREATED:20260416T162356Z
LAST-MODIFIED:20260416T162356Z
UID:10001056-1786784400-1786788000@hendrickscountyparks.org
SUMMARY:Family Yoga in the Park
DESCRIPTION:Join Balance & Breath Yoga & Wellness Center this summer for FREE Yoga in the Park programs!\nGrab a beach towel or yoga mat\, some water\, and join us at the Bluegill Shelter at W.S. Gibbs Memorial Park! Our beginner-friendly series of classes are great for meeting those in the community and enjoying gentle movement outdoors in a beautiful park!\n\nThree different programs available:\n\nFamily Yoga (families of all ages)\, Saturdays at 9 a.m.\, (1-hour session)\nKids Yoga (ages 5-10)\, Tuesdays at 10 a.m.\, (1-hour session)\nYoga in the Park (all ages)\, Fridays at 7 p.m.\, (1-hour session)\n\nFREE to attend\nNo Advance Registration Required
URL:https://hendrickscountyparks.org/event/family-yoga-in-the-park/2026-08-15/
LOCATION:W.S. Gibbs Memorial Park\, 4521 Gibbs Road\, Danville\, IN\, 46122\, United States
CATEGORIES:All Programs,W.S. Gibbs Memorial Park
ATTACH;FMTTYPE=image/png:https://hendrickscountyparks.org/wp-content/uploads/2026/04/EADBBAFB-5AB9-4304-B170-4633ACDC2FEA.png
ORGANIZER;CN="Balance & Breath Yoga and Wellness Center":MAILTO:hello@balanceandbreathyoga.com
END:VEVENT
BEGIN:VEVENT
DTSTART;TZID=America/Indiana/Indianapolis:20260820T160000
DTEND;TZID=America/Indiana/Indianapolis:20260820T173000
DTSTAMP:20260419T182841
CREATED:20260417T182249Z
LAST-MODIFIED:20260417T182249Z
UID:10001114-1787241600-1787247000@hendrickscountyparks.org
SUMMARY:ROOTED IN NATURE CLUB: Wildflower Walk
DESCRIPTION:What better way to end the summer season than by saying farewell to our wonderful wildflowers? Take a walk around the park with our naturalists as we make our very own wildflower bouquets. We will identify and discuss the perennial blooms we find along the way. Participants are also welcome to create their very own flower “junk journal” to secure their new collection. Snacks provided. \nNOTE: The collection of plants in our parks outside of permitted program use is prohibited without written permission from park management. \nFOR AGES 13-18\nFEE: $10/TEEN\nADVANCE REGISTRATION REQUIRED BY AUG. 17 AT: https://hcparks.recdesk.com/Community/Program/Detail?programId=1016\nAPROXIMATE PROGRAM DURATION: 90 MINUTES
URL:https://hendrickscountyparks.org/event/rooted-in-nature-club-wildflower-walk/
LOCATION:W.S. Gibbs Memorial Park\, 4521 Gibbs Road\, Danville\, IN\, 46122\, United States
CATEGORIES:All Programs,Hiking,Plants and Trees,Rooted in Nature Club,Teens,W.S. Gibbs Memorial Park
ATTACH;FMTTYPE=image/jpeg:https://hendrickscountyparks.org/wp-content/uploads/2026/04/Coneflowers-Deb-Stukenborg-scaled.jpg
END:VEVENT
BEGIN:VEVENT
DTSTART;TZID=America/Indiana/Indianapolis:20260821T140000
DTEND;TZID=America/Indiana/Indianapolis:20260821T153000
DTSTAMP:20260419T182841
CREATED:20260416T175305Z
LAST-MODIFIED:20260416T175305Z
UID:10001094-1787320800-1787326200@hendrickscountyparks.org
SUMMARY:Nature Journaling at Gibbs
DESCRIPTION:Tune in with your senses as we explore our parks\, bringing our nature journals along for the adventure! Our naturalists will take you on a guided walk where our goal is to absorb all nature has to offer and learn how to make observations and record them in your own way. Small\, simple journals will be offered\, but you may bring your own journal if you’d like! \nRECOMMENDED FOR AGES 7 AND UPFEE: $3/PERSONADVANCE REGISTRATION REQUIRED BY AUG. 19 AT: https://hcparks.recdesk.com/Community/Program/Detail?programId=1008APPROXIMATE PROGRAM DURATION: 1.5 HOURS
URL:https://hendrickscountyparks.org/event/nature-journaling-at-gibbs-2/
LOCATION:W.S. Gibbs Memorial Park\, 4521 Gibbs Road\, Danville\, IN\, 46122\, United States
CATEGORIES:All Programs,Hiking,W.S. Gibbs Memorial Park
ATTACH;FMTTYPE=image/jpeg:https://hendrickscountyparks.org/wp-content/uploads/2026/03/nature-journaling-hike-photo.jpg
END:VEVENT
BEGIN:VEVENT
DTSTART;TZID=America/Indiana/Indianapolis:20260821T190000
DTEND;TZID=America/Indiana/Indianapolis:20260821T200000
DTSTAMP:20260419T182841
CREATED:20260416T155715Z
LAST-MODIFIED:20260416T160118Z
UID:10001049-1787338800-1787342400@hendrickscountyparks.org
SUMMARY:Yoga in the Park - All Ages
DESCRIPTION:Join Balance & Breath Yoga & Wellness Center this summer for FREE Yoga in the Park programs!\nGrab a beach towel or yoga mat\, some water\, and join us at the Bluegill Shelter at W.S. Gibbs Memorial Park! Our beginner-friendly series of classes are great for meeting those in the community and enjoying gentle movement outdoors in a beautiful park!\n\nThree different programs available:\n\nFamily Yoga (families of all ages)\, Saturdays at 9 a.m.\, (1-hour session)\nKids Yoga (ages 5-10)\, Tuesdays at 10 a.m.\, (1-hour session)\nYoga in the Park (all ages)\, Fridays at 7 p.m.\, (1-hour session)\n\nFREE to attend\nNo Advance Registration Required
URL:https://hendrickscountyparks.org/event/yoga-in-the-park-all-ages-5/2026-08-21/
LOCATION:W.S. Gibbs Memorial Park\, 4521 Gibbs Road\, Danville\, IN\, 46122\, United States
CATEGORIES:All Programs,W.S. Gibbs Memorial Park
ATTACH;FMTTYPE=image/jpeg:https://hendrickscountyparks.org/wp-content/uploads/2026/04/Yoga-in-the-Park-1-scaled.jpg
ORGANIZER;CN="Balance & Breath Yoga and Wellness Center":MAILTO:hello@balanceandbreathyoga.com
END:VEVENT
BEGIN:VEVENT
DTSTART;TZID=America/Indiana/Indianapolis:20260822T140000
DTEND;TZID=America/Indiana/Indianapolis:20260822T160000
DTSTAMP:20260419T182841
CREATED:20260416T192219Z
LAST-MODIFIED:20260416T192219Z
UID:10001107-1787407200-1787414400@hendrickscountyparks.org
SUMMARY:Wildflower Bouquets
DESCRIPTION:Have you seen the beautiful buds of late summer in W.S. Gibbs Memorial Park? For this special program\, the naturalists will guide participants on a short nature hike through the park to our Pollinator Plot. There\, we will discuss the importance of pollinators\, what colors attract which pollinators\, and then make our own wildflower bouquets! \nNote: The collection of plants in our parks outside of permitted program use is prohibited without written permission from our park management. \nMeet at the Bluegill Pavilion. \nAPPROPRIATE FOR ALL AGES\nFEE: $5/PERSON\nADVANCE REGISTRATION REQUIRED BY AUG. 20 AT: https://hcparks.recdesk.com/Community/Program/Detail?programId=1003\nAPPROXIMATE PROGRAM DURATION: 2 HOURS
URL:https://hendrickscountyparks.org/event/wildflower-bouquets/
LOCATION:W.S. Gibbs Memorial Park\, 4521 Gibbs Road\, Danville\, IN\, 46122\, United States
CATEGORIES:All Programs,Hiking,Plants and Trees,W.S. Gibbs Memorial Park
ATTACH;FMTTYPE=image/jpeg:https://hendrickscountyparks.org/wp-content/uploads/2026/03/wild-flower-bouquet-photo.jpg
END:VEVENT
BEGIN:VEVENT
DTSTART;TZID=America/Indiana/Indianapolis:20260912T090000
DTEND;TZID=America/Indiana/Indianapolis:20260912T140000
DTSTAMP:20260419T182841
CREATED:20251204T165201Z
LAST-MODIFIED:20251204T165202Z
UID:10001010-1789203600-1789221600@hendrickscountyparks.org
SUMMARY:Market in the Park
DESCRIPTION:Come out to W.S. Gibbs Memorial Park this year for our Market in the Park (formerly Farmer’s Parket) events\, where you will find local artisans\, baked goods\, crafts\, homemade goods and more available for purchase from local vendors!  \nAPPROPRIATE FOR ALL AGES\nFREE TO ATTEND\nNO ADVANCE REGISTRATION REQUIRED\nAPPROXIMATE PROGRAM DURATION: 5 HOURS (ONGOING) \nVendor space is $20 for a 10’x10′ spot. If you would like to arrange booth space at this event\, sign up here: https://hcparks.recdesk.com/Community/Program/Detail?programId=965
URL:https://hendrickscountyparks.org/event/market-in-the-park-2/
LOCATION:W.S. Gibbs Memorial Park\, 4521 Gibbs Road\, Danville\, IN\, 46122\, United States
CATEGORIES:All Programs,W.S. Gibbs Memorial Park
ATTACH;FMTTYPE=image/png:https://hendrickscountyparks.org/wp-content/uploads/2025/12/Market-in-the-Park.png
END:VEVENT
BEGIN:VEVENT
DTSTART;TZID=America/Indiana/Indianapolis:20261003T090000
DTEND;TZID=America/Indiana/Indianapolis:20261003T140000
DTSTAMP:20260419T182841
CREATED:20251204T165418Z
LAST-MODIFIED:20251204T165418Z
UID:10001011-1791018000-1791036000@hendrickscountyparks.org
SUMMARY:Market in the Park
DESCRIPTION:Come out to W.S. Gibbs Memorial Park this year for our Market in the Park (formerly Farmer’s Parket) events\, where you will find local artisans\, baked goods\, crafts\, homemade goods and more available for purchase from local vendors!  \nAPPROPRIATE FOR ALL AGES\nFREE TO ATTEND\nNO ADVANCE REGISTRATION REQUIRED\nAPPROXIMATE PROGRAM DURATION: 5 HOURS (ONGOING) \nVendor space is $20 for a 10’x10′ spot. If you would like to arrange booth space at this event\, sign up here: https://hcparks.recdesk.com/Community/Program/Detail?programId=966
URL:https://hendrickscountyparks.org/event/market-in-the-park-3/
LOCATION:W.S. Gibbs Memorial Park\, 4521 Gibbs Road\, Danville\, IN\, 46122\, United States
CATEGORIES:All Programs,W.S. Gibbs Memorial Park
ATTACH;FMTTYPE=image/png:https://hendrickscountyparks.org/wp-content/uploads/2025/12/Market-in-the-Park.png
END:VEVENT
END:VCALENDAR