BEGIN:VCALENDAR
VERSION:2.0
PRODID:-//Hendricks County Parks &amp; Recreation - ECPv6.15.20//NONSGML v1.0//EN
CALSCALE:GREGORIAN
METHOD:PUBLISH
X-WR-CALNAME:Hendricks County Parks &amp; Recreation
X-ORIGINAL-URL:https://hendrickscountyparks.org
X-WR-CALDESC:Events for Hendricks County Parks &amp; Recreation
REFRESH-INTERVAL;VALUE=DURATION:PT1H
X-Robots-Tag:noindex
X-PUBLISHED-TTL:PT1H
BEGIN:VTIMEZONE
TZID:America/Indiana/Indianapolis
BEGIN:DAYLIGHT
TZOFFSETFROM:-0500
TZOFFSETTO:-0400
TZNAME:EDT
DTSTART:20250309T070000
END:DAYLIGHT
BEGIN:STANDARD
TZOFFSETFROM:-0400
TZOFFSETTO:-0500
TZNAME:EST
DTSTART:20251102T060000
END:STANDARD
BEGIN:DAYLIGHT
TZOFFSETFROM:-0500
TZOFFSETTO:-0400
TZNAME:EDT
DTSTART:20260308T070000
END:DAYLIGHT
BEGIN:STANDARD
TZOFFSETFROM:-0400
TZOFFSETTO:-0500
TZNAME:EST
DTSTART:20261101T060000
END:STANDARD
BEGIN:DAYLIGHT
TZOFFSETFROM:-0500
TZOFFSETTO:-0400
TZNAME:EDT
DTSTART:20270314T070000
END:DAYLIGHT
BEGIN:STANDARD
TZOFFSETFROM:-0400
TZOFFSETTO:-0500
TZNAME:EST
DTSTART:20271107T060000
END:STANDARD
END:VTIMEZONE
BEGIN:VEVENT
DTSTART;TZID=America/Indiana/Indianapolis:20260821T190000
DTEND;TZID=America/Indiana/Indianapolis:20260821T200000
DTSTAMP:20260419T213849
CREATED:20260416T155715Z
LAST-MODIFIED:20260416T160118Z
UID:10001049-1787338800-1787342400@hendrickscountyparks.org
SUMMARY:Yoga in the Park - All Ages
DESCRIPTION:Join Balance & Breath Yoga & Wellness Center this summer for FREE Yoga in the Park programs!\nGrab a beach towel or yoga mat\, some water\, and join us at the Bluegill Shelter at W.S. Gibbs Memorial Park! Our beginner-friendly series of classes are great for meeting those in the community and enjoying gentle movement outdoors in a beautiful park!\n\nThree different programs available:\n\nFamily Yoga (families of all ages)\, Saturdays at 9 a.m.\, (1-hour session)\nKids Yoga (ages 5-10)\, Tuesdays at 10 a.m.\, (1-hour session)\nYoga in the Park (all ages)\, Fridays at 7 p.m.\, (1-hour session)\n\nFREE to attend\nNo Advance Registration Required
URL:https://hendrickscountyparks.org/event/yoga-in-the-park-all-ages-5/2026-08-21/
LOCATION:W.S. Gibbs Memorial Park\, 4521 Gibbs Road\, Danville\, IN\, 46122\, United States
CATEGORIES:All Programs,W.S. Gibbs Memorial Park
ATTACH;FMTTYPE=image/jpeg:https://hendrickscountyparks.org/wp-content/uploads/2026/04/Yoga-in-the-Park-1-scaled.jpg
ORGANIZER;CN="Balance & Breath Yoga and Wellness Center":MAILTO:hello@balanceandbreathyoga.com
END:VEVENT
BEGIN:VEVENT
DTSTART;TZID=America/Indiana/Indianapolis:20260822T140000
DTEND;TZID=America/Indiana/Indianapolis:20260822T160000
DTSTAMP:20260419T213849
CREATED:20260416T192219Z
LAST-MODIFIED:20260416T192219Z
UID:10001107-1787407200-1787414400@hendrickscountyparks.org
SUMMARY:Wildflower Bouquets
DESCRIPTION:Have you seen the beautiful buds of late summer in W.S. Gibbs Memorial Park? For this special program\, the naturalists will guide participants on a short nature hike through the park to our Pollinator Plot. There\, we will discuss the importance of pollinators\, what colors attract which pollinators\, and then make our own wildflower bouquets! \nNote: The collection of plants in our parks outside of permitted program use is prohibited without written permission from our park management. \nMeet at the Bluegill Pavilion. \nAPPROPRIATE FOR ALL AGES\nFEE: $5/PERSON\nADVANCE REGISTRATION REQUIRED BY AUG. 20 AT: https://hcparks.recdesk.com/Community/Program/Detail?programId=1003\nAPPROXIMATE PROGRAM DURATION: 2 HOURS
URL:https://hendrickscountyparks.org/event/wildflower-bouquets/
LOCATION:W.S. Gibbs Memorial Park\, 4521 Gibbs Road\, Danville\, IN\, 46122\, United States
CATEGORIES:All Programs,Hiking,Plants and Trees,W.S. Gibbs Memorial Park
ATTACH;FMTTYPE=image/jpeg:https://hendrickscountyparks.org/wp-content/uploads/2026/03/wild-flower-bouquet-photo.jpg
END:VEVENT
BEGIN:VEVENT
DTSTART;TZID=America/Indiana/Indianapolis:20260912T090000
DTEND;TZID=America/Indiana/Indianapolis:20260912T140000
DTSTAMP:20260419T213849
CREATED:20251204T165201Z
LAST-MODIFIED:20251204T165202Z
UID:10001010-1789203600-1789221600@hendrickscountyparks.org
SUMMARY:Market in the Park
DESCRIPTION:Come out to W.S. Gibbs Memorial Park this year for our Market in the Park (formerly Farmer’s Parket) events\, where you will find local artisans\, baked goods\, crafts\, homemade goods and more available for purchase from local vendors!  \nAPPROPRIATE FOR ALL AGES\nFREE TO ATTEND\nNO ADVANCE REGISTRATION REQUIRED\nAPPROXIMATE PROGRAM DURATION: 5 HOURS (ONGOING) \nVendor space is $20 for a 10’x10′ spot. If you would like to arrange booth space at this event\, sign up here: https://hcparks.recdesk.com/Community/Program/Detail?programId=965
URL:https://hendrickscountyparks.org/event/market-in-the-park-2/
LOCATION:W.S. Gibbs Memorial Park\, 4521 Gibbs Road\, Danville\, IN\, 46122\, United States
CATEGORIES:All Programs,W.S. Gibbs Memorial Park
ATTACH;FMTTYPE=image/png:https://hendrickscountyparks.org/wp-content/uploads/2025/12/Market-in-the-Park.png
END:VEVENT
BEGIN:VEVENT
DTSTART;TZID=America/Indiana/Indianapolis:20261003T090000
DTEND;TZID=America/Indiana/Indianapolis:20261003T140000
DTSTAMP:20260419T213849
CREATED:20251204T165418Z
LAST-MODIFIED:20251204T165418Z
UID:10001011-1791018000-1791036000@hendrickscountyparks.org
SUMMARY:Market in the Park
DESCRIPTION:Come out to W.S. Gibbs Memorial Park this year for our Market in the Park (formerly Farmer’s Parket) events\, where you will find local artisans\, baked goods\, crafts\, homemade goods and more available for purchase from local vendors!  \nAPPROPRIATE FOR ALL AGES\nFREE TO ATTEND\nNO ADVANCE REGISTRATION REQUIRED\nAPPROXIMATE PROGRAM DURATION: 5 HOURS (ONGOING) \nVendor space is $20 for a 10’x10′ spot. If you would like to arrange booth space at this event\, sign up here: https://hcparks.recdesk.com/Community/Program/Detail?programId=966
URL:https://hendrickscountyparks.org/event/market-in-the-park-3/
LOCATION:W.S. Gibbs Memorial Park\, 4521 Gibbs Road\, Danville\, IN\, 46122\, United States
CATEGORIES:All Programs,W.S. Gibbs Memorial Park
ATTACH;FMTTYPE=image/png:https://hendrickscountyparks.org/wp-content/uploads/2025/12/Market-in-the-Park.png
END:VEVENT
END:VCALENDAR