BEGIN:VCALENDAR
VERSION:2.0
PRODID:-//Hendricks County Parks &amp; Recreation - ECPv6.15.20//NONSGML v1.0//EN
CALSCALE:GREGORIAN
METHOD:PUBLISH
X-ORIGINAL-URL:https://hendrickscountyparks.org
X-WR-CALDESC:Events for Hendricks County Parks &amp; Recreation
REFRESH-INTERVAL;VALUE=DURATION:PT1H
X-Robots-Tag:noindex
X-PUBLISHED-TTL:PT1H
BEGIN:VTIMEZONE
TZID:America/Indiana/Indianapolis
BEGIN:DAYLIGHT
TZOFFSETFROM:-0500
TZOFFSETTO:-0400
TZNAME:EDT
DTSTART:20250309T070000
END:DAYLIGHT
BEGIN:STANDARD
TZOFFSETFROM:-0400
TZOFFSETTO:-0500
TZNAME:EST
DTSTART:20251102T060000
END:STANDARD
BEGIN:DAYLIGHT
TZOFFSETFROM:-0500
TZOFFSETTO:-0400
TZNAME:EDT
DTSTART:20260308T070000
END:DAYLIGHT
BEGIN:STANDARD
TZOFFSETFROM:-0400
TZOFFSETTO:-0500
TZNAME:EST
DTSTART:20261101T060000
END:STANDARD
BEGIN:DAYLIGHT
TZOFFSETFROM:-0500
TZOFFSETTO:-0400
TZNAME:EDT
DTSTART:20270314T070000
END:DAYLIGHT
BEGIN:STANDARD
TZOFFSETFROM:-0400
TZOFFSETTO:-0500
TZNAME:EST
DTSTART:20271107T060000
END:STANDARD
END:VTIMEZONE
BEGIN:VEVENT
DTSTART;TZID=America/Indiana/Indianapolis:20260512T100000
DTEND;TZID=America/Indiana/Indianapolis:20260512T110000
DTSTAMP:20260419T152551
CREATED:20260416T162126Z
LAST-MODIFIED:20260416T162126Z
UID:10001050-1778580000-1778583600@hendrickscountyparks.org
SUMMARY:Kids' Yoga in the Park
DESCRIPTION:Join Balance & Breath Yoga & Wellness Center this summer for FREE Yoga in the Park programs!\nGrab a beach towel or yoga mat\, some water\, and join us at the Bluegill Shelter at W.S. Gibbs Memorial Park! Our beginner-friendly series of classes are great for meeting those in the community and enjoying gentle movement outdoors in a beautiful park!\n\nThree different programs available:\n\nFamily Yoga (families of all ages)\, Saturdays at 9 a.m.\, (1-hour session)\nKids Yoga (ages 5-10)\, Tuesdays at 10 a.m.\, (1-hour session)\nYoga in the Park (all ages)\, Fridays at 7 p.m.\, (1-hour session)\n\nFor kids ages 5-10\nFREE to attend\nNo Advance Registration Required
URL:https://hendrickscountyparks.org/event/kids-yoga-in-the-park/2026-05-12/
LOCATION:W.S. Gibbs Memorial Park\, 4521 Gibbs Road\, Danville\, IN\, 46122\, United States
CATEGORIES:All Programs,W.S. Gibbs Memorial Park
ATTACH;FMTTYPE=image/png:https://hendrickscountyparks.org/wp-content/uploads/2026/04/229B8BB8-C20D-4366-BAC5-A188D0CC0847.png
ORGANIZER;CN="Balance & Breath Yoga and Wellness Center":MAILTO:hello@balanceandbreathyoga.com
END:VEVENT
BEGIN:VEVENT
DTSTART;TZID=America/Indiana/Indianapolis:20260516T090000
DTEND;TZID=America/Indiana/Indianapolis:20260516T100000
DTSTAMP:20260419T152551
CREATED:20260416T162356Z
LAST-MODIFIED:20260416T162356Z
UID:10001053-1778922000-1778925600@hendrickscountyparks.org
SUMMARY:Family Yoga in the Park
DESCRIPTION:Join Balance & Breath Yoga & Wellness Center this summer for FREE Yoga in the Park programs!\nGrab a beach towel or yoga mat\, some water\, and join us at the Bluegill Shelter at W.S. Gibbs Memorial Park! Our beginner-friendly series of classes are great for meeting those in the community and enjoying gentle movement outdoors in a beautiful park!\n\nThree different programs available:\n\nFamily Yoga (families of all ages)\, Saturdays at 9 a.m.\, (1-hour session)\nKids Yoga (ages 5-10)\, Tuesdays at 10 a.m.\, (1-hour session)\nYoga in the Park (all ages)\, Fridays at 7 p.m.\, (1-hour session)\n\nFREE to attend\nNo Advance Registration Required
URL:https://hendrickscountyparks.org/event/family-yoga-in-the-park/2026-05-16/
LOCATION:W.S. Gibbs Memorial Park\, 4521 Gibbs Road\, Danville\, IN\, 46122\, United States
CATEGORIES:All Programs,W.S. Gibbs Memorial Park
ATTACH;FMTTYPE=image/png:https://hendrickscountyparks.org/wp-content/uploads/2026/04/EADBBAFB-5AB9-4304-B170-4633ACDC2FEA.png
ORGANIZER;CN="Balance & Breath Yoga and Wellness Center":MAILTO:hello@balanceandbreathyoga.com
END:VEVENT
END:VCALENDAR