BEGIN:VCALENDAR
VERSION:2.0
PRODID:-//Hendricks County Parks &amp; Recreation - ECPv6.15.20//NONSGML v1.0//EN
CALSCALE:GREGORIAN
METHOD:PUBLISH
X-ORIGINAL-URL:https://hendrickscountyparks.org
X-WR-CALDESC:Events for Hendricks County Parks &amp; Recreation
REFRESH-INTERVAL;VALUE=DURATION:PT1H
X-Robots-Tag:noindex
X-PUBLISHED-TTL:PT1H
BEGIN:VTIMEZONE
TZID:America/Indiana/Indianapolis
BEGIN:DAYLIGHT
TZOFFSETFROM:-0500
TZOFFSETTO:-0400
TZNAME:EDT
DTSTART:20200308T070000
END:DAYLIGHT
BEGIN:STANDARD
TZOFFSETFROM:-0400
TZOFFSETTO:-0500
TZNAME:EST
DTSTART:20201101T060000
END:STANDARD
BEGIN:DAYLIGHT
TZOFFSETFROM:-0500
TZOFFSETTO:-0400
TZNAME:EDT
DTSTART:20210314T070000
END:DAYLIGHT
BEGIN:STANDARD
TZOFFSETFROM:-0400
TZOFFSETTO:-0500
TZNAME:EST
DTSTART:20211107T060000
END:STANDARD
BEGIN:DAYLIGHT
TZOFFSETFROM:-0500
TZOFFSETTO:-0400
TZNAME:EDT
DTSTART:20220313T070000
END:DAYLIGHT
BEGIN:STANDARD
TZOFFSETFROM:-0400
TZOFFSETTO:-0500
TZNAME:EST
DTSTART:20221106T060000
END:STANDARD
BEGIN:DAYLIGHT
TZOFFSETFROM:-0500
TZOFFSETTO:-0400
TZNAME:EDT
DTSTART:20230312T070000
END:DAYLIGHT
BEGIN:STANDARD
TZOFFSETFROM:-0400
TZOFFSETTO:-0500
TZNAME:EST
DTSTART:20231105T060000
END:STANDARD
BEGIN:DAYLIGHT
TZOFFSETFROM:-0500
TZOFFSETTO:-0400
TZNAME:EDT
DTSTART:20240310T070000
END:DAYLIGHT
BEGIN:STANDARD
TZOFFSETFROM:-0400
TZOFFSETTO:-0500
TZNAME:EST
DTSTART:20241103T060000
END:STANDARD
BEGIN:DAYLIGHT
TZOFFSETFROM:-0500
TZOFFSETTO:-0400
TZNAME:EDT
DTSTART:20250309T070000
END:DAYLIGHT
BEGIN:STANDARD
TZOFFSETFROM:-0400
TZOFFSETTO:-0500
TZNAME:EST
DTSTART:20251102T060000
END:STANDARD
BEGIN:DAYLIGHT
TZOFFSETFROM:-0500
TZOFFSETTO:-0400
TZNAME:EDT
DTSTART:20260308T070000
END:DAYLIGHT
BEGIN:STANDARD
TZOFFSETFROM:-0400
TZOFFSETTO:-0500
TZNAME:EST
DTSTART:20261101T060000
END:STANDARD
BEGIN:DAYLIGHT
TZOFFSETFROM:-0500
TZOFFSETTO:-0400
TZNAME:EDT
DTSTART:20270314T070000
END:DAYLIGHT
BEGIN:STANDARD
TZOFFSETFROM:-0400
TZOFFSETTO:-0500
TZNAME:EST
DTSTART:20271107T060000
END:STANDARD
END:VTIMEZONE
BEGIN:VEVENT
DTSTART;TZID=America/Indiana/Indianapolis:20260417T100000
DTEND;TZID=America/Indiana/Indianapolis:20260417T113000
DTSTAMP:20260425T211113
CREATED:20251212T180831Z
LAST-MODIFIED:20251212T180831Z
UID:10001018-1776420000-1776425400@hendrickscountyparks.org
SUMMARY:Homeschool Ecology Series: Meteorology Mayhem
DESCRIPTION:Have you ever wondered what causes rain\, tornadoes\, hurricanes or snow? Our naturalists are going to present all things weather and show you how to observe weather metrics at home\, such as rain\, temperature\, and wind. We’ll also go on a hike to record our weather observations at the park. \nRECOMMENDED FOR AGES 7-17 WITH PARENT OR GUARDIAN\nFEE: $10/CHILD (PARENT/GUARDIAN IS FREE)\nADVANCE REGISTRATION REQUIRED BY APRIL 10 AT: \nhttps://hcparks.recdesk.com/Community/Program/Detail?programId=978\nAPPROXIMATE PROGRAM DURATION: 90 MINUTES
URL:https://hendrickscountyparks.org/event/homeschool-ecology-series-meteorology-mayhem/
LOCATION:McCloud Nature Park\, 8518 Hughes Road\, North Salem\, IN\, 46165\, United States
CATEGORIES:All Programs,McCloud Nature Park,Weather
ATTACH;FMTTYPE=image/jpeg:https://hendrickscountyparks.org/wp-content/uploads/2021/03/160842750_4206251806065535_7721590931226435306_n.jpg
END:VEVENT
BEGIN:VEVENT
DTSTART;TZID=America/Indiana/Indianapolis:20260211T100000
DTEND;TZID=America/Indiana/Indianapolis:20260211T110000
DTSTAMP:20260425T211113
CREATED:20251212T182035Z
LAST-MODIFIED:20251212T182957Z
UID:10001019-1770804000-1770807600@hendrickscountyparks.org
SUMMARY:Tadpole Time: Let it Snow!
DESCRIPTION:Come learn about snow and make your very own paper snowflakes to take home! We’ll read a winter story\, then craft and decorate snowflakes. If we have real snow\, we can go out and play in it! \nRECOMMENDED FOR AGES 2-7 WITH PARENT OR GUARDIAN (THIS IS NOT A DROP-OFF PROGRAM).\nOLDER SIBLINGS\, AGES 6-7\, ARE WELCOME TO REGISTER AND PARTICIPATE\, TOO.\nFEE: $5/CHILD (PARENT/GUARDIAN IS FREE).\nADVANCE REGISTRATION REQUIRED BY FEB. 4 AT: https://hcparks.recdesk.com/Community/Program/Detail?programId=968\nAPPROXIMATE PROGRAM DURATION: 1 HOUR.
URL:https://hendrickscountyparks.org/event/tadpole-time-let-it-snow/
LOCATION:McCloud Nature Park\, 8518 Hughes Road\, North Salem\, IN\, 46165\, United States
CATEGORIES:All Programs,McCloud Nature Park,Tadpole Time,Weather
ATTACH;FMTTYPE=image/jpeg:https://hendrickscountyparks.org/wp-content/uploads/2017/01/snowy-trees.jpg
END:VEVENT
BEGIN:VEVENT
DTSTART;TZID=America/Indiana/Indianapolis:20240919T100000
DTEND;TZID=America/Indiana/Indianapolis:20240919T113000
DTSTAMP:20260425T211113
CREATED:20240806T160018Z
LAST-MODIFIED:20240806T160018Z
UID:10000764-1726740000-1726745400@hendrickscountyparks.org
SUMMARY:Tadpole Time: Colors of the Wind (McCloud)
DESCRIPTION:Red\, green\, yellow\, and brown\, look at all the beautiful colors we’ve found! From birds to trees\, everything changes colors with the season. Come along with the Naturalist as we talk about these wonders of the Fall!\n \n\nRECOMMENDED FOR AGES 2-7 WITH PARENT OR GUARDIAN (THIS IS NOT A DROP-OFF PROGRAM). OLDER SIBLINGS\, AGES 6-7\, ARE WELCOME TO REGISTER AND PARTICIPATE\, TOO.\n\n \n\nFEE: $3/CHILD (PARENT/GUARDIAN IS FREE). \nADVANCE REGISTRATION REQUIRED BY SEPT. 12 AT: https://hcparks.recdesk.com/Community/Program/Detail?programId=874 \n\nAPPROXIMATE PROGRAM DURATION: 1.5 HOURS.
URL:https://hendrickscountyparks.org/event/tadpole-time-colors-of-the-wind-mccloud/
LOCATION:McCloud Nature Park\, 8518 Hughes Road\, North Salem\, IN\, 46165\, United States
CATEGORIES:All Programs,McCloud Nature Park,Tadpole Time,Weather
ATTACH;FMTTYPE=image/jpeg:https://hendrickscountyparks.org/wp-content/uploads/2024/08/colorful-wind-5679-1920x1080-1.jpg
END:VEVENT
BEGIN:VEVENT
DTSTART;TZID=America/Indiana/Indianapolis:20240918T100000
DTEND;TZID=America/Indiana/Indianapolis:20240918T113000
DTSTAMP:20260425T211113
CREATED:20240806T155834Z
LAST-MODIFIED:20240806T155834Z
UID:10000763-1726653600-1726659000@hendrickscountyparks.org
SUMMARY:Tadpole Time: Colors of the Wind (Gibbs)
DESCRIPTION:Red\, green\, yellow\, and brown\, look at all the beautiful colors we’ve found! From birds to trees\, everything changes colors with the season. Come along with the Naturalist as we talk about these wonders of the Fall!\n \n\nRECOMMENDED FOR AGES 2-7 WITH PARENT OR GUARDIAN (THIS IS NOT A DROP-OFF PROGRAM). OLDER SIBLINGS\, AGES 6-7\, ARE WELCOME TO REGISTER AND PARTICIPATE\, TOO.\n\n \nFEE: $3/CHILD (PARENT/GUARDIAN IS FREE). \nADVANCE REGISTRATION REQUIRED BY SEPT. 11 AT: https://hcparks.recdesk.com/Community/Program/Detail?programId=873\n \nAPPROXIMATE PROGRAM DURATION: 1.5 HOURS.
URL:https://hendrickscountyparks.org/event/tadpole-time-colors-of-the-wind-gibbs/
LOCATION:W.S. Gibbs Memorial Park\, 4521 Gibbs Road\, Danville\, IN\, 46122\, United States
CATEGORIES:All Programs,Tadpole Time,W.S. Gibbs Memorial Park,Weather
ATTACH;FMTTYPE=image/jpeg:https://hendrickscountyparks.org/wp-content/uploads/2024/08/colorful-wind-5679-1920x1080-1.jpg
END:VEVENT
BEGIN:VEVENT
DTSTART;TZID=America/Indiana/Indianapolis:20220819T130000
DTEND;TZID=America/Indiana/Indianapolis:20220819T150000
DTSTAMP:20260425T211113
CREATED:20220518T183450Z
LAST-MODIFIED:20220518T183450Z
UID:10000432-1660914000-1660921200@hendrickscountyparks.org
SUMMARY:Homeschool Ecology Series: Flood Follies
DESCRIPTION:***ADVANCE REGISTRATION REQUIRED*** Walk-in registration at the time of the event is not available. Upon completing registration through the link below\, you will receive an email confirming your registration. If you need assistance completing your registration\, please call the McCloud Nature Center at (765) 676-5437. \nWhat does it really mean when a scientist refers to a 100-year flood? What is a floodplain for anyway? Discover these answers for yourself through demonstrations\, analyzing data\, simulated community planning\, and more! \nParents of the students may also register as participants for $10/session if they want to participate in the activities with the older students. (Parents who do not register as students will not be able to join the group for the inside portion of the lesson but are welcome to join for the outside portions.) \nFor any questions or assistance with registration\, please call the McCloud Nature Center at (765) 676-5437. \nRECOMMENDED FOR AGES 12-18. \nFEE: $10/STUDENT. \nADVANCE REGISTRATION REQUIRED BY AUG. 14 AT: https://hcparks.recdesk.com/Community/Program/Detail?programId=673 \nFOR YOUNGER SIBLINGS: After registering your 12-18 year-olds\, email mccloudnp@hcparks.net for a link to register their younger siblings. Please include the number of younger siblings you wish to register. Parents or guardians MUST ATTEND with the younger siblings\, as this is not a drop-off program. FEE: $5/YOUNGER SIBLING. \nAPPROXIMATE PROGRAM DURATION: 2 HOURS. \nTHE ENTIRE PROGRAM WILL BE OUTDOORS. ALL AGES WILL BE OUTSIDE\, SO IT IS VERY IMPORTANT THAT EVERYONE (CHILDREN AND ADULTS ALIKE) DRESS FOR THE WEATHER.
URL:https://hendrickscountyparks.org/event/homeschool-ecology-series-flood-follies/
LOCATION:McCloud Nature Park\, 8518 Hughes Road\, North Salem\, IN\, 46165\, United States
CATEGORIES:All Programs,McCloud Nature Park,Teens,Weather
END:VEVENT
BEGIN:VEVENT
DTSTART;TZID=America/Indiana/Indianapolis:20220416T140000
DTEND;TZID=America/Indiana/Indianapolis:20220416T160000
DTSTAMP:20260425T211113
CREATED:20220317T193837Z
LAST-MODIFIED:20220317T193837Z
UID:10000342-1650117600-1650124800@hendrickscountyparks.org
SUMMARY:Weather Aware: A Look at Severe Weather Across Indiana and How to Stay Safe
DESCRIPTION:Join Sam Lashley from the National Weather Service for this discussion on how severe weather develops and how it impacts residents of Indiana. Learn how you can become a volunteer weather observer for the National Weather Service!\n \nWeather safety information and online resources will be shared for monitoring weather forecasts ahead of and during severe weather. Look at extreme precipitation trends across the Hoosier state dating back to 1900 and projections for these trends in the future.\n \nRecommended for all ages. Free to attend.\n \nCOVID precautions: This is an inside presentation and masks are not currently required. The doors will be propped open for better ventilation\, and the group size may be limited. \n \nFor directions or more information\, call the McCloud Nature Center at 765-676-5437.
URL:https://hendrickscountyparks.org/event/weather-aware-a-look-at-severe-weather-across-indiana-and-how-to-stay-safe/
LOCATION:McCloud Nature Park\, 8518 Hughes Road\, North Salem\, IN\, 46165\, United States
CATEGORIES:All Programs,McCloud Nature Park,Weather
END:VEVENT
BEGIN:VEVENT
DTSTART;TZID=America/Indiana/Indianapolis:20220326T140000
DTEND;TZID=America/Indiana/Indianapolis:20220326T160000
DTSTAMP:20260425T211113
CREATED:20211104T194343Z
LAST-MODIFIED:20211104T194417Z
UID:10000316-1648303200-1648310400@hendrickscountyparks.org
SUMMARY:Aeronauts
DESCRIPTION:Explore the wonders of wind through hands-on activities and experiments. How high can you fly a kite? What is a pinwheel and how does it work? Will the shape of a paper airplane’s wings effect how it flies? Bring your own kite or borrow one of ours and come explore the wild wind. All other supplies will be provided (while supplies last). Meet at Bluegill Shelter. \nAPPROPRIATE FOR ALL AGES \nFREE TO ATTEND \nNO ADVANCE REGISTRATION REQUIRED \nAPPROXIMATE PROGRAM DURATION: 2 HOURS (ONGOING)
URL:https://hendrickscountyparks.org/event/aeronauts/
LOCATION:W.S. Gibbs Memorial Park\, 4521 Gibbs Road\, Danville\, IN\, 46122\, United States
CATEGORIES:All Programs,W.S. Gibbs Memorial Park,Weather
END:VEVENT
BEGIN:VEVENT
DTSTART;VALUE=DATE:20220301
DTEND;VALUE=DATE:20220305
DTSTAMP:20260425T211113
CREATED:20211117T150625Z
LAST-MODIFIED:20211117T150625Z
UID:10000326-1646092800-1646438399@hendrickscountyparks.org
SUMMARY:Animal Tales: The Windy Day
DESCRIPTION:Our Park Naturalists and volunteers come to your local library each month to share a story about a native animal and lead a craft or activity. These programs are FREE to attend and are most appropriate for preschool to upper elementary age children. Advance registration is required by contacting your library.  \nPlease note: With the ever-changing circumstances involving the COVID-19 pandemic\, Animal Tales may become Virtual Animal Tales and/or an Animal Tales StoryWalk at McCloud Nature Park during any given month. Follow us on Facebook or contact your local library for updates. \nJanuary: The Mitten by Jan Brett \nWhen Nicki drops his white mitten in the snow\, he goes on without realizing that it is missing. One by one\, woodland animals find it and crawl in; first\, a curious mole\, then a rabbit\, a badger and others\, each one larger than the last. Finally\, a big brown bear is followed in by a tiny brown mouse and what happens next makes for a wonderfully funny climax.  \nFebruary: City Hawk by Meghan McCarthy \nNew York City is known for its skyscrapers\, subways\, and hustle and bustle — not for its wildlife. So everyone is surprised when a red-tailed hawk is spotted flying over Fifth Avenue\, and even more surprised when he decides to settle down on the ledge of one of the Big Apple’s swankiest apartment buildings. The hawk soon draws many admirers. They name him Pale Male and watch as he builds his nest\, finds a mate\, and teaches his little hawk babies to fly. Based on a true story.  \nMarch: The Windy Day  by Anna Milbourne and Elena Temporin  \nJoin children as they play outdoors and discover the delights of a windy day\, from flying a kite high in the sky to watching seagulls gliding in the wind. With simple text and gorgeous illustrations from Elena Temporin throughout.   \nApril: A Salamander’s Life  by John Himmelman   \nJohn Himmelman’s color illustrations and simple text relate the life cycle of a salamander as it grows from being an egg to a larva to an adult female salamander which hunts for food and lays her own eggs. Strikingly original watercolors depict the salamander’s world from her unique perspective.   \nClayton – Liberty Township  \n\nCall library at (317) 539-2991 to register in advance\nTuesdays at 10:30 a.m. \nJan. 4\, Feb. 1\, March 1\, April 5\n\nMonrovia  \n\nCall library at (317) 996-4307 to register in advance\nTuesdays at 1 p.m. \nJan. 4\, Feb. 1\, March 1\, April 5\n\nPlainfield – Guilford Township  \n\nCall library at (317) 839-6602 to register in advance\nWednesdays at 10 a.m. \nJan. 5\, Feb. 2\, March 2\, April 6\n\nBrownsburg  \n\nCall library at (317) 852-3167 to register in advance\nWednesdays at 4 p.m. \nJan. 5\, Feb. 2\, March 2\, April 6\n\nJamestown \n\nCall library at (765) 676-6190 to register in advance\nThursdays at 3 p.m.\nJan. 6\, Feb. 3\, March 3\, April 7\n\nRoachdale \n\nCall library at (765) 522-1491 to register in advance\nThursdays at 4:30 p.m.\nApril 7\n\nAvon \n\nCall library at (317) 272-4818 to register in advance\nFridays at 2 p.m.\nJan. 7\, Feb. 4\, March 4\, April 8\n\nDanville \n\nCall library at (317) 745-2604 to register in advance\nFridays at 4 p.m.\nJan. 7\, Feb. 4\, March 4\, April 8
URL:https://hendrickscountyparks.org/event/animal-tales-the-windy-day/
CATEGORIES:All Programs,Weather
END:VEVENT
BEGIN:VEVENT
DTSTART;TZID=America/Indiana/Indianapolis:20220226T140000
DTEND;TZID=America/Indiana/Indianapolis:20220226T160000
DTSTAMP:20260425T211113
CREATED:20211104T192142Z
LAST-MODIFIED:20211104T192142Z
UID:10000311-1645884000-1645891200@hendrickscountyparks.org
SUMMARY:Winter Play
DESCRIPTION:Get your winter games on with the naturalists at W.S. Gibbs Memorial Park! If we have snow\, we will do some sledding on our hill and have snowball fights. If there is no snow\, our naturalists will bring some fake snowballs and have an epic snowball fight! We’ll also play some other winter-themed games and do some winter experiments\, like exploding snowmen! We will even make our own fake snow! Meet at Bluegill Shelter. \nAPPROPRIATE FOR ALL AGES \nFREE TO ATTEND \nNO ADVANCE REGISTRATION REQUIRED \nAPPROXIMATE PROGRAM DURATION:  2 HOURS (ONGOING)
URL:https://hendrickscountyparks.org/event/winter-play/
LOCATION:W.S. Gibbs Memorial Park\, 4521 Gibbs Road\, Danville\, IN\, 46122\, United States
CATEGORIES:All Programs,Games,W.S. Gibbs Memorial Park,Weather
END:VEVENT
BEGIN:VEVENT
DTSTART;TZID=America/Indiana/Indianapolis:20210417T140000
DTEND;TZID=America/Indiana/Indianapolis:20210417T153000
DTSTAMP:20260425T211113
CREATED:20210324T183326Z
LAST-MODIFIED:20210324T185220Z
UID:10000194-1618668000-1618673400@hendrickscountyparks.org
SUMMARY:The How-to Guide for Severe Local Storms
DESCRIPTION:Dr. Ryan Hastings specialized in tornadoes and severe weather for his PhD. This included several field projects to study storms. Dr. Hastings will introduce the basics of how to spot severe weather\, and how tornadic thunderstorms work. Weather permitting\, we may go outside and look at the clouds and see what’s going on with the atmosphere.\n \nCOVID precautions: This is an inside presentation and masks are required. The group size may be limited. Call the Program and Weather Hotline for updates: 317-718-6111.\n \nFree to attend\, no registration needed. Approximate duration: 90 min.\n \nRecommended for teens and adults.\n \nPicture provided by Dr. Hastings from a tornado outside of Goshen\, WY\, 5 June 2009\, from when he was on VORTEX2.
URL:https://hendrickscountyparks.org/event/the-how-to-guide-for-severe-local-storms/
LOCATION:McCloud Nature Park\, 8518 Hughes Road\, North Salem\, IN\, 46165\, United States
CATEGORIES:Adult Education,All Programs,McCloud Nature Park,Teens,Weather
ORGANIZER;CN="Ryan Hastings":MAILTO:buoyant.gas@gmail.com
END:VEVENT
END:VCALENDAR