BEGIN:VCALENDAR
VERSION:2.0
PRODID:-//Hendricks County Parks &amp; Recreation - ECPv6.15.20//NONSGML v1.0//EN
CALSCALE:GREGORIAN
METHOD:PUBLISH
X-ORIGINAL-URL:https://hendrickscountyparks.org
X-WR-CALDESC:Events for Hendricks County Parks &amp; Recreation
REFRESH-INTERVAL;VALUE=DURATION:PT1H
X-Robots-Tag:noindex
X-PUBLISHED-TTL:PT1H
BEGIN:VTIMEZONE
TZID:America/Indiana/Indianapolis
BEGIN:DAYLIGHT
TZOFFSETFROM:-0500
TZOFFSETTO:-0400
TZNAME:EDT
DTSTART:20250309T070000
END:DAYLIGHT
BEGIN:STANDARD
TZOFFSETFROM:-0400
TZOFFSETTO:-0500
TZNAME:EST
DTSTART:20251102T060000
END:STANDARD
BEGIN:DAYLIGHT
TZOFFSETFROM:-0500
TZOFFSETTO:-0400
TZNAME:EDT
DTSTART:20260308T070000
END:DAYLIGHT
BEGIN:STANDARD
TZOFFSETFROM:-0400
TZOFFSETTO:-0500
TZNAME:EST
DTSTART:20261101T060000
END:STANDARD
BEGIN:DAYLIGHT
TZOFFSETFROM:-0500
TZOFFSETTO:-0400
TZNAME:EDT
DTSTART:20270314T070000
END:DAYLIGHT
BEGIN:STANDARD
TZOFFSETFROM:-0400
TZOFFSETTO:-0500
TZNAME:EST
DTSTART:20271107T060000
END:STANDARD
END:VTIMEZONE
BEGIN:VEVENT
DTSTART;TZID=America/Indiana/Indianapolis:20260527T123000
DTEND;TZID=America/Indiana/Indianapolis:20260527T133000
DTSTAMP:20260420T032640
CREATED:20260416T193521Z
LAST-MODIFIED:20260416T194318Z
UID:10001109-1779885000-1779888600@hendrickscountyparks.org
SUMMARY:SENIOR CENTER: Backyard Birding
DESCRIPTION:Join our naturalists at the Senior Center in Danville on the 4th Wednesday of every month from 12:30 to 1:30 p.m. for a FREE nature-themed program! These programs take place during lunch at the Senior Center\, and donations are accepted for lunch. The Senior Center partners with the Central Indiana Council on Aging (CICOA) to provide the meals. CICOA’s paperwork must be completed upon your first visit.\n\nLunch is prepared by Hendricks Regional Health Hospital. To make a lunch reservation\, please call (317) 910-5356 by 11 a.m. on the day before the program.\n\nMAY 27: BACKYARD BIRDINGEver wondered what birds are in your backyard? This program will help you identify the animals in your backyard and how to keep them on your feeders.
URL:https://hendrickscountyparks.org/event/backyard-birding-5/
LOCATION:Hendricks County Senior Services\, 1201 Sycamore Lane\, Danville\, IN\, 46122\, United States
CATEGORIES:Adult Education,All Programs,Birds,Seniors,Wildlife
ATTACH;FMTTYPE=image/jpeg:https://hendrickscountyparks.org/wp-content/uploads/2026/04/672223165_1380202027474653_8347049275908025424_n.jpg
END:VEVENT
BEGIN:VEVENT
DTSTART;TZID=America/Indiana/Indianapolis:20260528T140000
DTEND;TZID=America/Indiana/Indianapolis:20260528T150000
DTSTAMP:20260420T032640
CREATED:20260416T171505Z
LAST-MODIFIED:20260416T171505Z
UID:10001064-1779976800-1779980400@hendrickscountyparks.org
SUMMARY:Critter Feeding!
DESCRIPTION:Meet all of our ambassador animals for a late lunch while we talk about what and how they eat! \nAPPROPRIATE FOR ALL AGESFEE: $2/PERSONADVANCE REGISTRATION REQUIREDAPPROXIMATE PROGRAM DURATION: 1 HOUR \nRegistration Links \n\nMay 14: https://hcparks.recdesk.com/Community/Program/Detail?programId=1017\nMay 21: https://hcparks.recdesk.com/Community/Program/Detail?programId=1018\nMay 28: https://hcparks.recdesk.com/Community/Program/Detail?programId=1019\nJune 4: https://hcparks.recdesk.com/Community/Program/Detail?programId=1020\nJune 11: https://hcparks.recdesk.com/Community/Program/Detail?programId=1021\nJune 18: https://hcparks.recdesk.com/Community/Program/Detail?programId=1022\nJune 25: https://hcparks.recdesk.com/Community/Program/Detail?programId=1023\nJuly 2: https://hcparks.recdesk.com/Community/Program/Detail?programId=1024\nJuly 9: https://hcparks.recdesk.com/Community/Program/Detail?programId=1025\nJuly 16: https://hcparks.recdesk.com/Community/Program/Detail?programId=1026\nJuly 23: https://hcparks.recdesk.com/Community/Program/Detail?programId=1027\nJuly 30: https://hcparks.recdesk.com/Community/Program/Detail?programId=1029\nAug. 6: https://hcparks.recdesk.com/Community/Program/Detail?programId=1030\nAug. 13: https://hcparks.recdesk.com/Community/Program/Detail?programId=1031\nAug. 20: https://hcparks.recdesk.com/Community/Program/Detail?programId=1032\nAug. 27: https://hcparks.recdesk.com/Community/Program/Detail?programId=1033
URL:https://hendrickscountyparks.org/event/critter-feeding/2026-05-28/
LOCATION:McCloud Nature Park\, 8518 Hughes Road\, North Salem\, IN\, 46165\, United States
CATEGORIES:All Programs,Amphibians,Insects,McCloud Nature Park,Reptiles,Wildlife
ATTACH;FMTTYPE=image/jpeg:https://hendrickscountyparks.org/wp-content/uploads/2026/03/critter-feeding-photo.jpg
END:VEVENT
END:VCALENDAR