BEGIN:VCALENDAR
VERSION:2.0
PRODID:-//Hendricks County Parks &amp; Recreation - ECPv6.15.20//NONSGML v1.0//EN
CALSCALE:GREGORIAN
METHOD:PUBLISH
X-WR-CALNAME:Hendricks County Parks &amp; Recreation
X-ORIGINAL-URL:https://hendrickscountyparks.org
X-WR-CALDESC:Events for Hendricks County Parks &amp; Recreation
REFRESH-INTERVAL;VALUE=DURATION:PT1H
X-Robots-Tag:noindex
X-PUBLISHED-TTL:PT1H
BEGIN:VTIMEZONE
TZID:America/Indiana/Indianapolis
BEGIN:DAYLIGHT
TZOFFSETFROM:-0500
TZOFFSETTO:-0400
TZNAME:EDT
DTSTART:20250309T070000
END:DAYLIGHT
BEGIN:STANDARD
TZOFFSETFROM:-0400
TZOFFSETTO:-0500
TZNAME:EST
DTSTART:20251102T060000
END:STANDARD
BEGIN:DAYLIGHT
TZOFFSETFROM:-0500
TZOFFSETTO:-0400
TZNAME:EDT
DTSTART:20260308T070000
END:DAYLIGHT
BEGIN:STANDARD
TZOFFSETFROM:-0400
TZOFFSETTO:-0500
TZNAME:EST
DTSTART:20261101T060000
END:STANDARD
BEGIN:DAYLIGHT
TZOFFSETFROM:-0500
TZOFFSETTO:-0400
TZNAME:EDT
DTSTART:20270314T070000
END:DAYLIGHT
BEGIN:STANDARD
TZOFFSETFROM:-0400
TZOFFSETTO:-0500
TZNAME:EST
DTSTART:20271107T060000
END:STANDARD
END:VTIMEZONE
BEGIN:VEVENT
DTSTART;TZID=America/Indiana/Indianapolis:20260616T100000
DTEND;TZID=America/Indiana/Indianapolis:20260616T110000
DTSTAMP:20260420T181539
CREATED:20260417T195709Z
LAST-MODIFIED:20260417T195709Z
UID:10001128-1781604000-1781607600@hendrickscountyparks.org
SUMMARY:TADPOLE TIME: Bugs!
DESCRIPTION:Come join us for a fun-filled program where we’ll explore the fascinating world of bugs! You’ll even get to make your very own to take home! Just a heads-up — we might get a bit wet or muddy\, so dress accordingly. We can’t wait to see you there! \nFOR AGES 2-7 WITH A PARENT OR GUARDIAN\nFEE: $5/CHILD\nADVANCE REGISTRATION REQUIRED BY JUNE 12 AT: https://hcparks.recdesk.com/Community/Program/Detail?programId=1010\nAPPROXIMATE PROGRAM DURATION: 1 HOUR
URL:https://hendrickscountyparks.org/event/tadpole-time-bugs/
LOCATION:W.S. Gibbs Memorial Park\, 4521 Gibbs Road\, Danville\, IN\, 46122\, United States
CATEGORIES:All Programs,Insects,Tadpole Time,W.S. Gibbs Memorial Park,Wildlife
ATTACH;FMTTYPE=image/png:https://hendrickscountyparks.org/wp-content/uploads/2026/04/ladybug.png
END:VEVENT
BEGIN:VEVENT
DTSTART;TZID=America/Indiana/Indianapolis:20260617T100000
DTEND;TZID=America/Indiana/Indianapolis:20260617T120000
DTSTAMP:20260420T181539
CREATED:20260417T183618Z
LAST-MODIFIED:20260417T183618Z
UID:10001116-1781690400-1781697600@hendrickscountyparks.org
SUMMARY:NATURE DISCOVERY: Pokémon Roundup!
DESCRIPTION:Let’s catch ’em all! Join us at McCloud Nature Park to discover some real life “Pokémon” as we introduce you to our animal ambassadors. We’ll have the chance to go out and see what animals and bugs we can find in the park and even create our own Pokémon cards and a “Pokedex” of the critters we catch! \nFOR AGES 7-12 WITH PARENT OR GUARDIAN\nFEE: $5/PARTICIPANT\nADVANCE REGISTRATION REQUIRED BY JUNE 12 AT: https://hcparks.recdesk.com/Community/Program/Detail?programId=989\nAPPROXIMATE PROGRAM DURATION: 2 HOURS
URL:https://hendrickscountyparks.org/event/nature-discovery-pokemon-roundup/
LOCATION:McCloud Nature Park\, 8518 Hughes Road\, North Salem\, IN\, 46165\, United States
CATEGORIES:All Programs,Hiking,Insects,McCloud Nature Park,Nature Discovery Series,Reptiles,Tweens,Wildlife
ATTACH;FMTTYPE=image/jpeg:https://hendrickscountyparks.org/wp-content/uploads/2026/04/critter-feeding-photo.jpg
END:VEVENT
BEGIN:VEVENT
DTSTART;TZID=America/Indiana/Indianapolis:20260618T140000
DTEND;TZID=America/Indiana/Indianapolis:20260618T150000
DTSTAMP:20260420T181539
CREATED:20260416T171505Z
LAST-MODIFIED:20260416T171505Z
UID:10001067-1781791200-1781794800@hendrickscountyparks.org
SUMMARY:Critter Feeding!
DESCRIPTION:Meet all of our ambassador animals for a late lunch while we talk about what and how they eat! \nAPPROPRIATE FOR ALL AGESFEE: $2/PERSONADVANCE REGISTRATION REQUIREDAPPROXIMATE PROGRAM DURATION: 1 HOUR \nRegistration Links \n\nMay 14: https://hcparks.recdesk.com/Community/Program/Detail?programId=1017\nMay 21: https://hcparks.recdesk.com/Community/Program/Detail?programId=1018\nMay 28: https://hcparks.recdesk.com/Community/Program/Detail?programId=1019\nJune 4: https://hcparks.recdesk.com/Community/Program/Detail?programId=1020\nJune 11: https://hcparks.recdesk.com/Community/Program/Detail?programId=1021\nJune 18: https://hcparks.recdesk.com/Community/Program/Detail?programId=1022\nJune 25: https://hcparks.recdesk.com/Community/Program/Detail?programId=1023\nJuly 2: https://hcparks.recdesk.com/Community/Program/Detail?programId=1024\nJuly 9: https://hcparks.recdesk.com/Community/Program/Detail?programId=1025\nJuly 16: https://hcparks.recdesk.com/Community/Program/Detail?programId=1026\nJuly 23: https://hcparks.recdesk.com/Community/Program/Detail?programId=1027\nJuly 30: https://hcparks.recdesk.com/Community/Program/Detail?programId=1029\nAug. 6: https://hcparks.recdesk.com/Community/Program/Detail?programId=1030\nAug. 13: https://hcparks.recdesk.com/Community/Program/Detail?programId=1031\nAug. 20: https://hcparks.recdesk.com/Community/Program/Detail?programId=1032\nAug. 27: https://hcparks.recdesk.com/Community/Program/Detail?programId=1033
URL:https://hendrickscountyparks.org/event/critter-feeding/2026-06-18/
LOCATION:McCloud Nature Park\, 8518 Hughes Road\, North Salem\, IN\, 46165\, United States
CATEGORIES:All Programs,Amphibians,Insects,McCloud Nature Park,Reptiles,Wildlife
ATTACH;FMTTYPE=image/jpeg:https://hendrickscountyparks.org/wp-content/uploads/2026/03/critter-feeding-photo.jpg
END:VEVENT
END:VCALENDAR