BEGIN:VCALENDAR
VERSION:2.0
PRODID:-//Hendricks County Parks &amp; Recreation - ECPv6.15.20//NONSGML v1.0//EN
CALSCALE:GREGORIAN
METHOD:PUBLISH
X-WR-CALNAME:Hendricks County Parks &amp; Recreation
X-ORIGINAL-URL:https://hendrickscountyparks.org
X-WR-CALDESC:Events for Hendricks County Parks &amp; Recreation
REFRESH-INTERVAL;VALUE=DURATION:PT1H
X-Robots-Tag:noindex
X-PUBLISHED-TTL:PT1H
BEGIN:VTIMEZONE
TZID:America/Indiana/Indianapolis
BEGIN:DAYLIGHT
TZOFFSETFROM:-0500
TZOFFSETTO:-0400
TZNAME:EDT
DTSTART:20190310T070000
END:DAYLIGHT
BEGIN:STANDARD
TZOFFSETFROM:-0400
TZOFFSETTO:-0500
TZNAME:EST
DTSTART:20191103T060000
END:STANDARD
BEGIN:DAYLIGHT
TZOFFSETFROM:-0500
TZOFFSETTO:-0400
TZNAME:EDT
DTSTART:20200308T070000
END:DAYLIGHT
BEGIN:STANDARD
TZOFFSETFROM:-0400
TZOFFSETTO:-0500
TZNAME:EST
DTSTART:20201101T060000
END:STANDARD
BEGIN:DAYLIGHT
TZOFFSETFROM:-0500
TZOFFSETTO:-0400
TZNAME:EDT
DTSTART:20210314T070000
END:DAYLIGHT
BEGIN:STANDARD
TZOFFSETFROM:-0400
TZOFFSETTO:-0500
TZNAME:EST
DTSTART:20211107T060000
END:STANDARD
END:VTIMEZONE
BEGIN:VEVENT
DTSTART;TZID=America/Indiana/Indianapolis:20200307T090000
DTEND;TZID=America/Indiana/Indianapolis:20200307T150000
DTSTAMP:20260420T092508
CREATED:20200115T173758Z
LAST-MODIFIED:20200115T173758Z
UID:10000013-1583571600-1583593200@hendrickscountyparks.org
SUMMARY:Maple Syrup Days
DESCRIPTION:Come share in a true farm-to-table experience. Every year the sugar maple trees at McCloud Nature Park produce sap with a high sugar content. We tap these trees by boring holes in their trunks and when daytime temperatures increase\, sap runs into the attached buckets. Staff and volunteers collect the sap daily\, which is then placed in an evaporator where it is reduced into the delicious maple syrup. It’s an amazing process that visitors can witness and participate in first-hand! \nOur 10th Annual Maple Syrup Days will take place on March 7 and 14\, 2020 from 9 a.m. to 3 p.m. each day. \nThis event is FREE to attend\, appropriate for all ages\, and no advance registration is required. \nThe station presentations begin every 20 minutes\, guided hikes are offered approximately every 30 minutes\, and there is an on-going scavenger hunt and maple syrup story walk. Please allow at least 1 hour to enjoy the festival. \nThe popular Pancake Breakfast Fundraiser organized by the Parks Foundation of Hendricks County is concurrent to the festival. Be sure to reserve your spots at the table! Click here for more information. \nWeather hotline: (317) 718-6111 \nFor more information\, visit: https://hendrickscountyparks.org/programs/maple-syrup-days/
URL:https://hendrickscountyparks.org/event/maple-syrup-days/
LOCATION:McCloud Nature Park\, 8518 Hughes Road\, North Salem\, IN\, 46165\, United States
CATEGORIES:All Programs,Festivals,McCloud Nature Park,Plants and Trees
END:VEVENT
BEGIN:VEVENT
DTSTART;TZID=America/Indiana/Indianapolis:20200314T090000
DTEND;TZID=America/Indiana/Indianapolis:20200314T150000
DTSTAMP:20260420T092508
CREATED:20200115T182648Z
LAST-MODIFIED:20200313T150228Z
UID:10000014-1584176400-1584198000@hendrickscountyparks.org
SUMMARY:CANCELLED - Maple Syrup Days
DESCRIPTION:
URL:https://hendrickscountyparks.org/event/maple-syrup-days-2/
LOCATION:McCloud Nature Park\, 8518 Hughes Road\, North Salem\, IN\, 46165\, United States
CATEGORIES:All Programs,Festivals,McCloud Nature Park,Plants and Trees
END:VEVENT
BEGIN:VEVENT
DTSTART;TZID=America/Indiana/Indianapolis:20200319T130000
DTEND;TZID=America/Indiana/Indianapolis:20200319T150000
DTSTAMP:20260420T092508
CREATED:20200115T172712Z
LAST-MODIFIED:20200317T154542Z
UID:10000015-1584622800-1584630000@hendrickscountyparks.org
SUMMARY:CANCELLED - Homeschool Ecology Series: Forest Ecology
DESCRIPTION:
URL:https://hendrickscountyparks.org/event/homeschool-ecology-series-forest-ecology/
LOCATION:McCloud Nature Park\, 8518 Hughes Road\, North Salem\, IN\, 46165\, United States
CATEGORIES:All Programs,McCloud Nature Park,Plants and Trees
END:VEVENT
BEGIN:VEVENT
DTSTART;TZID=America/Indiana/Indianapolis:20200321T140000
DTEND;TZID=America/Indiana/Indianapolis:20200321T153000
DTSTAMP:20260420T092508
CREATED:20200115T190405Z
LAST-MODIFIED:20200316T132618Z
UID:10000011-1584799200-1584804600@hendrickscountyparks.org
SUMMARY:POSTPONED - Guest Speaker Spotlight: Coffee and Conservation with Jessica Helmbold
DESCRIPTION:Photo credit: Amy Hodson\, used with permission. To view more of Amy’s beautiful photos\, follow Bubbly Birder on Facebook.\n***THIS PROGRAM HAS BEEN POSTPONED DUE TO PUBLIC HEALTH CONCERNS RELATING TO COVID-19 (CORONAVIRUS). IT WILL BE RESCHEDULED AT SOME POINT IN THE FUTURE.*** \n  \nJoin Amos Butler Audubon Society Education Chair and Indy Parks Naturalist\, Jessica Helmbold\, on a discovery of the history of coffee. As you gain a greater appreciation for one of your favorite beverages\, you should also think about how our consumption of this magical brew effects the environment. \nOne of the biggest threats to the environment\, and more specifically to rainforests\, is the clearing of land for the production of staple crops like bananas\, pineapples\, and coffee! Coffee is unique in that it can grow in harmony with the rainforest. But only if you demand it! You can vote with your dollars to support rainforest conservation through the kind of coffee you buy. \nThe Wood Thrush songbird pictured is just one of the many birds that overwinters in Central America and populations are declining\, partially due to shrinking winter habitat. \nAttendees will have an opportunity to sample different varieties of Rainforest Alliance/bird friendly coffees. \nRecommended for adults. \nFREE to attend\, no advance registration needed.
URL:https://hendrickscountyparks.org/event/guest-speaker-spotlight-coffee-and-conservation-with-jessica-helmbold/
LOCATION:McCloud Nature Park\, 8518 Hughes Road\, North Salem\, IN\, 46165\, United States
CATEGORIES:Adult Education,All Programs,Birds,McCloud Nature Park,Wildlife
END:VEVENT
BEGIN:VEVENT
DTSTART;TZID=America/Indiana/Indianapolis:20200321T193000
DTEND;TZID=America/Indiana/Indianapolis:20200321T213000
DTSTAMP:20260420T092508
CREATED:20200115T183731Z
LAST-MODIFIED:20200317T154450Z
UID:10000039-1584819000-1584826200@hendrickscountyparks.org
SUMMARY:CANCELLED - Snowman Burn & Night Hike
DESCRIPTION:
URL:https://hendrickscountyparks.org/event/snowman-burn-night-hike/
LOCATION:McCloud Nature Park\, 8518 Hughes Road\, North Salem\, IN\, 46165\, United States
CATEGORIES:All Programs,Hiking,McCloud Nature Park
END:VEVENT
BEGIN:VEVENT
DTSTART;TZID=America/Indiana/Indianapolis:20200322T130000
DTEND;TZID=America/Indiana/Indianapolis:20200322T160000
DTSTAMP:20260420T092508
CREATED:20200115T185117Z
LAST-MODIFIED:20200317T154628Z
UID:10000026-1584882000-1584892800@hendrickscountyparks.org
SUMMARY:CANCELLED - Scout Sunday: Science Experiments
DESCRIPTION:
URL:https://hendrickscountyparks.org/event/scout-sunday-science-experiments/
LOCATION:McCloud Nature Park\, 8518 Hughes Road\, North Salem\, IN\, 46165\, United States
CATEGORIES:All Programs,McCloud Nature Park
END:VEVENT
BEGIN:VEVENT
DTSTART;TZID=America/Indiana/Indianapolis:20200325T130000
DTEND;TZID=America/Indiana/Indianapolis:20200325T150000
DTSTAMP:20260420T092508
CREATED:20200115T190940Z
LAST-MODIFIED:20200324T184947Z
UID:10000036-1585141200-1585148400@hendrickscountyparks.org
SUMMARY:CANCELLED - Family Fort Building
DESCRIPTION:
URL:https://hendrickscountyparks.org/event/family-fort-building/
LOCATION:McCloud Nature Park\, 8518 Hughes Road\, North Salem\, IN\, 46165\, United States
CATEGORIES:All Programs,McCloud Nature Park,Plants and Trees
END:VEVENT
BEGIN:VEVENT
DTSTART;TZID=America/Indiana/Indianapolis:20200326T130000
DTEND;TZID=America/Indiana/Indianapolis:20200326T150000
DTSTAMP:20260420T092508
CREATED:20200115T192237Z
LAST-MODIFIED:20200324T185037Z
UID:10000007-1585227600-1585234800@hendrickscountyparks.org
SUMMARY:CANCELLED - Grand-Fire
DESCRIPTION:
URL:https://hendrickscountyparks.org/event/grand-fire/
LOCATION:McCloud Nature Park\, 8518 Hughes Road\, North Salem\, IN\, 46165\, United States
CATEGORIES:All Programs,McCloud Nature Park
END:VEVENT
BEGIN:VEVENT
DTSTART;TZID=America/Indiana/Indianapolis:20200327T130000
DTEND;TZID=America/Indiana/Indianapolis:20200327T150000
DTSTAMP:20260420T092508
CREATED:20200115T191252Z
LAST-MODIFIED:20200324T185125Z
UID:10000038-1585314000-1585321200@hendrickscountyparks.org
SUMMARY:CANCELLED - Helpful and Harmful Plants
DESCRIPTION:
URL:https://hendrickscountyparks.org/event/helpful-and-harmful-plants/
LOCATION:McCloud Nature Park\, 8518 Hughes Road\, North Salem\, IN\, 46165\, United States
CATEGORIES:All Programs,McCloud Nature Park,Plants and Trees
END:VEVENT
BEGIN:VEVENT
DTSTART;TZID=America/Indiana/Indianapolis:20200328T140000
DTEND;TZID=America/Indiana/Indianapolis:20200328T150000
DTSTAMP:20260420T092508
CREATED:20200115T184812Z
LAST-MODIFIED:20200324T185259Z
UID:10000018-1585404000-1585407600@hendrickscountyparks.org
SUMMARY:CANCELLED - Nature's Myth Busters
DESCRIPTION:
URL:https://hendrickscountyparks.org/event/natures-myth-busters/
LOCATION:McCloud Nature Park\, 8518 Hughes Road\, North Salem\, IN\, 46165\, United States
CATEGORIES:All Programs,McCloud Nature Park,Wildlife
END:VEVENT
BEGIN:VEVENT
DTSTART;TZID=America/Indiana/Indianapolis:20200401T130000
DTEND;TZID=America/Indiana/Indianapolis:20200401T150000
DTSTAMP:20260420T092508
CREATED:20200115T191059Z
LAST-MODIFIED:20200324T185350Z
UID:10000037-1585746000-1585753200@hendrickscountyparks.org
SUMMARY:CANCELLED - Family Fort Building
DESCRIPTION:
URL:https://hendrickscountyparks.org/event/family-fort-building-2/
LOCATION:McCloud Nature Park\, 8518 Hughes Road\, North Salem\, IN\, 46165\, United States
CATEGORIES:All Programs,McCloud Nature Park,Plants and Trees
END:VEVENT
BEGIN:VEVENT
DTSTART;TZID=America/Indiana/Indianapolis:20200401T140000
DTEND;TZID=America/Indiana/Indianapolis:20200401T160000
DTSTAMP:20260420T092508
CREATED:20200203T150743Z
LAST-MODIFIED:20200324T185441Z
UID:10000063-1585749600-1585756800@hendrickscountyparks.org
SUMMARY:CANCELLED - Park Board Meeting
DESCRIPTION:
URL:https://hendrickscountyparks.org/event/park-board-meeting-3/
LOCATION:HCP&R Main Office\, 4481 Gibbs Rd\, Danville\, IN\, 46122\, United States
CATEGORIES:All Programs
END:VEVENT
BEGIN:VEVENT
DTSTART;TZID=America/Indiana/Indianapolis:20200402T130000
DTEND;TZID=America/Indiana/Indianapolis:20200402T150000
DTSTAMP:20260420T092508
CREATED:20200115T192418Z
LAST-MODIFIED:20200324T185514Z
UID:10000008-1585832400-1585839600@hendrickscountyparks.org
SUMMARY:CANCELLED - Grand-Fire
DESCRIPTION:
URL:https://hendrickscountyparks.org/event/grand-fire-2/
LOCATION:McCloud Nature Park\, 8518 Hughes Road\, North Salem\, IN\, 46165\, United States
CATEGORIES:All Programs,McCloud Nature Park
END:VEVENT
BEGIN:VEVENT
DTSTART;TZID=America/Indiana/Indianapolis:20200403T130000
DTEND;TZID=America/Indiana/Indianapolis:20200403T160000
DTSTAMP:20260420T092508
CREATED:20200115T191408Z
LAST-MODIFIED:20200324T185547Z
UID:10000017-1585918800-1585929600@hendrickscountyparks.org
SUMMARY:CANCELLED - Helpful and Harmful Plants
DESCRIPTION:
URL:https://hendrickscountyparks.org/event/helpful-and-harmful-plants-2/
LOCATION:McCloud Nature Park\, 8518 Hughes Road\, North Salem\, IN\, 46165\, United States
CATEGORIES:All Programs,McCloud Nature Park,Plants and Trees
END:VEVENT
BEGIN:VEVENT
DTSTART;TZID=America/Indiana/Indianapolis:20200404T100000
DTEND;TZID=America/Indiana/Indianapolis:20200404T120000
DTSTAMP:20260420T092508
CREATED:20200115T193126Z
LAST-MODIFIED:20200324T185811Z
UID:10000009-1585994400-1586001600@hendrickscountyparks.org
SUMMARY:CANCELLED - Paper Beads
DESCRIPTION:
URL:https://hendrickscountyparks.org/event/paper-beads/
LOCATION:McCloud Nature Park\, 8518 Hughes Road\, North Salem\, IN\, 46165\, United States
CATEGORIES:All Programs,McCloud Nature Park
END:VEVENT
BEGIN:VEVENT
DTSTART;TZID=America/Indiana/Indianapolis:20200404T140000
DTEND;TZID=America/Indiana/Indianapolis:20200404T150000
DTSTAMP:20260420T092508
CREATED:20200115T193346Z
LAST-MODIFIED:20200324T190654Z
UID:10000035-1586008800-1586012400@hendrickscountyparks.org
SUMMARY:CANCELLED - [un]Frozen Frogs
DESCRIPTION:
URL:https://hendrickscountyparks.org/event/unfrozen-frogs/
LOCATION:McCloud Nature Park\, 8518 Hughes Road\, North Salem\, IN\, 46165\, United States
CATEGORIES:All Programs,Amphibians,McCloud Nature Park,Wildlife
END:VEVENT
BEGIN:VEVENT
DTSTART;VALUE=DATE:20200406
DTEND;VALUE=DATE:20200410
DTSTAMP:20260420T092508
CREATED:20200115T144011Z
LAST-MODIFIED:20200414T193237Z
UID:10000042-1586131200-1586476799@hendrickscountyparks.org
SUMMARY:CANCELLED - Animal Tales: This is the Nest that Robin Built
DESCRIPTION:
URL:https://hendrickscountyparks.org/event/animal-tales-this-is-the-nest-that-robin-built/
LOCATION:IN
CATEGORIES:All Programs,Birds,Wildlife
END:VEVENT
BEGIN:VEVENT
DTSTART;TZID=America/Indiana/Indianapolis:20200408T100000
DTEND;TZID=America/Indiana/Indianapolis:20200408T120000
DTSTAMP:20260420T092508
CREATED:20200115T151039Z
LAST-MODIFIED:20200414T193310Z
UID:10000041-1586340000-1586347200@hendrickscountyparks.org
SUMMARY:CANCELLED - Tadpole Time: Bugs Galore
DESCRIPTION:
URL:https://hendrickscountyparks.org/event/tadpole-time-bugs-galore/
LOCATION:McCloud Nature Park\, 8518 Hughes Road\, North Salem\, IN\, 46165\, United States
CATEGORIES:All Programs,Insects,McCloud Nature Park,Tadpole Time,Wildlife
END:VEVENT
BEGIN:VEVENT
DTSTART;VALUE=DATE:20200410
DTEND;VALUE=DATE:20200411
DTSTAMP:20260420T092508
CREATED:20200115T193659Z
LAST-MODIFIED:20200115T193659Z
UID:10000024-1586476800-1586563199@hendrickscountyparks.org
SUMMARY:Good Friday
DESCRIPTION:Main office and McCloud Nature Center closed.
URL:https://hendrickscountyparks.org/event/good-friday/
LOCATION:IN
CATEGORIES:Holidays
END:VEVENT
BEGIN:VEVENT
DTSTART;TZID=America/Indiana/Indianapolis:20200411T110000
DTEND;TZID=America/Indiana/Indianapolis:20200411T150000
DTSTAMP:20260420T092508
CREATED:20200115T193551Z
LAST-MODIFIED:20200414T193419Z
UID:10000023-1586602800-1586617200@hendrickscountyparks.org
SUMMARY:CANCELLED - EGGstravaganza
DESCRIPTION:
URL:https://hendrickscountyparks.org/event/eggstravaganza/
LOCATION:McCloud Nature Park\, 8518 Hughes Road\, North Salem\, IN\, 46165\, United States
CATEGORIES:All Programs,Hiking,McCloud Nature Park
END:VEVENT
BEGIN:VEVENT
DTSTART;TZID=America/Indiana/Indianapolis:20200417T130000
DTEND;TZID=America/Indiana/Indianapolis:20200417T150000
DTSTAMP:20260420T092508
CREATED:20200115T172945Z
LAST-MODIFIED:20200414T193450Z
UID:10000012-1587128400-1587135600@hendrickscountyparks.org
SUMMARY:CANCELLED - Homeschool Ecology Series: Invasive Species
DESCRIPTION:
URL:https://hendrickscountyparks.org/event/homeschool-ecology-series-invasive-species/
LOCATION:McCloud Nature Park\, 8518 Hughes Road\, North Salem\, IN\, 46165\, United States
CATEGORIES:All Programs,Insects,McCloud Nature Park,Plants and Trees,Wildlife
END:VEVENT
BEGIN:VEVENT
DTSTART;TZID=America/Indiana/Indianapolis:20200418T140000
DTEND;TZID=America/Indiana/Indianapolis:20200418T150000
DTSTAMP:20260420T092508
CREATED:20200218T205840Z
LAST-MODIFIED:20200414T193529Z
UID:10000073-1587218400-1587222000@hendrickscountyparks.org
SUMMARY:CANCELLED - Guest Speaker Spotlight: Climate Crisis and What We Can Do
DESCRIPTION:
URL:https://hendrickscountyparks.org/event/guest-speaker-spotlight-climate-crisis-and-what-we-can-do/
LOCATION:McCloud Nature Park\, 8518 Hughes Road\, North Salem\, IN\, 46165\, United States
CATEGORIES:All Programs,McCloud Nature Park
END:VEVENT
BEGIN:VEVENT
DTSTART;TZID=America/Indiana/Indianapolis:20200426T130000
DTEND;TZID=America/Indiana/Indianapolis:20200426T160000
DTSTAMP:20260420T092509
CREATED:20200115T185419Z
LAST-MODIFIED:20200421T145258Z
UID:10000010-1587906000-1587916800@hendrickscountyparks.org
SUMMARY:CANCELLED - Scout Sunday: Knots & Hiking
DESCRIPTION:
URL:https://hendrickscountyparks.org/event/scout-sunday-knots-hiking/
LOCATION:McCloud Nature Park\, 8518 Hughes Road\, North Salem\, IN\, 46165\, United States
CATEGORIES:All Programs,Hiking,McCloud Nature Park
END:VEVENT
BEGIN:VEVENT
DTSTART;TZID=America/Indiana/Indianapolis:20200502T140000
DTEND;TZID=America/Indiana/Indianapolis:20200502T160000
DTSTAMP:20260420T092509
CREATED:20200324T135429Z
LAST-MODIFIED:20200324T135429Z
UID:10000074-1588428000-1588435200@hendrickscountyparks.org
SUMMARY:Weed Wrangle® at McCloud Nature Park
DESCRIPTION:Take back the woods by pulling garlic mustard – a non-native invasive plant – at McCloud Nature Park! Garlic mustard is taking over forests\, and our native spring wildflowers must compete with it for sunlight\, space\, nutrients\, and water. Bring a water bottle and work gloves\, dress for the weather\, and wear long pants. This is a great opportunity for scout groups! Please call our Weather Hotline at (317) 718-6111 for any weather-related concerns.  \nHIKING TERRAIN INFO: EASY TO MODERATE LEVEL OF DIFFICULTY\, GRAVEL AND NATURAL SURFACES\, UP TO 2 MILES. \nRecommended for ages 6 through adult. \nThis program is FREE to attend and no advance registration is required. \nApproximate program duration: 2 hours.
URL:https://hendrickscountyparks.org/event/weed-wrangle-at-mccloud-nature-park/
LOCATION:McCloud Nature Park\, 8518 Hughes Road\, North Salem\, IN\, 46165\, United States
CATEGORIES:All Programs,McCloud Nature Park,Plants and Trees
END:VEVENT
BEGIN:VEVENT
DTSTART;VALUE=DATE:20200504
DTEND;VALUE=DATE:20200509
DTSTAMP:20260420T092509
CREATED:20200324T144102Z
LAST-MODIFIED:20200504T201744Z
UID:10000078-1588550400-1588982399@hendrickscountyparks.org
SUMMARY:VIRTUAL Animal Tales: Bat Loves the Night
DESCRIPTION:Normally\, our Park Naturalists come to your local library each month to share a story about a native animal and a related craft or activity with preschool through upper elementary age children. This program is FREE to attend. \nHowever\, because of the COVID-19 pandemic\, we are doing a virtual Animal Tales program this month. \nYou can access these virtual materials through Facebook by clicking here. \nMay’s story is Bat Loves the Night by Nicola Davies. \nNight has fallen\, and Bat awakens to find her evening meal. Follow her as she swoops into the shadows\, shouting and flying\, the echoes of her voice creating a sound picture of the world around her. When morning light creeps into the sky\, Bat returns to the roost to feed her baby . . . and to rest until nighttime comes again. Bat loves the night!
URL:https://hendrickscountyparks.org/event/animal-tales-bat-loves-the-night/
LOCATION:IN
CATEGORIES:All Programs,Mammals,Wildlife
END:VEVENT
BEGIN:VEVENT
DTSTART;TZID=America/Indiana/Indianapolis:20200504T130000
DTEND;TZID=America/Indiana/Indianapolis:20200504T150000
DTSTAMP:20260420T092509
CREATED:20200504T194836Z
LAST-MODIFIED:20200504T202155Z
UID:10000080-1588597200-1588604400@hendrickscountyparks.org
SUMMARY:Roving Naturalists on Big Walnut Crossing
DESCRIPTION:Look for the naturalists on Big Walnut Crossing and nearby trails! They may teach you how to identify a plant or an animal call\, show you an animal track\, or reveal any number of other interesting things found in nature! \nThis is canceled in the event of rain\, thunderstorms\, or other inclement weather. The Weather Hotline will not be updated when this is canceled due to weather. \nTrail maps can be found in the brochure rack outside the McCloud Nature Center or by clicking here. \nHiking Terrain Info: varies depending on the trail\, easy to moderate difficulty\, up to 2 miles. \nFree to attend\, registration not required. \nApproximate program duration: 2 hours\, ongoing
URL:https://hendrickscountyparks.org/event/roving-naturalists-on-big-walnut-crossing/
LOCATION:McCloud Nature Park\, 8518 Hughes Road\, North Salem\, IN\, 46165\, United States
CATEGORIES:All Programs,Hiking,McCloud Nature Park
END:VEVENT
BEGIN:VEVENT
DTSTART;TZID=America/Indiana/Indianapolis:20200505T130000
DTEND;TZID=America/Indiana/Indianapolis:20200505T150000
DTSTAMP:20260420T092509
CREATED:20200504T200730Z
LAST-MODIFIED:20200504T202203Z
UID:10000081-1588683600-1588690800@hendrickscountyparks.org
SUMMARY:Roving Naturalists on Overlook Trails
DESCRIPTION:Look for the naturalists on Overlook Trails and nearby trails! They may teach you how to identify a plant or an animal call\, show you an animal track\, or reveal any number of other interesting things found in nature! \nThis is canceled in the event of rain\, thunderstorms\, or other inclement weather. The Weather Hotline will not be updated when this is canceled due to weather. \nTrail maps can be found in the brochure rack outside the McCloud Nature Center or by clicking here. \nHiking Terrain Info: varies depending on the trail\, easy to moderate difficulty\, up to 2 miles. \nFree to attend\, registration not required. \nApproximate program duration: 2 hours\, ongoing
URL:https://hendrickscountyparks.org/event/roving-naturalists-on-overlook-trails/
LOCATION:McCloud Nature Park\, 8518 Hughes Road\, North Salem\, IN\, 46165\, United States
CATEGORIES:All Programs,Hiking,McCloud Nature Park
END:VEVENT
BEGIN:VEVENT
DTSTART;TZID=America/Indiana/Indianapolis:20200506T130000
DTEND;TZID=America/Indiana/Indianapolis:20200506T150000
DTSTAMP:20260420T092509
CREATED:20200504T201056Z
LAST-MODIFIED:20200504T202212Z
UID:10000082-1588770000-1588777200@hendrickscountyparks.org
SUMMARY:Roving Naturalists on Prairie View
DESCRIPTION:Look for the naturalists on Prairie View and nearby trails! They may teach you how to identify a plant or an animal call\, show you an animal track\, or reveal any number of other interesting things found in nature! \nThis is canceled in the event of rain\, thunderstorms\, or other inclement weather. The Weather Hotline will not be updated when this is canceled due to weather. \nTrail maps can be found in the brochure rack outside the McCloud Nature Center or by clicking here. \nHiking Terrain Info: varies depending on the trail\, easy to moderate difficulty\, up to 2 miles. \nFree to attend\, registration not required. \nApproximate program duration: 2 hours\, ongoing
URL:https://hendrickscountyparks.org/event/roving-naturalists-on-prairie-view/
LOCATION:McCloud Nature Park\, 8518 Hughes Road\, North Salem\, IN\, 46165\, United States
CATEGORIES:All Programs,Hiking,McCloud Nature Park
END:VEVENT
BEGIN:VEVENT
DTSTART;TZID=America/Indiana/Indianapolis:20200506T140000
DTEND;TZID=America/Indiana/Indianapolis:20200506T160000
DTSTAMP:20260420T092509
CREATED:20200203T150853Z
LAST-MODIFIED:20200203T150853Z
UID:10000064-1588773600-1588780800@hendrickscountyparks.org
SUMMARY:Park Board Meeting
DESCRIPTION:The Hendricks County Park Board generally meets on the first Wednesday of each month at 2 p.m. at our main office. The occasional modification to that schedule may be made to work around observed holidays. \nAll Park Board meetings are open to the public. \nTo view the meeting schedule\, agendas\, and meeting minutes\, click here.
URL:https://hendrickscountyparks.org/event/park-board-meeting-4/
LOCATION:HCP&R Main Office\, 4481 Gibbs Rd\, Danville\, IN\, 46122\, United States
CATEGORIES:All Programs
END:VEVENT
BEGIN:VEVENT
DTSTART;TZID=America/Indiana/Indianapolis:20200507T130000
DTEND;TZID=America/Indiana/Indianapolis:20200507T150000
DTSTAMP:20260420T092509
CREATED:20200504T202128Z
LAST-MODIFIED:20200504T202220Z
UID:10000083-1588856400-1588863600@hendrickscountyparks.org
SUMMARY:Roving Naturalists on Smallmouth Run
DESCRIPTION:Look for the naturalists on Smallmouth Run and nearby trails! They may teach you how to identify a plant or an animal call\, show you an animal track\, or reveal any number of other interesting things found in nature! \nThis is canceled in the event of rain\, thunderstorms\, or other inclement weather. The Weather Hotline will not be updated when this is canceled due to weather. \nTrail maps can be found in the brochure rack outside the McCloud Nature Center or by clicking here. \nHiking Terrain Info: varies depending on the trail\, easy to moderate difficulty\, up to 2 miles. \nFree to attend\, registration not required. \nApproximate program duration: 2 hours\, ongoing
URL:https://hendrickscountyparks.org/event/roving-naturalists-on-smallmouth-run/
LOCATION:McCloud Nature Park\, 8518 Hughes Road\, North Salem\, IN\, 46165\, United States
CATEGORIES:All Programs,Hiking,McCloud Nature Park
END:VEVENT
END:VCALENDAR