BEGIN:VCALENDAR
VERSION:2.0
PRODID:-//Hendricks County Parks &amp; Recreation - ECPv6.15.20//NONSGML v1.0//EN
CALSCALE:GREGORIAN
METHOD:PUBLISH
X-WR-CALNAME:Hendricks County Parks &amp; Recreation
X-ORIGINAL-URL:https://hendrickscountyparks.org
X-WR-CALDESC:Events for Hendricks County Parks &amp; Recreation
REFRESH-INTERVAL;VALUE=DURATION:PT1H
X-Robots-Tag:noindex
X-PUBLISHED-TTL:PT1H
BEGIN:VTIMEZONE
TZID:America/Indiana/Indianapolis
BEGIN:DAYLIGHT
TZOFFSETFROM:-0500
TZOFFSETTO:-0400
TZNAME:EDT
DTSTART:20230312T070000
END:DAYLIGHT
BEGIN:STANDARD
TZOFFSETFROM:-0400
TZOFFSETTO:-0500
TZNAME:EST
DTSTART:20231105T060000
END:STANDARD
BEGIN:DAYLIGHT
TZOFFSETFROM:-0500
TZOFFSETTO:-0400
TZNAME:EDT
DTSTART:20240310T070000
END:DAYLIGHT
BEGIN:STANDARD
TZOFFSETFROM:-0400
TZOFFSETTO:-0500
TZNAME:EST
DTSTART:20241103T060000
END:STANDARD
BEGIN:DAYLIGHT
TZOFFSETFROM:-0500
TZOFFSETTO:-0400
TZNAME:EDT
DTSTART:20250309T070000
END:DAYLIGHT
BEGIN:STANDARD
TZOFFSETFROM:-0400
TZOFFSETTO:-0500
TZNAME:EST
DTSTART:20251102T060000
END:STANDARD
END:VTIMEZONE
BEGIN:VEVENT
DTSTART;TZID=America/Indiana/Indianapolis:20241207T100000
DTEND;TZID=America/Indiana/Indianapolis:20241207T120000
DTSTAMP:20260424T082931
CREATED:20240808T151651Z
LAST-MODIFIED:20240808T151651Z
UID:10000781-1733565600-1733572800@hendrickscountyparks.org
SUMMARY:Christmas Cheer: Coffee & Canvas
DESCRIPTION:Join us in welcoming Creative Gatherings with Sherri and make your favorite person the perfect Homemade gift! Also\, enjoy a great cup of joe from Cabin Coffee Company! The $35.00 fee includes everything you need for the painting class\, a Cabin Company coffee or cocoa\, and a muffin or cinnamon roll. \nRECOMMENDED FOR ALL AGES \nFEE: $35/PERSON \nADVANCE REGISTRATION REQUIRED BY NOV. 30 AT: https://hcparks.recdesk.com/Community/Program/Detail?programId=885 \nAPPROXIMATE PROGRAM DURATION: 2 HOURS
URL:https://hendrickscountyparks.org/event/christmas-cheer-coffee-canvas/
LOCATION:McCloud Nature Park\, 8518 Hughes Road\, North Salem\, IN\, 46165\, United States
CATEGORIES:All Programs,McCloud Nature Park
ATTACH;FMTTYPE=image/png:https://hendrickscountyparks.org/wp-content/uploads/2024/08/Christmas-Cheer-Coffee-Canvas.png
ORGANIZER;CN="Creative Gatherings with Sherri":MAILTO:creativegatheringswithsherri@gmail.com
END:VEVENT
BEGIN:VEVENT
DTSTART;TZID=America/Indiana/Indianapolis:20241214T113000
DTEND;TZID=America/Indiana/Indianapolis:20241214T163000
DTSTAMP:20260424T082931
CREATED:20240808T152546Z
LAST-MODIFIED:20240808T152623Z
UID:10000782-1734175800-1734193800@hendrickscountyparks.org
SUMMARY:Winter Wreath Workshops
DESCRIPTION:Make holiday memories while creating a wreath to adorn your home or to give as a gift. We will start with wild grapevine and fresh evergreens to assemble the wreath\, and then decorate with ribbon and ornaments that we supply (or bring your own). This program is a favorite for individuals and families\, so register early! \nRECOMMENDED FOR AGES 6 THROUGH ADULT \nFEE:  $20/WREATH (UP TO 2 PEOPLE PER WREATH) \nADVANCE REGISTRATION REQUIRED BY DEC. 7 AT: \n\n11:30 AM.: https://hcparks.recdesk.com/Community/Program/Detail?programId=886\n1 P.M.: https://hcparks.recdesk.com/Community/Program/Detail?programId=887\n2:30 P.M.: https://hcparks.recdesk.com/Community/Program/Detail?programId=888\n3:30 P.M.: https://hcparks.recdesk.com/Community/Program/Detail?programId=889\n\nAPPROXIMATE PROGRAM DURATION:  1 HOUR
URL:https://hendrickscountyparks.org/event/winter-wreath-workshops-3/
LOCATION:McCloud Nature Park\, 8518 Hughes Road\, North Salem\, IN\, 46165\, United States
CATEGORIES:All Programs,McCloud Nature Park
ATTACH;FMTTYPE=image/png:https://hendrickscountyparks.org/wp-content/uploads/2024/08/Winter-Wreath-Workshops.png
END:VEVENT
BEGIN:VEVENT
DTSTART;TZID=America/Indiana/Indianapolis:20241218T100000
DTEND;TZID=America/Indiana/Indianapolis:20241218T113000
DTSTAMP:20260424T082931
CREATED:20240808T155118Z
LAST-MODIFIED:20240808T155118Z
UID:10000785-1734516000-1734521400@hendrickscountyparks.org
SUMMARY:Tadpole Time: The Mystery of the Missing Flyers
DESCRIPTION:Where did all our bird friends go? Help our Naturalist solve the mystery of our missing feathered friends! We will look for clues in migration patterns and where the year-round residents live! Help us solve this “Who Done it” and see who flew the coop! \n***PLEASE NOTE: THIS PROGRAM IS AT MCCLOUD NATURE PARK! \nRECOMMENDED FOR AGES 2-7 WITH PARENT OR GUARDIAN (THIS IS NOT A DROP-OFF PROGRAM). OLDER SIBLINGS\, AGES 6-7\, ARE WELCOME TO REGISTER AND PARTICIPATE\, TOO. \nFEE: $3/CHILD (PARENT/GUARDIAN IS FREE). \nADVANCE REGISTRATION REQUIRED BY DEC. 11 AT: https://hcparks.recdesk.com/Community/Program/Detail?programId=890 \nAPPROXIMATE PROGRAM DURATION: 1.5 HOURS.
URL:https://hendrickscountyparks.org/event/tadpole-time-the-mystery-of-the-missing-flyers/
LOCATION:McCloud Nature Park\, 8518 Hughes Road\, North Salem\, IN\, 46165\, United States
CATEGORIES:All Programs,Birds,McCloud Nature Park,Tadpole Time,Wildlife
ATTACH;FMTTYPE=image/png:https://hendrickscountyparks.org/wp-content/uploads/2024/08/Granny-McCloud-3.png
END:VEVENT
BEGIN:VEVENT
DTSTART;TZID=America/Indiana/Indianapolis:20241219T100000
DTEND;TZID=America/Indiana/Indianapolis:20241219T113000
DTSTAMP:20260424T082932
CREATED:20240808T155415Z
LAST-MODIFIED:20240808T155424Z
UID:10000786-1734602400-1734607800@hendrickscountyparks.org
SUMMARY:Tadpole Time: The Mystery of the Missing Flyers
DESCRIPTION:Where did all our bird friends go? Help our Naturalist solve the mystery of our missing feathered friends! We will look for clues in migration patterns and where the year-round residents live! Help us solve this “Who Done it” and see who flew the coop! \nRECOMMENDED FOR AGES 2-7 WITH PARENT OR GUARDIAN (THIS IS NOT A DROP-OFF PROGRAM). OLDER SIBLINGS\, AGES 6-7\, ARE WELCOME TO REGISTER AND PARTICIPATE\, TOO. \nFEE: $3/CHILD (PARENT/GUARDIAN IS FREE). \nADVANCE REGISTRATION REQUIRED BY DEC. 12 AT: https://hcparks.recdesk.com/Community/Program/Detail?programId=891 \nAPPROXIMATE PROGRAM DURATION: 1.5 HOURS.
URL:https://hendrickscountyparks.org/event/tadpole-time-the-mystery-of-the-missing-flyers-2/
LOCATION:McCloud Nature Park\, 8518 Hughes Road\, North Salem\, IN\, 46165\, United States
CATEGORIES:All Programs,Birds,McCloud Nature Park,Tadpole Time,Wildlife
ATTACH;FMTTYPE=image/png:https://hendrickscountyparks.org/wp-content/uploads/2024/08/Granny-McCloud-3.png
END:VEVENT
BEGIN:VEVENT
DTSTART;TZID=America/Indiana/Indianapolis:20241220T100000
DTEND;TZID=America/Indiana/Indianapolis:20241220T120000
DTSTAMP:20260424T082932
CREATED:20240808T154145Z
LAST-MODIFIED:20240808T154145Z
UID:10000784-1734688800-1734696000@hendrickscountyparks.org
SUMMARY:Homeschool Ecology: Hibernate or Migrate! Indiana Winter Exploration
DESCRIPTION:Let’s delve into the fascinating world of winter survival strategies among our furry and feathered companions. As the cold season settles in\, these remarkable creatures employ diverse tactics to brave the elements. Some animals retreat to snug burrows\, like bats and groundhogs\, to hibernate. Others like to go on a vacation during the winter like butterflies and birds\, to migrate. Don’t miss this chance to learn all about the animal world during the winter! \nRECOMMENDED FOR AGES 6-11 WITH PARENT OR GUARDIAN. SIBLINGS ARE WELCOME TO PARTICIPATE\, TOO \nFEE: $10/CHILD (PARENT/GUARDIAN IS FREE) \nADVANCE REGISTRATION REQUIRED BY DEC. 13 AT: https://hcparks.recdesk.com/Community/Program/Detail?programId=892 \nAPPROXIMATE PROGRAM DURATION: 2 HOURS.
URL:https://hendrickscountyparks.org/event/homeschool-ecology-hibernate-or-migrate-indiana-winter-exploration/
LOCATION:McCloud Nature Park\, 8518 Hughes Road\, North Salem\, IN\, 46165\, United States
CATEGORIES:All Programs,McCloud Nature Park,Wildlife
ATTACH;FMTTYPE=image/png:https://hendrickscountyparks.org/wp-content/uploads/2024/08/Granny-McCloud-2.png
END:VEVENT
BEGIN:VEVENT
DTSTART;VALUE=DATE:20241224
DTEND;VALUE=DATE:20241225
DTSTAMP:20260424T082932
CREATED:20240805T154157Z
LAST-MODIFIED:20240805T154157Z
UID:10000757-1734998400-1735084799@hendrickscountyparks.org
SUMMARY:Christmas Eve
DESCRIPTION:Main office closed.
URL:https://hendrickscountyparks.org/event/christmas-eve-4/
CATEGORIES:Holidays
ATTACH;FMTTYPE=image/jpeg:https://hendrickscountyparks.org/wp-content/uploads/2020/01/Christmas-Eve.jpg
END:VEVENT
BEGIN:VEVENT
DTSTART;VALUE=DATE:20241225
DTEND;VALUE=DATE:20241226
DTSTAMP:20260424T082932
CREATED:20240805T154259Z
LAST-MODIFIED:20240805T154259Z
UID:10000758-1735084800-1735171199@hendrickscountyparks.org
SUMMARY:Christmas Day
DESCRIPTION:Main office closed.
URL:https://hendrickscountyparks.org/event/christmas-day-4/
CATEGORIES:Holidays
ATTACH;FMTTYPE=image/jpeg:https://hendrickscountyparks.org/wp-content/uploads/2017/11/Santa-Claus.jpg
END:VEVENT
BEGIN:VEVENT
DTSTART;TZID=America/Indiana/Indianapolis:20241228T083000
DTEND;TZID=America/Indiana/Indianapolis:20241228T170000
DTSTAMP:20260424T082932
CREATED:20240808T153229Z
LAST-MODIFIED:20240808T153229Z
UID:10000783-1735374600-1735405200@hendrickscountyparks.org
SUMMARY:Jamestown Area Christmas Bird Count
DESCRIPTION:Add to a century of citizen science data by participating in the Jamestown area bird count! With experienced birder Roger Hedge and others\, you will count all birds heard and seen. This data will be compiled by the Audubon Society and will be used by scientists to measure bird populations. Birders of all levels are welcome to participate. \nDress for the weather\, wear comfortable shoes or boots\, bring water\, snacks\, and binoculars and a bird field guide if you have them. Heated restrooms are available at the McCloud Nature Center. \nCount birds at McCloud Nature Park for several hours in the morning and then continue to cover the rest of the Jamestown area if you wish. \nContact Roger Hedge at 317-473-3222 (cell) or rogerlhedge@gmail.com for more information.
URL:https://hendrickscountyparks.org/event/jamestown-area-christmas-bird-count-4/
LOCATION:McCloud Nature Park\, 8518 Hughes Road\, North Salem\, IN\, 46165\, United States
CATEGORIES:All Programs,Birds,Hiking,McCloud Nature Park,Wildlife
ATTACH;FMTTYPE=image/png:https://hendrickscountyparks.org/wp-content/uploads/2024/08/Jamestown-Area-Christmas-Bird-Count.png
ORGANIZER;CN="Roger Hedge":MAILTO:rogerlhedge@gmail.com
END:VEVENT
END:VCALENDAR