BEGIN:VCALENDAR
VERSION:2.0
PRODID:-//Hendricks County Parks &amp; Recreation - ECPv6.15.20//NONSGML v1.0//EN
CALSCALE:GREGORIAN
METHOD:PUBLISH
X-ORIGINAL-URL:https://hendrickscountyparks.org
X-WR-CALDESC:Events for Hendricks County Parks &amp; Recreation
REFRESH-INTERVAL;VALUE=DURATION:PT1H
X-Robots-Tag:noindex
X-PUBLISHED-TTL:PT1H
BEGIN:VTIMEZONE
TZID:America/Indiana/Indianapolis
BEGIN:DAYLIGHT
TZOFFSETFROM:-0500
TZOFFSETTO:-0400
TZNAME:EDT
DTSTART:20240310T070000
END:DAYLIGHT
BEGIN:STANDARD
TZOFFSETFROM:-0400
TZOFFSETTO:-0500
TZNAME:EST
DTSTART:20241103T060000
END:STANDARD
BEGIN:DAYLIGHT
TZOFFSETFROM:-0500
TZOFFSETTO:-0400
TZNAME:EDT
DTSTART:20250309T070000
END:DAYLIGHT
BEGIN:STANDARD
TZOFFSETFROM:-0400
TZOFFSETTO:-0500
TZNAME:EST
DTSTART:20251102T060000
END:STANDARD
BEGIN:DAYLIGHT
TZOFFSETFROM:-0500
TZOFFSETTO:-0400
TZNAME:EDT
DTSTART:20260308T070000
END:DAYLIGHT
BEGIN:STANDARD
TZOFFSETFROM:-0400
TZOFFSETTO:-0500
TZNAME:EST
DTSTART:20261101T060000
END:STANDARD
END:VTIMEZONE
BEGIN:VEVENT
DTSTART;TZID=America/Indiana/Indianapolis:20250403T100000
DTEND;TZID=America/Indiana/Indianapolis:20250403T140000
DTSTAMP:20260423T030209
CREATED:20241122T183715Z
LAST-MODIFIED:20241122T183715Z
UID:10000798-1743674400-1743688800@hendrickscountyparks.org
SUMMARY:Salamander Safari Spring Break Camp
DESCRIPTION:Join us for Salamander Safari during the peak of amphibian spawning season! Campers will embark on a thrilling adventure searching for salamanders and other amphibians and observing their fascinating behaviors. We’ll learn about their life cycles and the importance of preserving their ecosystems. It’s a hands-on\, muddy\, and unforgettable experience in the heart of nature. Dress for the weather! \nRECOMMENDED FOR AGES 6-15 \nFEE: $20/PERSON \nADVANCE REGISTRATION REQUIRED BY MARCH 13 AT: https://hcparks.recdesk.com/Community/Program/Detail?programId=904 \nAPPROXIMATE PROGRAM DURATION: 4 HOURS
URL:https://hendrickscountyparks.org/event/salamander-safari-spring-break-camp-2/
LOCATION:McCloud Nature Park\, 8518 Hughes Road\, North Salem\, IN\, 46165\, United States
CATEGORIES:All Programs,Amphibians,Day Camps,McCloud Nature Park,Teens,Wildlife
ATTACH;FMTTYPE=image/jpeg:https://hendrickscountyparks.org/wp-content/uploads/2024/11/Salamander-Safari-Spring-Break-Camp-April-3.jpg
END:VEVENT
BEGIN:VEVENT
DTSTART;TZID=America/Indiana/Indianapolis:20250412T200000
DTEND;TZID=America/Indiana/Indianapolis:20250412T220000
DTSTAMP:20260423T030209
CREATED:20241127T171943Z
LAST-MODIFIED:20241127T171943Z
UID:10000799-1744488000-1744495200@hendrickscountyparks.org
SUMMARY:Mystery by Moonlight: A Glo Egg Scavenger Hunt
DESCRIPTION:Bunny was jealous of his Halloween pals in the Town of Haunted Hallows. Why do all their things glow in the dark?! So Bunny devised his very own glowing goodies at and spread them throughout W.S. Gibbs Memorial Park! Will you be able to follow Bunny’s trail? He’s hidden glowing eggs along Walnut Walkway and around the ponds. Each egg has a clue that will lead you to either a trick or a treat! We will also have some cool glow in the dark crafts and fun! (NOTE: This egg hunt is a night hike\, so it is geared toward tweens\, teens and adults with questions that may be harder for some younger folks to answer. However\, ALL ages are welcome.) \nHiking terrain info: moderate level of difficulty\, mostly flat gravel and paved trails at night\, up to 0.5 mile. \nAPPROPRIATE FOR ALL AGES \nFEE: $10/PERSON \nADVANCE REGISTRATION REQUIRED BY APRIL 9 AT: https://hcparks.recdesk.com/Community/Program/Detail?programId=909 \nAPPROXIMATE PROGRAM DURATION: 2 HOURS
URL:https://hendrickscountyparks.org/event/mystery-by-moonlight-a-glo-egg-scavenger-hunt/
LOCATION:W.S. Gibbs Memorial Park\, 4521 Gibbs Road\, Danville\, IN\, 46122\, United States
CATEGORIES:All Programs,Teens,W.S. Gibbs Memorial Park
ATTACH;FMTTYPE=image/png:https://hendrickscountyparks.org/wp-content/uploads/2024/11/Mystery-by-Moonlight.png
END:VEVENT
BEGIN:VEVENT
DTSTART;TZID=America/Indiana/Indianapolis:20250416T100000
DTEND;TZID=America/Indiana/Indianapolis:20250416T113000
DTSTAMP:20260423T030209
CREATED:20241202T203412Z
LAST-MODIFIED:20241202T203633Z
UID:10000811-1744797600-1744803000@hendrickscountyparks.org
SUMMARY:TADPOLE TIME: Wacky Worms
DESCRIPTION:What do you think about our wiggly worms that live in the ground? Did you know these little guys make a big difference in our ecosystem? Come explore the wonders of worms and dig up the truth about these soil-dwelling invertebrates. Come dressed to be warm and to get messy in the mud.\n \nRecommended for ages 2-5 years old with parent/guardian (older siblings ages 6-7 are welcome to register also if they want to participate).\n \nOnly $3 per child! Advance registration is required by April 9 at: https://hcparks.recdesk.com/Community/Program/Detail?programId=920\n \nFor any questions or assistance with registration\, please email mccloudnp@hcparks.net or call (765) 676-5437.
URL:https://hendrickscountyparks.org/event/tadpole-time-wacky-worms/
LOCATION:W.S. Gibbs Memorial Park\, 4521 Gibbs Road\, Danville\, IN\, 46122\, United States
CATEGORIES:All Programs,Insects,Tadpole Time,W.S. Gibbs Memorial Park,Wildlife
ATTACH;FMTTYPE=image/png:https://hendrickscountyparks.org/wp-content/uploads/2024/12/Untitled-design-31.png
END:VEVENT
BEGIN:VEVENT
DTSTART;TZID=America/Indiana/Indianapolis:20250417T100000
DTEND;TZID=America/Indiana/Indianapolis:20250417T113000
DTSTAMP:20260423T030209
CREATED:20241202T203552Z
LAST-MODIFIED:20241202T203611Z
UID:10000812-1744884000-1744889400@hendrickscountyparks.org
SUMMARY:TADPOLE TIME: Wacky Worms
DESCRIPTION:What do you think about our wiggly worms that live in the ground? Did you know these little guys make a big difference in our ecosystem? Come explore the wonders of worms and dig up the truth about these soil-dwelling invertebrates. Come dressed to be warm and to get messy in the mud.\n \nRecommended for ages 2-5 years old with parent/guardian (older siblings ages 6-7 are welcome to register also if they want to participate).\n \nOnly $3 per child! Advance registration is required by April 9 at: https://hcparks.recdesk.com/Community/Program/Detail?programId=921\n \nFor any questions or assistance with registration\, please email mccloudnp@hcparks.net or call (765) 676-5437.
URL:https://hendrickscountyparks.org/event/tadpole-time-wacky-worms-2/
LOCATION:McCloud Nature Park\, 8518 Hughes Road\, North Salem\, IN\, 46165\, United States
CATEGORIES:All Programs,Insects,McCloud Nature Park,Tadpole Time,Wildlife
ATTACH;FMTTYPE=image/png:https://hendrickscountyparks.org/wp-content/uploads/2024/12/Untitled-design-31.png
END:VEVENT
BEGIN:VEVENT
DTSTART;TZID=America/Indiana/Indianapolis:20250419T130000
DTEND;TZID=America/Indiana/Indianapolis:20250419T140000
DTSTAMP:20260423T030209
CREATED:20241127T172419Z
LAST-MODIFIED:20241127T172419Z
UID:10000800-1745067600-1745071200@hendrickscountyparks.org
SUMMARY:Coatesville Community Egg Hunt
DESCRIPTION:Join the Park Naturalists at the Coatesville trailhead of the Vandalia Trail as we host our 2nd Annual Community Easter Egg Hunt! There will be eggs hidden for three age groups\, and you could win one of six (6) Easter baskets! Hope to see you there! \nAPPROPRIATE FOR ALL AGES \nFREE TO ATTEND \nNO REGISTRATION REQUIRED
URL:https://hendrickscountyparks.org/event/coatesville-community-egg-hunt/
LOCATION:Vandalia Trail – Coatesville Trailhead\, 7963 Main Street\, Coatesville\, IN\, 46121\, United States
CATEGORIES:All Programs,Vandalia Trail
ATTACH;FMTTYPE=image/jpeg:https://hendrickscountyparks.org/wp-content/uploads/2024/11/Community-Easter-Egg-Hunt.jpg
END:VEVENT
BEGIN:VEVENT
DTSTART;TZID=America/Indiana/Indianapolis:20250423T123000
DTEND;TZID=America/Indiana/Indianapolis:20250423T133000
DTSTAMP:20260423T030209
CREATED:20241202T205617Z
LAST-MODIFIED:20241202T205617Z
UID:10000816-1745411400-1745415000@hendrickscountyparks.org
SUMMARY:SENIOR CENTER: Reruns\, Reruns\, Reruns
DESCRIPTION:Recycling isn’t a new concept\, but it isn’t a well understood one either. Let us help you learn what can and can’t be recycled. We will look at what we all use every day and that we may not even know is a recycled product. We will also look at the many ways you can recycle in your daily life!
URL:https://hendrickscountyparks.org/event/senior-center-reruns-reruns-reruns/
LOCATION:Hendricks County Senior Services\, 1201 Sycamore Lane\, Danville\, IN\, 46122\, United States
CATEGORIES:All Programs,Seniors
ATTACH;FMTTYPE=image/jpeg:https://hendrickscountyparks.org/wp-content/uploads/2024/11/iStock-1253713039-1-1-1024x683-1.jpeg
END:VEVENT
BEGIN:VEVENT
DTSTART;TZID=America/Indiana/Indianapolis:20250425T100000
DTEND;TZID=America/Indiana/Indianapolis:20250425T140000
DTSTAMP:20260423T030209
CREATED:20241127T194335Z
LAST-MODIFIED:20241127T194335Z
UID:10000804-1745575200-1745589600@hendrickscountyparks.org
SUMMARY:Homeschool Ecology: Wondrous Wildflowers
DESCRIPTION:Indiana has one of the most beautiful displays of wildflowers! Although it’s pretty cold\, we should see some signs of life starting to pop through! Either way\, we will learn how to identify wildflowers! *Program includes approximately ½ mile walk on natural surfaces. * \nRECOMMENDED FOR AGES 6-11 WITH PARENT OR GUARDIAN. SIBLINGS ARE WELCOME TO PARTICIPATE\, TOO. \nFEE: $10/CHILD (PARENT/GUARDIAN IS FREE). \nADVANCE REGISTRATION REQUIRED BY APRIL 11 AT: https://hcparks.recdesk.com/Community/Program/Detail?programId=912 \nAPPROXIMATE PROGRAM DURATION: 2 HOURS.
URL:https://hendrickscountyparks.org/event/homeschool-ecology-wondrous-wildflowers/
LOCATION:McCloud Nature Park\, 8518 Hughes Road\, North Salem\, IN\, 46165\, United States
CATEGORIES:All Programs,McCloud Nature Park,Plants and Trees
ATTACH;FMTTYPE=image/png:https://hendrickscountyparks.org/wp-content/uploads/2024/11/Winter-Spring-2025-graphics-7.png
END:VEVENT
BEGIN:VEVENT
DTSTART;TZID=America/Indiana/Indianapolis:20250426T083000
DTEND;TZID=America/Indiana/Indianapolis:20250426T103000
DTSTAMP:20260423T030209
CREATED:20250113T201013Z
LAST-MODIFIED:20250113T201013Z
UID:10000818-1745656200-1745663400@hendrickscountyparks.org
SUMMARY:W.S. Gibbs Earth K Run/Walk 5K/10K
DESCRIPTION:Celebrate Earth Day with Hendricks County Parks & Recreation running/walking the beautiful W.S. Gibbs Park trails. Join us for a competitive race or a fun run/walk and start the spring off on the right foot. After the professionally timed race\, stick around for fun in the park for the whole family!\n \n5K: $20/person10K: $30/person\n \nRegister at: https://runsignup.com/Race/IN/Danville/McCloudMapleSapRun
URL:https://hendrickscountyparks.org/event/w-s-gibbs-earth-k-run-walk-5k-10k/
LOCATION:W.S. Gibbs Memorial Park\, 4521 Gibbs Road\, Danville\, IN\, 46122\, United States
CATEGORIES:All Programs,W.S. Gibbs Memorial Park
ATTACH;FMTTYPE=image/png:https://hendrickscountyparks.org/wp-content/uploads/2024/11/Earth-K-5K-10K.png
END:VEVENT
END:VCALENDAR