BEGIN:VCALENDAR
VERSION:2.0
PRODID:-//Hendricks County Parks &amp; Recreation - ECPv6.15.20//NONSGML v1.0//EN
CALSCALE:GREGORIAN
METHOD:PUBLISH
X-WR-CALNAME:Hendricks County Parks &amp; Recreation
X-ORIGINAL-URL:https://hendrickscountyparks.org
X-WR-CALDESC:Events for Hendricks County Parks &amp; Recreation
REFRESH-INTERVAL;VALUE=DURATION:PT1H
X-Robots-Tag:noindex
X-PUBLISHED-TTL:PT1H
BEGIN:VTIMEZONE
TZID:America/Indiana/Indianapolis
BEGIN:DAYLIGHT
TZOFFSETFROM:-0500
TZOFFSETTO:-0400
TZNAME:EDT
DTSTART:20240310T070000
END:DAYLIGHT
BEGIN:STANDARD
TZOFFSETFROM:-0400
TZOFFSETTO:-0500
TZNAME:EST
DTSTART:20241103T060000
END:STANDARD
BEGIN:DAYLIGHT
TZOFFSETFROM:-0500
TZOFFSETTO:-0400
TZNAME:EDT
DTSTART:20250309T070000
END:DAYLIGHT
BEGIN:STANDARD
TZOFFSETFROM:-0400
TZOFFSETTO:-0500
TZNAME:EST
DTSTART:20251102T060000
END:STANDARD
BEGIN:DAYLIGHT
TZOFFSETFROM:-0500
TZOFFSETTO:-0400
TZNAME:EDT
DTSTART:20260308T070000
END:DAYLIGHT
BEGIN:STANDARD
TZOFFSETFROM:-0400
TZOFFSETTO:-0500
TZNAME:EST
DTSTART:20261101T060000
END:STANDARD
END:VTIMEZONE
BEGIN:VEVENT
DTSTART;TZID=America/Indiana/Indianapolis:20250802T090000
DTEND;TZID=America/Indiana/Indianapolis:20250802T140000
DTSTAMP:20260423T061614
CREATED:20250317T193019Z
LAST-MODIFIED:20250317T193019Z
UID:10000825-1754125200-1754143200@hendrickscountyparks.org
SUMMARY:Farmer's Park-Et
DESCRIPTION:Come out to W.S. Gibbs Memorial Park this summer for our Farmer’s Park-Et event\, where you will find local artisans\, fresh seasonal produce\, and homemade goods available for purchase from local vendors! Last year’s event was such a big hit that we’re doing it THREE times this year!\n \nAPPROPRIATE FOR ALL AGESFREE TO ATTENDNO ADVANCE REGISTRATION REQUIREDAPPROXIMATE PROGRAM DURATION: 5 HOURS (ONGOING)\n \nVendor space is $20 for a 10’x10′ spot. If you would like to arrange booth space at this event\, contact us at mccloudnp@hcparks.net or (765) 676-5437.
URL:https://hendrickscountyparks.org/event/farmers-park-et-2/
LOCATION:W.S. Gibbs Memorial Park\, 4521 Gibbs Road\, Danville\, IN\, 46122\, United States
CATEGORIES:All Programs,W.S. Gibbs Memorial Park
ATTACH;FMTTYPE=image/jpeg:https://hendrickscountyparks.org/wp-content/uploads/2025/03/Farmers-Park-Et.jpg
END:VEVENT
BEGIN:VEVENT
DTSTART;TZID=America/Indiana/Indianapolis:20250806T130000
DTEND;TZID=America/Indiana/Indianapolis:20250806T150000
DTSTAMP:20260423T061614
CREATED:20250318T152723Z
LAST-MODIFIED:20250318T152723Z
UID:10000846-1754485200-1754492400@hendrickscountyparks.org
SUMMARY:Yard Games
DESCRIPTION:Get ready for an afternoon of fun and friendly competition at our Yard Games Extravaganza! We’ll have a variety of classic and exciting yard games set up for you to enjoy\, from cornhole and giant Jenga to kickball and frisbee. Bring your friends and family for a fun-filled day of outdoor play and entertainment. Everyone is welcome\, so come join us for some sunshine\, games\, and great memories! \nAPPROPRIATE FOR ALL AGES \nFREE TO ATTEND \nNO ADVANCE REGISTRATION REQUIRED \nAPPROXIMATE PROGRAM DURATION: 2 HOURS (ONGOING)
URL:https://hendrickscountyparks.org/event/yard-games-3/
LOCATION:McCloud Nature Park\, 8518 Hughes Road\, North Salem\, IN\, 46165\, United States
CATEGORIES:All Programs,Games,McCloud Nature Park
ATTACH;FMTTYPE=image/jpeg:https://hendrickscountyparks.org/wp-content/uploads/2025/03/Yard-Games.jpg
END:VEVENT
BEGIN:VEVENT
DTSTART;TZID=America/Indiana/Indianapolis:20250806T163000
DTEND;TZID=America/Indiana/Indianapolis:20250806T183000
DTSTAMP:20260423T061614
CREATED:20250318T160719Z
LAST-MODIFIED:20250318T201640Z
UID:10000858-1754497800-1754505000@hendrickscountyparks.org
SUMMARY:Summer Fun Run
DESCRIPTION:The Parks Foundation of Hendricks County’s Summer Fun Run Series is back for 2025! Enjoy an untimed stroll or run with family and friends at your convenience anytime between Aug. 6 and Aug. 12 on the Vandalia Trail! Start at the Amo trailhead. We will offer a short and a long course to run or walk on the paved trail\, which is ideal for wheelchairs\, standard strollers\, bicycles\, scooters\, and roller blades/skates. On Aug. 6 between 4:30 and 6:30 p.m.\, we’ll have staff on-site with ice cold water for you to cool down with when you’re done if you’d like to complete your run or walk at that time. \nAPPROPRIATE FOR ALL AGES  \nVISIT https://runsignup.com/Race/IN/Danville/ParksFoundationofHendricksCountySummerFunRunSeries FOR REGISTRATION INFORMATION \nAPPROXIMATE PROGRAM DURATION: 2 HOURS (ONGOING) \n (Photo by Parks Foundation of Hendricks County)
URL:https://hendrickscountyparks.org/event/summer-fun-run-11/
LOCATION:Vandalia Trail – Amo Trailhead\, 5042 South Street\, Amo\, IN\, 46103\, United States
CATEGORIES:All Programs,Summer Fun Run Series,Vandalia Trail
ATTACH;FMTTYPE=image/jpeg:https://hendrickscountyparks.org/wp-content/uploads/2025/03/Summer-Fun-Run-Vandalia-Trail-CREDIT-PFOHC.jpg
ORGANIZER;CN="Parks Foundation of Hendricks County":MAILTO:katy@pfohc.org
END:VEVENT
BEGIN:VEVENT
DTSTART;TZID=America/Indiana/Indianapolis:20250807T170000
DTEND;TZID=America/Indiana/Indianapolis:20250807T190000
DTSTAMP:20260423T061614
CREATED:20250318T163003Z
LAST-MODIFIED:20250318T163003Z
UID:10000863-1754586000-1754593200@hendrickscountyparks.org
SUMMARY:Board Game Blitz
DESCRIPTION:Join us at W.S. Gibbs Memorial Park for an evening of board games and cards! Whether you’re a master of games or just like to have fun\, you’re sure to find something that fits your interests. Have a unique game that you love to play? Bring it and show off your skills! \nAPPROPRIATE FOR ALL AGES \nFREE TO ATTEND \nNO ADVANCE REGISTRATION REQUIRED \nAPPROXIMATE PROGRAM DURATION: 2 HOURS (ONGOING)
URL:https://hendrickscountyparks.org/event/board-game-blitz-2/
LOCATION:W.S. Gibbs Memorial Park\, 4521 Gibbs Road\, Danville\, IN\, 46122\, United States
CATEGORIES:All Programs,Games,W.S. Gibbs Memorial Park
ATTACH;FMTTYPE=image/png:https://hendrickscountyparks.org/wp-content/uploads/2025/03/Board-Game-Blitz.png
END:VEVENT
BEGIN:VEVENT
DTSTART;TZID=America/Indiana/Indianapolis:20250808T130000
DTEND;TZID=America/Indiana/Indianapolis:20250808T150000
DTSTAMP:20260423T061614
CREATED:20250317T200847Z
LAST-MODIFIED:20250317T200847Z
UID:10000835-1754658000-1754665200@hendrickscountyparks.org
SUMMARY:Crafty Creations
DESCRIPTION:Unleash your creativity with our Crafty Creations program! In each session\, we’ll explore a different craft project\, so there’s always something new and exciting to make. Every class offers a unique opportunity to learn new techniques and create something you’ll love\, from painting to paper crafts and more. Come join us for a fun and inspiring crafting experience! \nAPPROPRIATE FOR ALL AGES \nFREE TO ATTEND \nNO ADVANCE REGISTRATION REQUIRED \nAPPROXIMATE PROGRAM DURATION: 2 HOURS
URL:https://hendrickscountyparks.org/event/crafty-creations-4/
LOCATION:McCloud Nature Park\, 8518 Hughes Road\, North Salem\, IN\, 46165\, United States
CATEGORIES:All Programs,McCloud Nature Park
ATTACH;FMTTYPE=image/jpeg:https://hendrickscountyparks.org/wp-content/uploads/2025/03/Crafty-Creations.jpg
END:VEVENT
BEGIN:VEVENT
DTSTART;TZID=America/Indiana/Indianapolis:20250809T100000
DTEND;TZID=America/Indiana/Indianapolis:20250809T113000
DTSTAMP:20260423T061614
CREATED:20250318T180725Z
LAST-MODIFIED:20250318T180906Z
UID:10000865-1754733600-1754739000@hendrickscountyparks.org
SUMMARY:Natural Dye Workshop
DESCRIPTION:Learn how to create your own natural dyes from plants and use them to dye shirts in this fun and eco-friendly program. You will discover the history of natural dyeing\, and how to prepare and apply different types of dye. You can experiment with different patterns and go home with a beautiful creation to keep for yourself or give as a gift! Don’t miss this chance to unleash your creativity and learn a new skill with natural dyes! \nAPPROPRIATE FOR ALL AGES. CHILDREN UNDER THE AGE OF 16 MUST ATTEND WITH A PARENT OR GUARDIAN. \nFEE: $20/PERSON \nADVANCE REGISTRATION REQUIRED BY AUG. 2 AT: https://hcparks.recdesk.com/Community/Program/Detail?programId=923 \nAPPROXIMATE PROGRAM DURATION: 90 MINUTES
URL:https://hendrickscountyparks.org/event/natural-dye-workshop/
LOCATION:McCloud Nature Park\, 8518 Hughes Road\, North Salem\, IN\, 46165\, United States
CATEGORIES:All Programs,McCloud Nature Park
ATTACH;FMTTYPE=image/jpeg:https://hendrickscountyparks.org/wp-content/uploads/2025/03/Natural-Dye-Workshop.jpg
END:VEVENT
BEGIN:VEVENT
DTSTART;TZID=America/Indiana/Indianapolis:20250813T130000
DTEND;TZID=America/Indiana/Indianapolis:20250813T150000
DTSTAMP:20260423T061614
CREATED:20250318T154128Z
LAST-MODIFIED:20250318T154128Z
UID:10000852-1755090000-1755097200@hendrickscountyparks.org
SUMMARY:Creek Stomp
DESCRIPTION:Get ready for an exciting adventure with our Creek Stomp activity at McCloud Nature Park! Join us as we hike along the creek\, exploring and discovering the wonders of the natural world. From fascinating creatures to unique plant life\, there’s so much to see and learn. Whether you’re a nature enthusiast or just looking for a great outdoor activity\, this creek stomp promises a fantastic time for everyone. \nRECOMMENDED FOR AGES 5 AND UP. ALL PARTICIPANTS UNDER AGE 16 MUST BE ACCOMPANIED BY AN ADULT. \nFREE TO ATTEND \nNO ADVANCE REGISTRATON REQUIRED \nAPPROXIMATE PROGRAM DURATION: 2 HOURS
URL:https://hendrickscountyparks.org/event/creek-stomp-4/
LOCATION:McCloud Nature Park\, 8518 Hughes Road\, North Salem\, IN\, 46165\, United States
CATEGORIES:All Programs,McCloud Nature Park
ATTACH;FMTTYPE=image/jpeg:https://hendrickscountyparks.org/wp-content/uploads/2025/03/Creek-Stomp.jpg
END:VEVENT
BEGIN:VEVENT
DTSTART;TZID=America/Indiana/Indianapolis:20250814T130000
DTEND;TZID=America/Indiana/Indianapolis:20250814T150000
DTSTAMP:20260423T061614
CREATED:20250318T154219Z
LAST-MODIFIED:20250318T154219Z
UID:10000853-1755176400-1755183600@hendrickscountyparks.org
SUMMARY:Creek Stomp
DESCRIPTION:Get ready for an exciting adventure with our Creek Stomp activity at McCloud Nature Park! Join us as we hike along the creek\, exploring and discovering the wonders of the natural world. From fascinating creatures to unique plant life\, there’s so much to see and learn. Whether you’re a nature enthusiast or just looking for a great outdoor activity\, this creek stomp promises a fantastic time for everyone. \nRECOMMENDED FOR AGES 5 AND UP. ALL PARTICIPANTS UNDER AGE 16 MUST BE ACCOMPANIED BY AN ADULT. \nFREE TO ATTEND \nNO ADVANCE REGISTRATON REQUIRED \nAPPROXIMATE PROGRAM DURATION: 2 HOURS
URL:https://hendrickscountyparks.org/event/creek-stomp-5/
LOCATION:McCloud Nature Park\, 8518 Hughes Road\, North Salem\, IN\, 46165\, United States
CATEGORIES:All Programs,McCloud Nature Park
ATTACH;FMTTYPE=image/jpeg:https://hendrickscountyparks.org/wp-content/uploads/2025/03/Creek-Stomp.jpg
END:VEVENT
BEGIN:VEVENT
DTSTART;TZID=America/Indiana/Indianapolis:20250815T150000
DTEND;TZID=America/Indiana/Indianapolis:20250816T110000
DTSTAMP:20260423T061614
CREATED:20250318T185436Z
LAST-MODIFIED:20250318T185436Z
UID:10000869-1755270000-1755342000@hendrickscountyparks.org
SUMMARY:Family Campout
DESCRIPTION:THIS IS AN OVERNIGHT FAMILY CAMPOUT.\n \nHas your family ever been camping? McCloud Nature Park is a great place to try it out! This camping event is held only twice a year and provides an excellent opportunity to experience camping close to home. We’ll supply firewood and s’mores\, and we’ll also offer night hikes\, a naturalist campfire\, family crafts\, and breakfast the following morning. You can bring up to 6 family members or friends for a fun night at the park!\n \nCheck in on Friday between 3 p.m. and 6 p.m.Check out on Sunday by 11 a.m.\nQuiet Hours: 11 p.m.\n \nAppropriate for all ages.\n \nFor any questions or assistance with registration\, please call the McCloud Nature Center at (765) 676-5437.\n \nFEE: $30/tent site (up to 6 people per site)\nAdvance registration required by Aug. 8 at: https://hcparks.recdesk.com/Community/Program/Detail?programId=925
URL:https://hendrickscountyparks.org/event/family-campout-4/
LOCATION:McCloud Nature Park\, 8518 Hughes Road\, North Salem\, IN\, 46165\, United States
CATEGORIES:All Programs,McCloud Nature Park
ATTACH;FMTTYPE=image/jpeg:https://hendrickscountyparks.org/wp-content/uploads/2022/08/Family-Campout-1-scaled.jpg
END:VEVENT
BEGIN:VEVENT
DTSTART;TZID=America/Indiana/Indianapolis:20250820T100000
DTEND;TZID=America/Indiana/Indianapolis:20250820T120000
DTSTAMP:20260423T061614
CREATED:20250318T201136Z
LAST-MODIFIED:20250318T201136Z
UID:10000875-1755684000-1755691200@hendrickscountyparks.org
SUMMARY:TADPOLE TIME: Seek at the Creek (McCloud)
DESCRIPTION:Does your kiddo pick up every rock they see or love splashing around in the water? We’ll have a blast doing just that! We’ll go to the creek and see what critters\, rocks\, and shells we can find! Or sit back and have a splash. Please dress for getting wet in the creek\, including closed-toe shoes they can use in the water. A change of clothes for after the program is also recommended.\n \nRecommended for ages 2-5 years old with parent/guardian (older siblings ages 6-7 are welcome to register also if they want to participate).\nOnly $3 per child! Advance registration is required by Aug. 13 at:https://hcparks.recdesk.com/Community/Program/Detail?programId=930
URL:https://hendrickscountyparks.org/event/tadpole-time-seek-at-the-creek-mccloud/
LOCATION:McCloud Nature Park\, 8518 Hughes Road\, North Salem\, IN\, 46165\, United States
CATEGORIES:All Programs,McCloud Nature Park,Tadpole Time
ATTACH;FMTTYPE=image/jpeg:https://hendrickscountyparks.org/wp-content/uploads/2025/03/creekstomp.jpg
END:VEVENT
BEGIN:VEVENT
DTSTART;TZID=America/Indiana/Indianapolis:20250821T100000
DTEND;TZID=America/Indiana/Indianapolis:20250821T120000
DTSTAMP:20260423T061614
CREATED:20250318T201316Z
LAST-MODIFIED:20250318T201745Z
UID:10000876-1755770400-1755777600@hendrickscountyparks.org
SUMMARY:TADPOLE TIME: Seek at the Creek (Gibbs)
DESCRIPTION:Does your kiddo pick up every rock they see or love splashing around in the water? We’ll have a blast doing just that! We’ll go to the creek and see what critters\, rocks\, and shells we can find! Or sit back and have a splash. Please dress for getting wet in the creek\, including closed-toe shoes they can use in the water. A change of clothes for after the program is also recommended.\n \nRecommended for ages 2-5 years old with parent/guardian (older siblings ages 6-7 are welcome to register also if they want to participate).\nOnly $3 per child! Advance registration is required by Aug. 13 at:https://hcparks.recdesk.com/Community/Program/Detail?programId=931
URL:https://hendrickscountyparks.org/event/tadpole-time-seek-at-the-creek-gibbs/
LOCATION:W.S. Gibbs Memorial Park\, 4521 Gibbs Road\, Danville\, IN\, 46122\, United States
CATEGORIES:All Programs,Tadpole Time,W.S. Gibbs Memorial Park
ATTACH;FMTTYPE=image/jpeg:https://hendrickscountyparks.org/wp-content/uploads/2025/03/creekstomp.jpg
END:VEVENT
BEGIN:VEVENT
DTSTART;TZID=America/Indiana/Indianapolis:20250822T100000
DTEND;TZID=America/Indiana/Indianapolis:20250822T120000
DTSTAMP:20260423T061614
CREATED:20250318T193536Z
LAST-MODIFIED:20250318T193536Z
UID:10000872-1755856800-1755864000@hendrickscountyparks.org
SUMMARY:HOMESCHOOL ECOLOGY: Creek Stomp - Creek Explorers
DESCRIPTION:Dive into a day of discovery and fun at Big Walnut Creek! There’s excitement for everyone\, whether you’re testing the water quality or simply cooling off. Explore the creek\, uncover hidden treasures\, and enjoy the natural beauty while participating in engaging activities. It’s a perfect way to learn\, play\, and connect with nature!\n \nRECOMMENDED FOR AGES 6-11 WITH PARENT OR GUARDIAN. SIBLINGS ARE WELCOME TO PARTICIPATE\, TOO.\nFEE: $10/CHILD (PARENT/GUARDIAN IS FREE).\nADVANCE REGISTRATION REQUIRED BY AUG. 15 AT: https://hcparks.recdesk.com/Community/Program/Detail?programId=927\nAPPROXIMATE PROGRAM DURATION: 2 HOURS
URL:https://hendrickscountyparks.org/event/homeschool-ecology-creek-stomp-creek-explorers/
LOCATION:McCloud Nature Park\, 8518 Hughes Road\, North Salem\, IN\, 46165\, United States
CATEGORIES:All Programs,McCloud Nature Park
ATTACH;FMTTYPE=image/jpeg:https://hendrickscountyparks.org/wp-content/uploads/2025/03/creekstomp.jpg
END:VEVENT
BEGIN:VEVENT
DTSTART;TZID=America/Indiana/Indianapolis:20250823T210000
DTEND;TZID=America/Indiana/Indianapolis:20250823T230000
DTSTAMP:20260423T061614
CREATED:20250317T190958Z
LAST-MODIFIED:20250317T190958Z
UID:10000822-1755982800-1755990000@hendrickscountyparks.org
SUMMARY:Astronomy
DESCRIPTION:Looking for a fun and educational family activity this summer that’s FREE? \nTake stargazing to new heights by escaping the light pollution of the city and heading to McCloud Nature Park\, where thousands of stars twinkle like jewels in the dark night sky! \nThe Indiana Astronomical Society partners with Park Naturalists to hold sky seminars and viewings at McCloud on the Saturday nights listed below. These programs\, led by expert sky watchers\, are geared for the novice astronomer. \nTelescopes large and small will be set up for your use. Each evening will begin with a brief informational session (“sky seminar”) in the Nature Center where you will learn which planets and constellations will be visible that night. These seminars last about 30 minutes and are best suited for ages 8 and older. Outdoor sky-viewing will begin following the seminars. \nIMPORTANT NOTE: Sky seminars will take place rain or shine\, but sky viewings are dependent upon clear skies. If poor weather is forecast or any severe weather advisories are issued\, the sky-viewing portion of the program will be canceled. \nAll Astronomy programs are held on Saturdays at McCloud Nature Park. They are FREE to attend\, appropriate for all ages\, and no advance registration is required. Each program is approximately 2 hours in duration. \nPlease be advised that the park closes at 11 p.m. on Astronomy nights. \n2025 Program Schedule\n\nSaturday\, May 3 at 9 p.m.\nSaturday\, June 28 at 9 p.m.\nSaturday\, July 26 at 9 p.m.\nSaturday\, Aug. 23 at 9 p.m.\nSaturday\, Sept. 27 at 8 p.m.
URL:https://hendrickscountyparks.org/event/astronomy-15/
LOCATION:McCloud Nature Park\, 8518 Hughes Road\, North Salem\, IN\, 46165\, United States
CATEGORIES:All Programs,Astronomy,McCloud Nature Park
ATTACH;FMTTYPE=image/jpeg:https://hendrickscountyparks.org/wp-content/uploads/2020/03/Astronomy-CREDIT-JONATHAN-GROBER-scaled.jpg
END:VEVENT
BEGIN:VEVENT
DTSTART;TZID=America/Indiana/Indianapolis:20250827T123000
DTEND;TZID=America/Indiana/Indianapolis:20250827T133000
DTSTAMP:20260423T061614
CREATED:20250318T163415Z
LAST-MODIFIED:20250318T163415Z
UID:10000864-1756297800-1756301400@hendrickscountyparks.org
SUMMARY:SENIOR CENTER: The Buzz About Pollinators
DESCRIPTION:Did you know that there are plenty more pollinators besides bees? Come learn about our range of pollinators here in Indiana. We’ll also discuss the best way to support pollinators and keep them comfy in your garden or flower bed. Some of your worst insect enemies may become your best pollinator pals! \nRECOMMENDED FOR SENIORS \nFREE TO ATTEND \nNO ADVANCE REGISTRATION REQUIRED
URL:https://hendrickscountyparks.org/event/senior-center-the-buzz-about-pollinators/
LOCATION:Hendricks County Senior Services\, 1201 Sycamore Lane\, Danville\, IN\, 46122\, United States
CATEGORIES:All Programs,Birds,Insects,Mammals,Plants and Trees,Seniors,Wildlife
ATTACH;FMTTYPE=image/jpeg:https://hendrickscountyparks.org/wp-content/uploads/2025/03/The-Buzz-About-Pollinators-scaled.jpg
END:VEVENT
BEGIN:VEVENT
DTSTART;VALUE=DATE:20250831
DTEND;VALUE=DATE:20250901
DTSTAMP:20260423T061614
CREATED:20250813T154240Z
LAST-MODIFIED:20250813T154240Z
UID:10000913-1756598400-1756684799@hendrickscountyparks.org
SUMMARY:Nature Center closed
DESCRIPTION:Ray & Mary Benson Nature Center at McCloud Nature Park closed.
URL:https://hendrickscountyparks.org/event/nature-center-closed/
CATEGORIES:Holidays
ATTACH;FMTTYPE=image/png:https://hendrickscountyparks.org/wp-content/uploads/2017/11/closed.png
END:VEVENT
END:VCALENDAR