BEGIN:VCALENDAR
VERSION:2.0
PRODID:-//Hendricks County Parks &amp; Recreation - ECPv6.15.20//NONSGML v1.0//EN
CALSCALE:GREGORIAN
METHOD:PUBLISH
X-WR-CALNAME:Hendricks County Parks &amp; Recreation
X-ORIGINAL-URL:https://hendrickscountyparks.org
X-WR-CALDESC:Events for Hendricks County Parks &amp; Recreation
REFRESH-INTERVAL;VALUE=DURATION:PT1H
X-Robots-Tag:noindex
X-PUBLISHED-TTL:PT1H
BEGIN:VTIMEZONE
TZID:America/Indiana/Indianapolis
BEGIN:DAYLIGHT
TZOFFSETFROM:-0500
TZOFFSETTO:-0400
TZNAME:EDT
DTSTART:20250309T070000
END:DAYLIGHT
BEGIN:STANDARD
TZOFFSETFROM:-0400
TZOFFSETTO:-0500
TZNAME:EST
DTSTART:20251102T060000
END:STANDARD
BEGIN:DAYLIGHT
TZOFFSETFROM:-0500
TZOFFSETTO:-0400
TZNAME:EDT
DTSTART:20260308T070000
END:DAYLIGHT
BEGIN:STANDARD
TZOFFSETFROM:-0400
TZOFFSETTO:-0500
TZNAME:EST
DTSTART:20261101T060000
END:STANDARD
BEGIN:DAYLIGHT
TZOFFSETFROM:-0500
TZOFFSETTO:-0400
TZNAME:EDT
DTSTART:20270314T070000
END:DAYLIGHT
BEGIN:STANDARD
TZOFFSETFROM:-0400
TZOFFSETTO:-0500
TZNAME:EST
DTSTART:20271107T060000
END:STANDARD
END:VTIMEZONE
BEGIN:VEVENT
DTSTART;VALUE=DATE:20260101
DTEND;VALUE=DATE:20260102
DTSTAMP:20260420T225750
CREATED:20201214T202747Z
LAST-MODIFIED:20260327T193506Z
UID:10000158-1767225600-1767311999@hendrickscountyparks.org
SUMMARY:New Year's Day
DESCRIPTION:Main office and Ray & Mary Benson Nature Center closed.
URL:https://hendrickscountyparks.org/event/new-years-day/
CATEGORIES:Holidays
ATTACH;FMTTYPE=image/png:https://hendrickscountyparks.org/wp-content/uploads/2026/03/New-Years-Day.png
END:VEVENT
BEGIN:VEVENT
DTSTART;VALUE=DATE:20260102
DTEND;VALUE=DATE:20260103
DTSTAMP:20260420T225750
CREATED:20221128T153818Z
LAST-MODIFIED:20260327T200431Z
UID:10000494-1767312000-1767398399@hendrickscountyparks.org
SUMMARY:New Year's Holiday
DESCRIPTION:Main office and Ray & Mary Benson Nature Center closed.
URL:https://hendrickscountyparks.org/event/new-years-day-observed/
CATEGORIES:Holidays
ATTACH;FMTTYPE=image/png:https://hendrickscountyparks.org/wp-content/uploads/2022/11/New-Years-Day-1.png
END:VEVENT
BEGIN:VEVENT
DTSTART;TZID=America/Indiana/Indianapolis:20260107T130000
DTEND;TZID=America/Indiana/Indianapolis:20260107T150000
DTSTAMP:20260420T225751
CREATED:20251201T120453Z
LAST-MODIFIED:20251201T120453Z
UID:10000968-1767790800-1767798000@hendrickscountyparks.org
SUMMARY:Crafty Creations
DESCRIPTION:Unleash your creativity with our Crafty Creations! In each session\, we’ll explore a different craft project\, so there’s always something new and exciting to make. Every class offers a unique opportunity to learn new techniques and create something you’ll love\, from painting to paper crafts and more. Come join us for a fun and inspiring crafting experience. \nAPPROPRIATE FOR ALL AGES\nFREE TO ATTEND\nNO ADVANCE REGISTRATION REQUIRED\nAPPROXIMATE PROGRAM DURATION: 2 HOURS (ONGOING)
URL:https://hendrickscountyparks.org/event/crafty-creations-18/
LOCATION:McCloud Nature Park\, 8518 Hughes Road\, North Salem\, IN\, 46165\, United States
CATEGORIES:All Programs,McCloud Nature Park
ATTACH;FMTTYPE=image/png:https://hendrickscountyparks.org/wp-content/uploads/2025/12/Crafty-Creations.png
END:VEVENT
BEGIN:VEVENT
DTSTART;TZID=America/Indiana/Indianapolis:20260108T130000
DTEND;TZID=America/Indiana/Indianapolis:20260108T150000
DTSTAMP:20260420T225751
CREATED:20251201T123158Z
LAST-MODIFIED:20251201T123158Z
UID:10000977-1767877200-1767884400@hendrickscountyparks.org
SUMMARY:Nature Hike
DESCRIPTION:Come on out for a guided nature hike through the beautiful trails of McCloud Nature Park! This moderate hike is perfect for nature lovers of all ages and experience levels. Trail terrain varies between gravel\, grass\, and paved. Bring water\, dress for the weather\, and enjoy this peaceful adventure in the great outdoors! \nRECOMMENDED FOR AGES 8 THROUGH ADULT\nFREE TO ATTEND\nNO ADVANCE REGISTRATION REQUIRED\nAPPROX. PROGRAM DURATION: 2 HRS
URL:https://hendrickscountyparks.org/event/nature-hike/
LOCATION:McCloud Nature Park\, 8518 Hughes Road\, North Salem\, IN\, 46165\, United States
CATEGORIES:All Programs,Hiking,McCloud Nature Park
ATTACH;FMTTYPE=image/png:https://hendrickscountyparks.org/wp-content/uploads/2025/12/Nature-Hikes.png
END:VEVENT
BEGIN:VEVENT
DTSTART;TZID=America/Indiana/Indianapolis:20260109T100000
DTEND;TZID=America/Indiana/Indianapolis:20260109T110000
DTSTAMP:20260420T225751
CREATED:20251201T130920Z
LAST-MODIFIED:20251201T131452Z
UID:10000986-1767952800-1767956400@hendrickscountyparks.org
SUMMARY:Phenology Hike
DESCRIPTION:This is your invitation to watch the seasons change in McCloud Nature Park! We will go on a guided hike to the same spot every week and document our observations: weather\, wildlife\, plants at different stages\, including the reemergence of leaves in the spring. Our goal is to guide participants to explore and understand the cyclical nature of the seasons in Hendricks County. Bring anything that would make your hike more enjoyable: binoculars\, camera\, notebook\, field guidebooks\, etc. This program will be held rain or shine (except for severe weather)\, so be prepared! \nRECOMMENDED FOR AGES 8 THROUGH ADULT\nFREE TO ATTEND\nNO ADVANCE REGISTRATION REQUIRED\nAPPROX. PROGRAM DURATION: 1 HOUR
URL:https://hendrickscountyparks.org/event/phenology-hike/
LOCATION:McCloud Nature Park\, 8518 Hughes Road\, North Salem\, IN\, 46165\, United States
CATEGORIES:All Programs,Hiking,McCloud Nature Park
ATTACH;FMTTYPE=image/png:https://hendrickscountyparks.org/wp-content/uploads/2025/12/Phenology-Hikes.png
END:VEVENT
BEGIN:VEVENT
DTSTART;TZID=America/Indiana/Indianapolis:20260115T130000
DTEND;TZID=America/Indiana/Indianapolis:20260115T140000
DTSTAMP:20260420T225751
CREATED:20251204T143838Z
LAST-MODIFIED:20251204T143838Z
UID:10000994-1768482000-1768485600@hendrickscountyparks.org
SUMMARY:Naturalist's Choice
DESCRIPTION:Join us for the Naturalist’s Choice program\, where every session is a surprise adventure led by our naturalist team! Depending on the weather\, season\, and local wildlife activity\, you’ll explore a unique and engaging topic tailored to the day’s conditions. Be ready for anything and wear closed-toed shoes that you don’t mind getting wet or dirty for your safety and comfort. The naturalists will decide the topic of the week and announce it in the nature center and on our social media. Don’t miss out on this ever-changing exploration of the natural world! \nAPPROPRIATE FOR ALL AGES\nFREE TO ATTEND\nNO ADVANCE REGISTRATION REQUIRED\nAPPROX. PROGRAM DURATION: 1 HOUR
URL:https://hendrickscountyparks.org/event/naturalists-choice-17/
LOCATION:McCloud Nature Park\, 8518 Hughes Road\, North Salem\, IN\, 46165\, United States
CATEGORIES:All Programs,McCloud Nature Park
ATTACH;FMTTYPE=image/jpeg:https://hendrickscountyparks.org/wp-content/uploads/2025/12/Naturalists-Choice.jpg
END:VEVENT
BEGIN:VEVENT
DTSTART;TZID=America/Indiana/Indianapolis:20260116T130000
DTEND;TZID=America/Indiana/Indianapolis:20260116T150000
DTSTAMP:20260420T225751
CREATED:20251204T145056Z
LAST-MODIFIED:20251204T150340Z
UID:10001000-1768568400-1768575600@hendrickscountyparks.org
SUMMARY:Board Game Blitz
DESCRIPTION:Want to bring out your inner gamer? Join us at McCloud for an afternoon of board games and cards! Whether you’re a master of games or just like to have fun\, you’re sure to find something that fits your interests. Have a game you love to play? Bring it and show off your skills! Snacks provided. \nAPPROPRIATE FOR ALL AGES\nFREE TO ATTEND\nNO ADVANCE REGISTRATION REQUIRED\nAPPROX. PROGRAM DURATION: 2 HOURS (ONGOING)
URL:https://hendrickscountyparks.org/event/board-game-blitz-5/
LOCATION:McCloud Nature Park\, 8518 Hughes Road\, North Salem\, IN\, 46165\, United States
CATEGORIES:All Programs,Games,McCloud Nature Park
ATTACH;FMTTYPE=image/png:https://hendrickscountyparks.org/wp-content/uploads/2025/12/Board-Game-Blitz.png
END:VEVENT
BEGIN:VEVENT
DTSTART;VALUE=DATE:20260119
DTEND;VALUE=DATE:20260120
DTSTAMP:20260420T225751
CREATED:20221128T153708Z
LAST-MODIFIED:20260327T193734Z
UID:10000493-1768780800-1768867199@hendrickscountyparks.org
SUMMARY:Martin Luther King Jr. Day
DESCRIPTION:Main office closed.
URL:https://hendrickscountyparks.org/event/martin-luther-king-jr-day-2/
CATEGORIES:Holidays
ATTACH;FMTTYPE=image/png:https://hendrickscountyparks.org/wp-content/uploads/2026/03/MLK-Day.png
END:VEVENT
BEGIN:VEVENT
DTSTART;TZID=America/Indiana/Indianapolis:20260121T123000
DTEND;TZID=America/Indiana/Indianapolis:20260121T133000
DTSTAMP:20260420T225751
CREATED:20251212T195451Z
LAST-MODIFIED:20251212T202626Z
UID:10001023-1768998600-1769002200@hendrickscountyparks.org
SUMMARY:Senior Center: Indiana Bats
DESCRIPTION:Discover the secret lives of Indiana bats as we learn how these critters play a vital role in our ecosystem\, where they live\, and what makes them unique. We’ll explore the challenges they face and how conservation efforts are slowing helping them recover. Come uncover the truth about these amazing flying mammals! \nRECOMMENDED FOR SENIORS\nFREE TO ATTEND\nNO ADVANCE REGISTRATION REQUIRED\nAPPROXIMATE PROGRAM DURATION: 1 HOUR
URL:https://hendrickscountyparks.org/event/senior-center-indiana-bats/
LOCATION:Hendricks County Senior Services\, 1201 Sycamore Lane\, Danville\, IN\, 46122\, United States
CATEGORIES:All Programs,Mammals,Seniors,Wildlife
ATTACH;FMTTYPE=image/jpeg:https://hendrickscountyparks.org/wp-content/uploads/2025/12/Indiana-Bat-Img010049amed.jpg
END:VEVENT
BEGIN:VEVENT
DTSTART;TZID=America/Indiana/Indianapolis:20260121T130000
DTEND;TZID=America/Indiana/Indianapolis:20260121T150000
DTSTAMP:20260420T225751
CREATED:20251201T121514Z
LAST-MODIFIED:20251201T121514Z
UID:10000969-1769000400-1769007600@hendrickscountyparks.org
SUMMARY:Crafty Creations
DESCRIPTION:Unleash your creativity with our Crafty Creations! In each session\, we’ll explore a different craft project\, so there’s always something new and exciting to make. Every class offers a unique opportunity to learn new techniques and create something you’ll love\, from painting to paper crafts and more. Come join us for a fun and inspiring crafting experience. \nAPPROPRIATE FOR ALL AGES\nFREE TO ATTEND\nNO ADVANCE REGISTRATION REQUIRED\nAPPROXIMATE PROGRAM DURATION: 2 HOURS (ONGOING)
URL:https://hendrickscountyparks.org/event/crafty-creations-19/
LOCATION:McCloud Nature Park\, 8518 Hughes Road\, North Salem\, IN\, 46165\, United States
CATEGORIES:All Programs,McCloud Nature Park
ATTACH;FMTTYPE=image/png:https://hendrickscountyparks.org/wp-content/uploads/2025/12/Crafty-Creations.png
END:VEVENT
BEGIN:VEVENT
DTSTART;TZID=America/Indiana/Indianapolis:20260122T130000
DTEND;TZID=America/Indiana/Indianapolis:20260122T150000
DTSTAMP:20260420T225751
CREATED:20251201T123304Z
LAST-MODIFIED:20251201T124730Z
UID:10000978-1769086800-1769094000@hendrickscountyparks.org
SUMMARY:Nature Hike
DESCRIPTION:Come on out for a guided nature hike through the beautiful trails of McCloud Nature Park! This moderate hike is perfect for nature lovers of all ages and experience levels. Trail terrain varies between gravel\, grass\, and paved. Bring water\, dress for the weather\, and enjoy this peaceful adventure in the great outdoors! \nRECOMMENDED FOR AGES 8 THROUGH ADULT\nFREE TO ATTEND\nNO ADVANCE REGISTRATION REQUIRED\nAPPROX. PROGRAM DURATION: 2 HRS
URL:https://hendrickscountyparks.org/event/nature-hike-2/
LOCATION:McCloud Nature Park\, 8518 Hughes Road\, North Salem\, IN\, 46165\, United States
CATEGORIES:All Programs,Hiking,McCloud Nature Park
ATTACH;FMTTYPE=image/png:https://hendrickscountyparks.org/wp-content/uploads/2025/12/Nature-Hikes.png
END:VEVENT
BEGIN:VEVENT
DTSTART;TZID=America/Indiana/Indianapolis:20260123T100000
DTEND;TZID=America/Indiana/Indianapolis:20260123T110000
DTSTAMP:20260420T225751
CREATED:20251201T131136Z
LAST-MODIFIED:20251201T131408Z
UID:10000987-1769162400-1769166000@hendrickscountyparks.org
SUMMARY:Phenology Hike
DESCRIPTION:This is your invitation to watch the seasons change in McCloud Nature Park! We will go on a guided hike to the same spot every week and document our observations: weather\, wildlife\, plants at different stages\, including the reemergence of leaves in the spring. Our goal is to guide participants to explore and understand the cyclical nature of the seasons in Hendricks County. Bring anything that would make your hike more enjoyable: binoculars\, camera\, notebook\, field guidebooks\, etc. This program will be held rain or shine (except for severe weather)\, so be prepared! \nRECOMMENDED FOR AGES 8 THROUGH ADULT\nFREE TO ATTEND\nNO ADVANCE REGISTRATION REQUIRED\nAPPROX. PROGRAM DURATION: 1 HOUR
URL:https://hendrickscountyparks.org/event/phenology-hike-2/
LOCATION:McCloud Nature Park\, 8518 Hughes Road\, North Salem\, IN\, 46165\, United States
CATEGORIES:All Programs,Hiking,McCloud Nature Park
ATTACH;FMTTYPE=image/png:https://hendrickscountyparks.org/wp-content/uploads/2025/12/Phenology-Hikes.png
END:VEVENT
BEGIN:VEVENT
DTSTART;TZID=America/Indiana/Indianapolis:20260129T130000
DTEND;TZID=America/Indiana/Indianapolis:20260129T140000
DTSTAMP:20260420T225751
CREATED:20251204T144011Z
LAST-MODIFIED:20251204T144011Z
UID:10000995-1769691600-1769695200@hendrickscountyparks.org
SUMMARY:Naturalist's Choice
DESCRIPTION:Join us for the Naturalist’s Choice program\, where every session is a surprise adventure led by our naturalist team! Depending on the weather\, season\, and local wildlife activity\, you’ll explore a unique and engaging topic tailored to the day’s conditions. Be ready for anything and wear closed-toed shoes that you don’t mind getting wet or dirty for your safety and comfort. The naturalists will decide the topic of the week and announce it in the nature center and on our social media. Don’t miss out on this ever-changing exploration of the natural world! \nAPPROPRIATE FOR ALL AGES\nFREE TO ATTEND\nNO ADVANCE REGISTRATION REQUIRED\nAPPROX. PROGRAM DURATION: 1 HOUR
URL:https://hendrickscountyparks.org/event/naturalists-choice-18/
LOCATION:McCloud Nature Park\, 8518 Hughes Road\, North Salem\, IN\, 46165\, United States
CATEGORIES:All Programs,McCloud Nature Park
ATTACH;FMTTYPE=image/jpeg:https://hendrickscountyparks.org/wp-content/uploads/2025/12/Naturalists-Choice.jpg
END:VEVENT
BEGIN:VEVENT
DTSTART;TZID=America/Indiana/Indianapolis:20260130T130000
DTEND;TZID=America/Indiana/Indianapolis:20260130T150000
DTSTAMP:20260420T225751
CREATED:20251204T145229Z
LAST-MODIFIED:20251204T145229Z
UID:10001001-1769778000-1769785200@hendrickscountyparks.org
SUMMARY:Board Game Blitz
DESCRIPTION:Want to bring out your inner gamer? Join us at McCloud for an afternoon of board games and cards! Whether you’re a master of games or just like to have fun\, you’re sure to find something that fits your interests. Have a game you love to play? Bring it and show off your skills! Snacks provided. \nAPPROPRIATE FOR ALL AGES\nFREE TO ATTEND\nNO ADVANCE REGISTRATION REQUIRED\nAPPROX. PROGRAM DURATION: 2 HOURS (ONGOING)
URL:https://hendrickscountyparks.org/event/board-game-blitz-6/
LOCATION:McCloud Nature Park\, 8518 Hughes Road\, North Salem\, IN\, 46165\, United States
CATEGORIES:All Programs,Games,McCloud Nature Park
ATTACH;FMTTYPE=image/png:https://hendrickscountyparks.org/wp-content/uploads/2025/12/Board-Game-Blitz.png
END:VEVENT
END:VCALENDAR