BEGIN:VCALENDAR
VERSION:2.0
PRODID:-//Hendricks County Parks &amp; Recreation - ECPv6.15.20//NONSGML v1.0//EN
CALSCALE:GREGORIAN
METHOD:PUBLISH
X-WR-CALNAME:Hendricks County Parks &amp; Recreation
X-ORIGINAL-URL:https://hendrickscountyparks.org
X-WR-CALDESC:Events for Hendricks County Parks &amp; Recreation
REFRESH-INTERVAL;VALUE=DURATION:PT1H
X-Robots-Tag:noindex
X-PUBLISHED-TTL:PT1H
BEGIN:VTIMEZONE
TZID:America/Indiana/Indianapolis
BEGIN:DAYLIGHT
TZOFFSETFROM:-0500
TZOFFSETTO:-0400
TZNAME:EDT
DTSTART:20240310T070000
END:DAYLIGHT
BEGIN:STANDARD
TZOFFSETFROM:-0400
TZOFFSETTO:-0500
TZNAME:EST
DTSTART:20241103T060000
END:STANDARD
BEGIN:DAYLIGHT
TZOFFSETFROM:-0500
TZOFFSETTO:-0400
TZNAME:EDT
DTSTART:20250309T070000
END:DAYLIGHT
BEGIN:STANDARD
TZOFFSETFROM:-0400
TZOFFSETTO:-0500
TZNAME:EST
DTSTART:20251102T060000
END:STANDARD
BEGIN:DAYLIGHT
TZOFFSETFROM:-0500
TZOFFSETTO:-0400
TZNAME:EDT
DTSTART:20260308T070000
END:DAYLIGHT
BEGIN:STANDARD
TZOFFSETFROM:-0400
TZOFFSETTO:-0500
TZNAME:EST
DTSTART:20261101T060000
END:STANDARD
END:VTIMEZONE
BEGIN:VEVENT
DTSTART;TZID=America/Indiana/Indianapolis:20250115T100000
DTEND;TZID=America/Indiana/Indianapolis:20250115T113000
DTSTAMP:20260424T025234
CREATED:20241202T200953Z
LAST-MODIFIED:20241202T200953Z
UID:10000805-1736935200-1736940600@hendrickscountyparks.org
SUMMARY:TADPOLE TIME: New Year Wishes!
DESCRIPTION:Welcome to the New Year! What are you looking forward to? Come share your wishes and hopes for the new year with our naturalists! We’ll make suncatchers that will help brighten your year.\n \nRecommended for ages 2-5 years old with parent/guardian (older siblings ages 6-7 are welcome to register also if they want to participate).\n \nOnly $3 per child! Advance registration is required by Jan. 8 at: https://hcparks.recdesk.com/Community/Program/Detail?programId=914\n\nFor any questions or assistance with registration\, please email mccloudnp@hcparks.net or call (765) 676-5437.
URL:https://hendrickscountyparks.org/event/tadpole-time-new-year-wishes/
LOCATION:McCloud Nature Park\, 8518 Hughes Road\, North Salem\, IN\, 46165\, United States
CATEGORIES:All Programs,McCloud Nature Park,Tadpole Time
ATTACH;FMTTYPE=image/png:https://hendrickscountyparks.org/wp-content/uploads/2024/12/Untitled-design-29.png
END:VEVENT
BEGIN:VEVENT
DTSTART;TZID=America/Indiana/Indianapolis:20250116T100000
DTEND;TZID=America/Indiana/Indianapolis:20250116T113000
DTSTAMP:20260424T025234
CREATED:20241202T201314Z
LAST-MODIFIED:20241202T202848Z
UID:10000806-1737021600-1737027000@hendrickscountyparks.org
SUMMARY:TADPOLE TIME: New Year Wishes!
DESCRIPTION:Welcome to the New Year! What are you looking forward to? Come share your wishes and hopes for the new year with our naturalists! We’ll make suncatchers that will help brighten your year.\n \nRecommended for ages 2-5 years old with parent/guardian (older siblings ages 6-7 are welcome to register also if they want to participate).\n \nOnly $3 per child! Advance registration is required by Jan. 8 at: https://hcparks.recdesk.com/Community/Program/Detail?programId=915\n \nFor any questions or assistance with registration\, please email mccloudnp@hcparks.net or call (765) 676-5437.
URL:https://hendrickscountyparks.org/event/tadpole-time-new-year-wishes-2/
LOCATION:McCloud Nature Park\, 8518 Hughes Road\, North Salem\, IN\, 46165\, United States
CATEGORIES:All Programs,McCloud Nature Park,Tadpole Time
ATTACH;FMTTYPE=image/png:https://hendrickscountyparks.org/wp-content/uploads/2024/12/Untitled-design-29.png
END:VEVENT
BEGIN:VEVENT
DTSTART;TZID=America/Indiana/Indianapolis:20250117T100000
DTEND;TZID=America/Indiana/Indianapolis:20250117T120000
DTSTAMP:20260424T025234
CREATED:20241127T192919Z
LAST-MODIFIED:20241127T192919Z
UID:10000802-1737108000-1737115200@hendrickscountyparks.org
SUMMARY:Homeschool Ecology: Year of You!
DESCRIPTION:Want to start 2025 off on the right foot? Join us for this mindfulness workshop where we will learn how to be more engaged with our natural environments\, healthy practices\, and create our vision for how we want to start the year! \nRECOMMENDED FOR AGES 6-11 WITH PARENT OR GUARDIAN. SIBLINGS ARE WELCOME TO PARTICIPATE\, TOO. \nFEE: $10/CHILD (PARENT/GUARDIAN IS FREE). \nADVANCE REGISTRATION REQUIRED BY JAN. 10 AT: https://hcparks.recdesk.com/Community/Program/Detail?programId=910 \nAPPROXIMATE PROGRAM DURATION: 2 HOURS.
URL:https://hendrickscountyparks.org/event/homeschool-ecology-year-of-you/
LOCATION:McCloud Nature Park\, 8518 Hughes Road\, North Salem\, IN\, 46165\, United States
CATEGORIES:All Programs,McCloud Nature Park
ATTACH;FMTTYPE=image/png:https://hendrickscountyparks.org/wp-content/uploads/2024/11/Winter-Spring-2025-graphics-8.png
END:VEVENT
BEGIN:VEVENT
DTSTART;TZID=America/Indiana/Indianapolis:20250118T100000
DTEND;TZID=America/Indiana/Indianapolis:20250118T120000
DTSTAMP:20260424T025234
CREATED:20241122T164004Z
LAST-MODIFIED:20241122T164004Z
UID:10000792-1737194400-1737201600@hendrickscountyparks.org
SUMMARY:No-Sew Throw Workshop
DESCRIPTION:Come on out to McCloud and make a warm and fuzzy throw. These 5×7 throws will be perfect to keep you warm in a nice comfy chair while you drink a soothing cup of hot chocolate. Can’t sew a stitch? No problem! This is a no-sew required craft and will be fun for all ages! We will provide everything you need! There will also be cookies\, coffee\, and hot chocolate for your enjoyment. \nRECOMMENDED FOR AGES 6 AND UP. CHILDREN MUST BE ACCOMPANIED BY AN ADULT. \nFEE: $35/PERSON \nADVANCE REGISTRATION REQUIRED BY JANUARY 4 AT: https://hcparks.recdesk.com/Community/Program/Detail?programId=905 \nAPPROXIMATE PROGRAM DURATION: 2 HOURS
URL:https://hendrickscountyparks.org/event/no-sew-throw-workshop/
LOCATION:McCloud Nature Park\, 8518 Hughes Road\, North Salem\, IN\, 46165\, United States
CATEGORIES:All Programs,McCloud Nature Park
ATTACH;FMTTYPE=image/png:https://hendrickscountyparks.org/wp-content/uploads/2024/11/Untitled-design-28.png
END:VEVENT
END:VCALENDAR