BEGIN:VCALENDAR
VERSION:2.0
PRODID:-//Hendricks County Parks &amp; Recreation - ECPv6.15.20//NONSGML v1.0//EN
CALSCALE:GREGORIAN
METHOD:PUBLISH
X-WR-CALNAME:Hendricks County Parks &amp; Recreation
X-ORIGINAL-URL:https://hendrickscountyparks.org
X-WR-CALDESC:Events for Hendricks County Parks &amp; Recreation
REFRESH-INTERVAL;VALUE=DURATION:PT1H
X-Robots-Tag:noindex
X-PUBLISHED-TTL:PT1H
BEGIN:VTIMEZONE
TZID:America/Indiana/Indianapolis
BEGIN:DAYLIGHT
TZOFFSETFROM:-0500
TZOFFSETTO:-0400
TZNAME:EDT
DTSTART:20240310T070000
END:DAYLIGHT
BEGIN:STANDARD
TZOFFSETFROM:-0400
TZOFFSETTO:-0500
TZNAME:EST
DTSTART:20241103T060000
END:STANDARD
BEGIN:DAYLIGHT
TZOFFSETFROM:-0500
TZOFFSETTO:-0400
TZNAME:EDT
DTSTART:20250309T070000
END:DAYLIGHT
BEGIN:STANDARD
TZOFFSETFROM:-0400
TZOFFSETTO:-0500
TZNAME:EST
DTSTART:20251102T060000
END:STANDARD
BEGIN:DAYLIGHT
TZOFFSETFROM:-0500
TZOFFSETTO:-0400
TZNAME:EDT
DTSTART:20260308T070000
END:DAYLIGHT
BEGIN:STANDARD
TZOFFSETFROM:-0400
TZOFFSETTO:-0500
TZNAME:EST
DTSTART:20261101T060000
END:STANDARD
END:VTIMEZONE
BEGIN:VEVENT
DTSTART;TZID=America/Indiana/Indianapolis:20250219T100000
DTEND;TZID=America/Indiana/Indianapolis:20250219T113000
DTSTAMP:20260423T225310
CREATED:20241202T201612Z
LAST-MODIFIED:20241202T201817Z
UID:10000807-1739959200-1739964600@hendrickscountyparks.org
SUMMARY:TADPOLE TIME: Seeds of Love
DESCRIPTION:Love is in the air! Share some love to our bird friends by making them a bird feeder valentine. A naturalist will discuss why we love these winged creatures and what seeds birds like best.\n \nRecommended for ages 2-5 years old with parent/guardian (older siblings ages 6-7 are welcome to register also if they want to participate).\n \nOnly $3 per child! Advance registration is required by Feb. 12 at: https://hcparks.recdesk.com/Community/Program/Detail?programId=916\n \nFor any questions or assistance with registration\, please email mccloudnp@hcparks.net or call (765) 676-5437.
URL:https://hendrickscountyparks.org/event/tadpole-time-seeds-of-love/
LOCATION:W.S. Gibbs Memorial Park\, 4521 Gibbs Road\, Danville\, IN\, 46122\, United States
CATEGORIES:All Programs,Birds,Tadpole Time,W.S. Gibbs Memorial Park,Wildlife
ATTACH;FMTTYPE=image/png:https://hendrickscountyparks.org/wp-content/uploads/2024/12/Untitled-design-30.png
END:VEVENT
BEGIN:VEVENT
DTSTART;TZID=America/Indiana/Indianapolis:20250220T100000
DTEND;TZID=America/Indiana/Indianapolis:20250220T113000
DTSTAMP:20260423T225310
CREATED:20241202T201752Z
LAST-MODIFIED:20241202T201752Z
UID:10000808-1740045600-1740051000@hendrickscountyparks.org
SUMMARY:TADPOLE TIME: Seeds of Love
DESCRIPTION:Love is in the air! Share some love to our bird friends by making them a bird feeder valentine. A naturalist will discuss why we love these winged creatures and what seeds birds like best.\n \nRecommended for ages 2-5 years old with parent/guardian (older siblings ages 6-7 are welcome to register also if they want to participate).\n \nOnly $3 per child! Advance registration is required by Feb. 12 at: https://hcparks.recdesk.com/Community/Program/Detail?programId=917\n \nFor any questions or assistance with registration\, please email mccloudnp@hcparks.net or call (765) 676-5437.
URL:https://hendrickscountyparks.org/event/tadpole-time-seeds-of-love-2/
LOCATION:McCloud Nature Park\, 8518 Hughes Road\, North Salem\, IN\, 46165\, United States
CATEGORIES:All Programs,Birds,McCloud Nature Park,Wildlife
ATTACH;FMTTYPE=image/png:https://hendrickscountyparks.org/wp-content/uploads/2024/12/Untitled-design-30.png
END:VEVENT
BEGIN:VEVENT
DTSTART;TZID=America/Indiana/Indianapolis:20250222T100000
DTEND;TZID=America/Indiana/Indianapolis:20250222T120000
DTSTAMP:20260423T225310
CREATED:20241122T165414Z
LAST-MODIFIED:20241122T165503Z
UID:10000794-1740218400-1740225600@hendrickscountyparks.org
SUMMARY:Bird Feeder Craft
DESCRIPTION:Join the Naturalists at McCloud and make your very own bird feeder! We will provide everything you need and talk about what kinds of seed to put out to attract the birds that you want. Cost includes a snack and one of two styles of birdfeeder to take home. \nRECOMMENDED FOR ALL AGES \nFEE: $25/PERSON FOR ONE FEEDER\, $40/PERSON FOR TWO FEEDERS \nADVANCE REGISTRATION REQUIRED BY FEBRUARY 8 AT: https://hcparks.recdesk.com/Community/Program/Detail?programId=907 \nAPPROXIMATE PROGRAM DURATION: 2 HOURS
URL:https://hendrickscountyparks.org/event/bird-feeder-craft/
LOCATION:McCloud Nature Park\, 8518 Hughes Road\, North Salem\, IN\, 46165\, United States
CATEGORIES:All Programs,Birds,McCloud Nature Park,Wildlife
ATTACH;FMTTYPE=image/jpeg:https://hendrickscountyparks.org/wp-content/uploads/2024/11/Bird-Feeder-Craft.jpg
END:VEVENT
BEGIN:VEVENT
DTSTART;TZID=America/Indiana/Indianapolis:20250222T100000
DTEND;TZID=America/Indiana/Indianapolis:20250222T150000
DTSTAMP:20260423T225310
CREATED:20241122T145018Z
LAST-MODIFIED:20241122T151752Z
UID:10000791-1740218400-1740236400@hendrickscountyparks.org
SUMMARY:Wild Birds Weekend
DESCRIPTION:The birds are singing at McCloud Nature Park\, so join us for a day of feathered fun! We will have a bird feeder craft\, speakers\, a Make-Your-Own-Suet-Cake demonstration and much more!  \nAPPROPRIATE FOR ALL AGES \nFREE TO ATTEND \nNO ADVANCE REGISTRATION REQUIRED \nAPPROXIMATE PROGRAM DURATION: 5 HOURS (ONGOING)
URL:https://hendrickscountyparks.org/event/wild-birds-weekend/
LOCATION:McCloud Nature Park\, 8518 Hughes Road\, North Salem\, IN\, 46165\, United States
CATEGORIES:All Programs,Birds,Festivals,McCloud Nature Park,Wildlife
ATTACH;FMTTYPE=image/jpeg:https://hendrickscountyparks.org/wp-content/uploads/2024/11/Wild-Birds-Weekend-CREDIT-ANTOINE-LETARTE.jpg
END:VEVENT
END:VCALENDAR