BEGIN:VCALENDAR
VERSION:2.0
PRODID:-//Hendricks County Parks &amp; Recreation - ECPv6.15.20//NONSGML v1.0//EN
CALSCALE:GREGORIAN
METHOD:PUBLISH
X-WR-CALNAME:Hendricks County Parks &amp; Recreation
X-ORIGINAL-URL:https://hendrickscountyparks.org
X-WR-CALDESC:Events for Hendricks County Parks &amp; Recreation
REFRESH-INTERVAL;VALUE=DURATION:PT1H
X-Robots-Tag:noindex
X-PUBLISHED-TTL:PT1H
BEGIN:VTIMEZONE
TZID:America/Indiana/Indianapolis
BEGIN:DAYLIGHT
TZOFFSETFROM:-0500
TZOFFSETTO:-0400
TZNAME:EDT
DTSTART:20240310T070000
END:DAYLIGHT
BEGIN:STANDARD
TZOFFSETFROM:-0400
TZOFFSETTO:-0500
TZNAME:EST
DTSTART:20241103T060000
END:STANDARD
BEGIN:DAYLIGHT
TZOFFSETFROM:-0500
TZOFFSETTO:-0400
TZNAME:EDT
DTSTART:20250309T070000
END:DAYLIGHT
BEGIN:STANDARD
TZOFFSETFROM:-0400
TZOFFSETTO:-0500
TZNAME:EST
DTSTART:20251102T060000
END:STANDARD
BEGIN:DAYLIGHT
TZOFFSETFROM:-0500
TZOFFSETTO:-0400
TZNAME:EDT
DTSTART:20260308T070000
END:DAYLIGHT
BEGIN:STANDARD
TZOFFSETFROM:-0400
TZOFFSETTO:-0500
TZNAME:EST
DTSTART:20261101T060000
END:STANDARD
END:VTIMEZONE
BEGIN:VEVENT
DTSTART;TZID=America/Indiana/Indianapolis:20250319T100000
DTEND;TZID=America/Indiana/Indianapolis:20250319T113000
DTSTAMP:20260423T180835
CREATED:20241202T202537Z
LAST-MODIFIED:20241202T203054Z
UID:10000809-1742378400-1742383800@hendrickscountyparks.org
SUMMARY:TADPOLE TIME: Amphib-a-what?
DESCRIPTION:Big words for small critters! Come learn about amphibians\, like frogs\, that are starting to hop about as they get ready for springtime! We’ll also learn about tadpoles and what those silly amphibians have been doing all winter.\n \nRecommended for ages 2-5 years old with parent/guardian (older siblings ages 6-7 are welcome to register also if they want to participate).\n \nOnly $3 per child! Advance registration is required by March 12 at: https://hcparks.recdesk.com/Community/Program/Detail?programId=918\n \nFor any questions or assistance with registration\, please email mccloudnp@hcparks.net or call (765) 676-5437.
URL:https://hendrickscountyparks.org/event/tadpole-time-amphib-a-what/
LOCATION:W.S. Gibbs Memorial Park\, 4521 Gibbs Road\, Danville\, IN\, 46122\, United States
CATEGORIES:All Programs,Amphibians,Tadpole Time,W.S. Gibbs Memorial Park,Wildlife
ATTACH;FMTTYPE=image/jpeg:https://hendrickscountyparks.org/wp-content/uploads/2017/02/frog2.jpg
END:VEVENT
BEGIN:VEVENT
DTSTART;TZID=America/Indiana/Indianapolis:20250320T100000
DTEND;TZID=America/Indiana/Indianapolis:20250320T113000
DTSTAMP:20260423T180835
CREATED:20241202T202717Z
LAST-MODIFIED:20241202T202717Z
UID:10000810-1742464800-1742470200@hendrickscountyparks.org
SUMMARY:TADPOLE TIME: Amphib-a-what?
DESCRIPTION:Big words for small critters! Come learn about amphibians\, like frogs\, that are starting to hop about as they get ready for springtime! We’ll also learn about tadpoles and what those silly amphibians have been doing all winter.\n \nRecommended for ages 2-5 years old with parent/guardian (older siblings ages 6-7 are welcome to register also if they want to participate).\n \nOnly $3 per child! Advance registration is required by March 12 at: https://hcparks.recdesk.com/Community/Program/Detail?programId=919\n \nFor any questions or assistance with registration\, please email mccloudnp@hcparks.net or call (765) 676-5437.
URL:https://hendrickscountyparks.org/event/tadpole-time-amphib-a-what-2/
LOCATION:McCloud Nature Park\, 8518 Hughes Road\, North Salem\, IN\, 46165\, United States
CATEGORIES:All Programs,Amphibians,McCloud Nature Park,Tadpole Time,Wildlife
ATTACH;FMTTYPE=image/jpeg:https://hendrickscountyparks.org/wp-content/uploads/2017/02/frog2.jpg
END:VEVENT
END:VCALENDAR