BEGIN:VCALENDAR
VERSION:2.0
PRODID:-//Hendricks County Parks &amp; Recreation - ECPv6.15.20//NONSGML v1.0//EN
CALSCALE:GREGORIAN
METHOD:PUBLISH
X-WR-CALNAME:Hendricks County Parks &amp; Recreation
X-ORIGINAL-URL:https://hendrickscountyparks.org
X-WR-CALDESC:Events for Hendricks County Parks &amp; Recreation
REFRESH-INTERVAL;VALUE=DURATION:PT1H
X-Robots-Tag:noindex
X-PUBLISHED-TTL:PT1H
BEGIN:VTIMEZONE
TZID:America/Indiana/Indianapolis
BEGIN:DAYLIGHT
TZOFFSETFROM:-0500
TZOFFSETTO:-0400
TZNAME:EDT
DTSTART:20240310T070000
END:DAYLIGHT
BEGIN:STANDARD
TZOFFSETFROM:-0400
TZOFFSETTO:-0500
TZNAME:EST
DTSTART:20241103T060000
END:STANDARD
BEGIN:DAYLIGHT
TZOFFSETFROM:-0500
TZOFFSETTO:-0400
TZNAME:EDT
DTSTART:20250309T070000
END:DAYLIGHT
BEGIN:STANDARD
TZOFFSETFROM:-0400
TZOFFSETTO:-0500
TZNAME:EST
DTSTART:20251102T060000
END:STANDARD
BEGIN:DAYLIGHT
TZOFFSETFROM:-0500
TZOFFSETTO:-0400
TZNAME:EDT
DTSTART:20260308T070000
END:DAYLIGHT
BEGIN:STANDARD
TZOFFSETFROM:-0400
TZOFFSETTO:-0500
TZNAME:EST
DTSTART:20261101T060000
END:STANDARD
END:VTIMEZONE
BEGIN:VEVENT
DTSTART;TZID=America/Indiana/Indianapolis:20250514T130000
DTEND;TZID=America/Indiana/Indianapolis:20250514T150000
DTSTAMP:20260423T180909
CREATED:20250317T200559Z
LAST-MODIFIED:20250317T200559Z
UID:10000832-1747227600-1747234800@hendrickscountyparks.org
SUMMARY:Crafty Creations
DESCRIPTION:Unleash your creativity with our Crafty Creations program! In each session\, we’ll explore a different craft project\, so there’s always something new and exciting to make. Every class offers a unique opportunity to learn new techniques and create something you’ll love\, from painting to paper crafts and more. Come join us for a fun and inspiring crafting experience! \nAPPROPRIATE FOR ALL AGES \nFREE TO ATTEND \nNO ADVANCE REGISTRATION REQUIRED \nAPPROXIMATE PROGRAM DURATION: 2 HOURS
URL:https://hendrickscountyparks.org/event/crafty-creations/
LOCATION:McCloud Nature Park\, 8518 Hughes Road\, North Salem\, IN\, 46165\, United States
CATEGORIES:All Programs,McCloud Nature Park
ATTACH;FMTTYPE=image/jpeg:https://hendrickscountyparks.org/wp-content/uploads/2025/03/Crafty-Creations.jpg
END:VEVENT
BEGIN:VEVENT
DTSTART;TZID=America/Indiana/Indianapolis:20250515T130000
DTEND;TZID=America/Indiana/Indianapolis:20250515T140000
DTSTAMP:20260423T180909
CREATED:20250317T201031Z
LAST-MODIFIED:20250317T201031Z
UID:10000836-1747314000-1747317600@hendrickscountyparks.org
SUMMARY:Skull Sleuths
DESCRIPTION:Embark on an interactive journey where we explore the unique characteristics of various animal skulls. Test your detective skills by guessing which animals these skulls belong to based on the clues we provide. Learn fascinating facts about their anatomy\, habits\, and habitats in this educational adventure. \nAPPROPRIATE FOR ALL AGES \nFREE TO ATTEND \nNO ADVANCE REGISTRATION REQUIRED \nAPPROXIMATE PROGRAM DURATION: 1 HOUR
URL:https://hendrickscountyparks.org/event/skull-sleuths/
LOCATION:McCloud Nature Park\, 8518 Hughes Road\, North Salem\, IN\, 46165\, United States
CATEGORIES:All Programs,McCloud Nature Park,Wildlife
ATTACH;FMTTYPE=image/jpeg:https://hendrickscountyparks.org/wp-content/uploads/2025/03/Skull-Sleuths.jpg
END:VEVENT
BEGIN:VEVENT
DTSTART;TZID=America/Indiana/Indianapolis:20250516T150000
DTEND;TZID=America/Indiana/Indianapolis:20250517T110000
DTSTAMP:20260423T180909
CREATED:20250318T185613Z
LAST-MODIFIED:20250318T185613Z
UID:10000870-1747407600-1747479600@hendrickscountyparks.org
SUMMARY:Family Campout
DESCRIPTION:THIS IS AN OVERNIGHT FAMILY CAMPOUT.\n \nHas your family ever been camping? McCloud Nature Park is a great place to try it out! This camping event is held only twice a year and provides an excellent opportunity to experience camping close to home. We’ll supply firewood and s’mores\, and we’ll also offer night hikes\, a naturalist campfire\, family crafts\, and breakfast the following morning. You can bring up to 6 family members or friends for a fun night at the park!\n \nCheck in on Friday between 3 p.m. and 6 p.m.Check out on Sunday by 11 a.m.\nQuiet Hours: 11 p.m.\n \nAppropriate for all ages.\n \nFor any questions or assistance with registration\, please call the McCloud Nature Center at (765) 676-5437.\n \nFEE: $30/tent site (up to 6 people per site)\nAdvance registration required by May 9 at: https://hcparks.recdesk.com/Community/Program/Detail?programId=924
URL:https://hendrickscountyparks.org/event/family-campout-5/
LOCATION:McCloud Nature Park\, 8518 Hughes Road\, North Salem\, IN\, 46165\, United States
CATEGORIES:All Programs,McCloud Nature Park
ATTACH;FMTTYPE=image/jpeg:https://hendrickscountyparks.org/wp-content/uploads/2022/08/Family-Campout-1-scaled.jpg
END:VEVENT
BEGIN:VEVENT
DTSTART;TZID=America/Indiana/Indianapolis:20250517T100000
DTEND;TZID=America/Indiana/Indianapolis:20250517T120000
DTSTAMP:20260423T180909
CREATED:20250425T185138Z
LAST-MODIFIED:20250425T185138Z
UID:10000885-1747476000-1747483200@hendrickscountyparks.org
SUMMARY:Spring Coffee & Canvas
DESCRIPTION:Join us for our Spring Coffee & Canvas program\, where you’ll have the opportunity to paint a beautiful floral and butterfly design while sipping on coffee and enjoying a pastry!  \nAPPROPRIATE FOR ALL AGES\nFEE: $35 (includes all materials needed for the painting\, class\, a coffee or cocoa\, and a pastry.)\nADVANCE REGISTRATION REQUIRED BY MAY 9 AT: https://hcparks.recdesk.com/Community/Program/Detail?programId=935 \nAPPROXIMATE PROGRAM DURATION: 2 HOURS
URL:https://hendrickscountyparks.org/event/spring-coffee-canvas/
LOCATION:McCloud Nature Park\, 8518 Hughes Road\, North Salem\, IN\, 46165\, United States
CATEGORIES:All Programs,Insects,McCloud Nature Park,Wildlife
ATTACH;FMTTYPE=image/jpeg:https://hendrickscountyparks.org/wp-content/uploads/2025/04/493274206_1094308252730700_3554705192791612995_n.jpg
ORGANIZER;CN="Creative Gatherings with Sherri":MAILTO:creativegatheringswithsherri@gmail.com
END:VEVENT
END:VCALENDAR