BEGIN:VCALENDAR
VERSION:2.0
PRODID:-//Hendricks County Parks &amp; Recreation - ECPv6.15.20//NONSGML v1.0//EN
CALSCALE:GREGORIAN
METHOD:PUBLISH
X-WR-CALNAME:Hendricks County Parks &amp; Recreation
X-ORIGINAL-URL:https://hendrickscountyparks.org
X-WR-CALDESC:Events for Hendricks County Parks &amp; Recreation
REFRESH-INTERVAL;VALUE=DURATION:PT1H
X-Robots-Tag:noindex
X-PUBLISHED-TTL:PT1H
BEGIN:VTIMEZONE
TZID:America/Indiana/Indianapolis
BEGIN:DAYLIGHT
TZOFFSETFROM:-0500
TZOFFSETTO:-0400
TZNAME:EDT
DTSTART:20240310T070000
END:DAYLIGHT
BEGIN:STANDARD
TZOFFSETFROM:-0400
TZOFFSETTO:-0500
TZNAME:EST
DTSTART:20241103T060000
END:STANDARD
BEGIN:DAYLIGHT
TZOFFSETFROM:-0500
TZOFFSETTO:-0400
TZNAME:EDT
DTSTART:20250309T070000
END:DAYLIGHT
BEGIN:STANDARD
TZOFFSETFROM:-0400
TZOFFSETTO:-0500
TZNAME:EST
DTSTART:20251102T060000
END:STANDARD
BEGIN:DAYLIGHT
TZOFFSETFROM:-0500
TZOFFSETTO:-0400
TZNAME:EDT
DTSTART:20260308T070000
END:DAYLIGHT
BEGIN:STANDARD
TZOFFSETFROM:-0400
TZOFFSETTO:-0500
TZNAME:EST
DTSTART:20261101T060000
END:STANDARD
END:VTIMEZONE
BEGIN:VEVENT
DTSTART;TZID=America/Indiana/Indianapolis:20250702T130000
DTEND;TZID=America/Indiana/Indianapolis:20250702T150000
DTSTAMP:20260423T163822
CREATED:20250318T153933Z
LAST-MODIFIED:20250318T153933Z
UID:10000850-1751461200-1751468400@hendrickscountyparks.org
SUMMARY:Creek Stomp
DESCRIPTION:Get ready for an exciting adventure with our Creek Stomp activity at McCloud Nature Park! Join us as we hike along the creek\, exploring and discovering the wonders of the natural world. From fascinating creatures to unique plant life\, there’s so much to see and learn. Whether you’re a nature enthusiast or just looking for a great outdoor activity\, this creek stomp promises a fantastic time for everyone. \nRECOMMENDED FOR AGES 5 AND UP. ALL PARTICIPANTS UNDER AGE 16 MUST BE ACCOMPANIED BY AN ADULT. \nFREE TO ATTEND \nNO ADVANCE REGISTRATON REQUIRED \nAPPROXIMATE PROGRAM DURATION: 2 HOURS
URL:https://hendrickscountyparks.org/event/creek-stomp-2/
LOCATION:McCloud Nature Park\, 8518 Hughes Road\, North Salem\, IN\, 46165\, United States
CATEGORIES:All Programs,McCloud Nature Park
ATTACH;FMTTYPE=image/jpeg:https://hendrickscountyparks.org/wp-content/uploads/2025/03/Creek-Stomp.jpg
END:VEVENT
BEGIN:VEVENT
DTSTART;TZID=America/Indiana/Indianapolis:20250702T163000
DTEND;TZID=America/Indiana/Indianapolis:20250702T183000
DTSTAMP:20260423T163822
CREATED:20250318T160040Z
LAST-MODIFIED:20250318T161357Z
UID:10000857-1751473800-1751481000@hendrickscountyparks.org
SUMMARY:Summer Fun Run
DESCRIPTION:The Parks Foundation of Hendricks County’s Summer Fun Run Series is back for 2025! Enjoy an untimed stroll or run with family and friends at your convenience between July 2 and July 8 at McCloud Nature Park! We will offer a short and a long course to run or walk on trails with gravel and natural surfaces. (Trails are not conducive to standard strollers. Jogging strollers with larger tires are a better option.) We’ll have staff on-site on July 2 between 4:30 and 6:30 p.m. with ice cold water for you to cool down with when you’re done if you’d like to complete your run or walk at that time. \nAPPROPRIATE FOR ALL AGES  \nVISIT https://runsignup.com/Race/IN/Danville/ParksFoundationofHendricksCountySummerFunRunSeries FOR REGISTRATION INFORMATION \nAPPROXIMATE PROGRAM DURATION: 2 HOURS (ONGOING) \n(Photo by Parks Foundation of Hendricks County)
URL:https://hendrickscountyparks.org/event/summer-fun-run-10/
LOCATION:McCloud Nature Park\, 8518 Hughes Road\, North Salem\, IN\, 46165\, United States
CATEGORIES:All Programs,McCloud Nature Park,Summer Fun Run Series
ATTACH;FMTTYPE=image/jpeg:https://hendrickscountyparks.org/wp-content/uploads/2025/03/Summer-Fun-Run-McCloud-CREDIT-PFOHC.jpg
ORGANIZER;CN="Parks Foundation of Hendricks County":MAILTO:katy@pfohc.org
END:VEVENT
BEGIN:VEVENT
DTSTART;TZID=America/Indiana/Indianapolis:20250703T130000
DTEND;TZID=America/Indiana/Indianapolis:20250703T150000
DTSTAMP:20260423T163822
CREATED:20250318T154027Z
LAST-MODIFIED:20250318T154027Z
UID:10000851-1751547600-1751554800@hendrickscountyparks.org
SUMMARY:Creek Stomp
DESCRIPTION:Get ready for an exciting adventure with our Creek Stomp activity at McCloud Nature Park! Join us as we hike along the creek\, exploring and discovering the wonders of the natural world. From fascinating creatures to unique plant life\, there’s so much to see and learn. Whether you’re a nature enthusiast or just looking for a great outdoor activity\, this creek stomp promises a fantastic time for everyone. \nRECOMMENDED FOR AGES 5 AND UP. ALL PARTICIPANTS UNDER AGE 16 MUST BE ACCOMPANIED BY AN ADULT. \nFREE TO ATTEND \nNO ADVANCE REGISTRATON REQUIRED \nAPPROXIMATE PROGRAM DURATION: 2 HOURS
URL:https://hendrickscountyparks.org/event/creek-stomp-3/
LOCATION:McCloud Nature Park\, 8518 Hughes Road\, North Salem\, IN\, 46165\, United States
CATEGORIES:All Programs,McCloud Nature Park
ATTACH;FMTTYPE=image/jpeg:https://hendrickscountyparks.org/wp-content/uploads/2025/03/Creek-Stomp.jpg
END:VEVENT
BEGIN:VEVENT
DTSTART;TZID=America/Indiana/Indianapolis:20250705T130000
DTEND;TZID=America/Indiana/Indianapolis:20250705T150000
DTSTAMP:20260423T163822
CREATED:20250318T152159Z
LAST-MODIFIED:20250318T152159Z
UID:10000842-1751720400-1751727600@hendrickscountyparks.org
SUMMARY:Naturalist's Choice
DESCRIPTION:Join us for the Naturalist’s Choice program\, where every session is a surprise adventure led by our naturalist team! Depending on the weather\, season\, and local wildlife activity\, you’ll explore a unique and engaging topic tailored to the day’s conditions. Be ready for anything and wear closed-toed shoes that you don’t mind getting wet for your safety and comfort. The naturalist will decide the topic a week before the program and announce it in the nature center and on our social media. Don’t miss out on this ever-changing exploration of the natural world!\n \nAPPROPRIATE FOR ALL AGESFREE TO ATTENDNO ADVANCE REGISTRATION REQUIREDAPPROXIMATE PROGRAM DURATION: 2 HOURS\n \n(Photo by Parks Foundation of Hendricks County)
URL:https://hendrickscountyparks.org/event/naturalists-choice-4/
LOCATION:McCloud Nature Park\, 8518 Hughes Road\, North Salem\, IN\, 46165\, United States
CATEGORIES:All Programs,McCloud Nature Park
ATTACH;FMTTYPE=image/jpeg:https://hendrickscountyparks.org/wp-content/uploads/2025/03/Naturalists-Choice-CREDIT-PFOHC.jpg
END:VEVENT
END:VCALENDAR