BEGIN:VCALENDAR
VERSION:2.0
PRODID:-//Hendricks County Parks &amp; Recreation - ECPv6.15.20//NONSGML v1.0//EN
CALSCALE:GREGORIAN
METHOD:PUBLISH
X-WR-CALNAME:Hendricks County Parks &amp; Recreation
X-ORIGINAL-URL:https://hendrickscountyparks.org
X-WR-CALDESC:Events for Hendricks County Parks &amp; Recreation
REFRESH-INTERVAL;VALUE=DURATION:PT1H
X-Robots-Tag:noindex
X-PUBLISHED-TTL:PT1H
BEGIN:VTIMEZONE
TZID:America/Indiana/Indianapolis
BEGIN:DAYLIGHT
TZOFFSETFROM:-0500
TZOFFSETTO:-0400
TZNAME:EDT
DTSTART:20240310T070000
END:DAYLIGHT
BEGIN:STANDARD
TZOFFSETFROM:-0400
TZOFFSETTO:-0500
TZNAME:EST
DTSTART:20241103T060000
END:STANDARD
BEGIN:DAYLIGHT
TZOFFSETFROM:-0500
TZOFFSETTO:-0400
TZNAME:EDT
DTSTART:20250309T070000
END:DAYLIGHT
BEGIN:STANDARD
TZOFFSETFROM:-0400
TZOFFSETTO:-0500
TZNAME:EST
DTSTART:20251102T060000
END:STANDARD
BEGIN:DAYLIGHT
TZOFFSETFROM:-0500
TZOFFSETTO:-0400
TZNAME:EDT
DTSTART:20260308T070000
END:DAYLIGHT
BEGIN:STANDARD
TZOFFSETFROM:-0400
TZOFFSETTO:-0500
TZNAME:EST
DTSTART:20261101T060000
END:STANDARD
END:VTIMEZONE
BEGIN:VEVENT
DTSTART;TZID=America/Indiana/Indianapolis:20250708T100000
DTEND;TZID=America/Indiana/Indianapolis:20250708T120000
DTSTAMP:20260423T163823
CREATED:20250318T205655Z
LAST-MODIFIED:20250612T123514Z
UID:10000883-1751968800-1751976000@hendrickscountyparks.org
SUMMARY:DAY CAMP: Naturalist for a Day (Ages 2-5 w/Adult)
DESCRIPTION:Become a Naturalist for a Day! Join us as we dive into the world of naturalists\, exploring animal care\, and discovering the basic ecology of Indiana. Campers will get hands-on experience with local wildlife\, learn to observe and identify plants and animals and understand the role of a naturalist in preserving our environment. It’s a day of adventure and learning in the heart of nature! \nFOR AGES 2-5 WITH A PARENT\nFEE: $12/CHILD (PARENT IS FREE)\nADVANCE REGISTRATION REQUIRED BY JUNE 1 AT: https://hcparks.recdesk.com/Community/Program/Detail?programId=899\nAPPROXIMATE PROGRAM DURATION: 2 HOURS \nAdult supervision is required\, not a drop off day camp.
URL:https://hendrickscountyparks.org/event/day-camp-naturalist-for-a-day-ages-2-5-w-adult/
LOCATION:W.S. Gibbs Memorial Park\, 4521 Gibbs Road\, Danville\, IN\, 46122\, United States
CATEGORIES:Ages 2-6,All Programs,Day Camps,W.S. Gibbs Memorial Park,Wildlife
ATTACH;FMTTYPE=image/jpeg:https://hendrickscountyparks.org/wp-content/uploads/2025/03/468032181_980423727452487_7918112586809998077_n.jpg
END:VEVENT
BEGIN:VEVENT
DTSTART;TZID=America/Indiana/Indianapolis:20250710T100000
DTEND;TZID=America/Indiana/Indianapolis:20250710T140000
DTSTAMP:20260423T163823
CREATED:20250318T204227Z
LAST-MODIFIED:20250612T123449Z
UID:10000879-1752141600-1752156000@hendrickscountyparks.org
SUMMARY:DAY CAMP: Naturalist for a Day (Ages 6-10)
DESCRIPTION:Become a Naturalist for a Day! Join us as we dive into the world of naturalists\, exploring animal care\, and discovering the basic ecology of Indiana. Campers will get hands-on experience with local wildlife\, learn to observe and identify plants and animals and understand the role of a naturalist in preserving our environment. It’s a day of adventure and learning in the heart of nature! \nFOR AGES 6-10\nFEE: $25\nADVANCE REGISTRATION REQUIRED BY JUNE 1 AT: https://hcparks.recdesk.com/Community/Program/Detail?programId=900\nAPPROXIMATE PROGRAM DURATION: 4 HOURS \nThis is a drop off day camp\, will break for group snack at 12 pm
URL:https://hendrickscountyparks.org/event/day-camp-naturalist-for-a-day-ages-6-10/
LOCATION:W.S. Gibbs Memorial Park\, 4521 Gibbs Road\, Danville\, IN\, 46122\, United States
CATEGORIES:Ages 7-12,All Programs,Day Camps,W.S. Gibbs Memorial Park,Wildlife
ATTACH;FMTTYPE=image/jpeg:https://hendrickscountyparks.org/wp-content/uploads/2025/03/468032181_980423727452487_7918112586809998077_n.jpg
END:VEVENT
BEGIN:VEVENT
DTSTART;TZID=America/Indiana/Indianapolis:20250712T130000
DTEND;TZID=America/Indiana/Indianapolis:20250712T150000
DTSTAMP:20260423T163823
CREATED:20250318T152257Z
LAST-MODIFIED:20250318T152257Z
UID:10000843-1752325200-1752332400@hendrickscountyparks.org
SUMMARY:Naturalist's Choice
DESCRIPTION:Join us for the Naturalist’s Choice program\, where every session is a surprise adventure led by our naturalist team! Depending on the weather\, season\, and local wildlife activity\, you’ll explore a unique and engaging topic tailored to the day’s conditions. Be ready for anything and wear closed-toed shoes that you don’t mind getting wet for your safety and comfort. The naturalist will decide the topic a week before the program and announce it in the nature center and on our social media. Don’t miss out on this ever-changing exploration of the natural world!\n \nAPPROPRIATE FOR ALL AGESFREE TO ATTENDNO ADVANCE REGISTRATION REQUIREDAPPROXIMATE PROGRAM DURATION: 2 HOURS\n \n(Photo by Parks Foundation of Hendricks County)
URL:https://hendrickscountyparks.org/event/naturalists-choice-5/
LOCATION:McCloud Nature Park\, 8518 Hughes Road\, North Salem\, IN\, 46165\, United States
CATEGORIES:All Programs,McCloud Nature Park
ATTACH;FMTTYPE=image/jpeg:https://hendrickscountyparks.org/wp-content/uploads/2025/03/Naturalists-Choice-CREDIT-PFOHC.jpg
END:VEVENT
END:VCALENDAR