BEGIN:VCALENDAR
VERSION:2.0
PRODID:-//Hendricks County Parks &amp; Recreation - ECPv6.15.20//NONSGML v1.0//EN
CALSCALE:GREGORIAN
METHOD:PUBLISH
X-WR-CALNAME:Hendricks County Parks &amp; Recreation
X-ORIGINAL-URL:https://hendrickscountyparks.org
X-WR-CALDESC:Events for Hendricks County Parks &amp; Recreation
REFRESH-INTERVAL;VALUE=DURATION:PT1H
X-Robots-Tag:noindex
X-PUBLISHED-TTL:PT1H
BEGIN:VTIMEZONE
TZID:America/Indiana/Indianapolis
BEGIN:DAYLIGHT
TZOFFSETFROM:-0500
TZOFFSETTO:-0400
TZNAME:EDT
DTSTART:20240310T070000
END:DAYLIGHT
BEGIN:STANDARD
TZOFFSETFROM:-0400
TZOFFSETTO:-0500
TZNAME:EST
DTSTART:20241103T060000
END:STANDARD
BEGIN:DAYLIGHT
TZOFFSETFROM:-0500
TZOFFSETTO:-0400
TZNAME:EDT
DTSTART:20250309T070000
END:DAYLIGHT
BEGIN:STANDARD
TZOFFSETFROM:-0400
TZOFFSETTO:-0500
TZNAME:EST
DTSTART:20251102T060000
END:STANDARD
BEGIN:DAYLIGHT
TZOFFSETFROM:-0500
TZOFFSETTO:-0400
TZNAME:EDT
DTSTART:20260308T070000
END:DAYLIGHT
BEGIN:STANDARD
TZOFFSETFROM:-0400
TZOFFSETTO:-0500
TZNAME:EST
DTSTART:20261101T060000
END:STANDARD
END:VTIMEZONE
BEGIN:VEVENT
DTSTART;TZID=America/Indiana/Indianapolis:20250730T130000
DTEND;TZID=America/Indiana/Indianapolis:20250730T150000
DTSTAMP:20260423T103843
CREATED:20250318T153257Z
LAST-MODIFIED:20250318T153257Z
UID:10000848-1753880400-1753887600@hendrickscountyparks.org
SUMMARY:Camouflage Critters
DESCRIPTION:Join us for an exciting hike as we explore the natural world and search for elusive camouflage critters! Discover how these incredible animals use their unique adaptations to blend into their surroundings and survive in the wild. Along the way\, we’ll discuss the fascinating science behind their camouflage techniques and the vital role these adaptations play in their lives. \nAPPROPRIATE FOR ALL AGES \nFREE TO ATTEND \nNO ADVANCE REGISTRATION REQUIRED \nAPPROXIMATE PROGRAM DURATION: 1 HOUR
URL:https://hendrickscountyparks.org/event/camouflage-critters-2/
LOCATION:McCloud Nature Park\, 8518 Hughes Road\, North Salem\, IN\, 46165\, United States
CATEGORIES:All Programs,McCloud Nature Park,Wildlife
ATTACH;FMTTYPE=image/jpeg:https://hendrickscountyparks.org/wp-content/uploads/2025/03/Camouflage-Critters.jpg
END:VEVENT
BEGIN:VEVENT
DTSTART;TZID=America/Indiana/Indianapolis:20250731T130000
DTEND;TZID=America/Indiana/Indianapolis:20250731T150000
DTSTAMP:20260423T103844
CREATED:20250317T200750Z
LAST-MODIFIED:20250317T200750Z
UID:10000834-1753966800-1753974000@hendrickscountyparks.org
SUMMARY:Crafty Creations
DESCRIPTION:Unleash your creativity with our Crafty Creations program! In each session\, we’ll explore a different craft project\, so there’s always something new and exciting to make. Every class offers a unique opportunity to learn new techniques and create something you’ll love\, from painting to paper crafts and more. Come join us for a fun and inspiring crafting experience! \nAPPROPRIATE FOR ALL AGES \nFREE TO ATTEND \nNO ADVANCE REGISTRATION REQUIRED \nAPPROXIMATE PROGRAM DURATION: 2 HOURS
URL:https://hendrickscountyparks.org/event/crafty-creations-3/
LOCATION:McCloud Nature Park\, 8518 Hughes Road\, North Salem\, IN\, 46165\, United States
CATEGORIES:All Programs,McCloud Nature Park
ATTACH;FMTTYPE=image/jpeg:https://hendrickscountyparks.org/wp-content/uploads/2025/03/Crafty-Creations.jpg
END:VEVENT
BEGIN:VEVENT
DTSTART;TZID=America/Indiana/Indianapolis:20250802T090000
DTEND;TZID=America/Indiana/Indianapolis:20250802T140000
DTSTAMP:20260423T103844
CREATED:20250317T193019Z
LAST-MODIFIED:20250317T193019Z
UID:10000825-1754125200-1754143200@hendrickscountyparks.org
SUMMARY:Farmer's Park-Et
DESCRIPTION:Come out to W.S. Gibbs Memorial Park this summer for our Farmer’s Park-Et event\, where you will find local artisans\, fresh seasonal produce\, and homemade goods available for purchase from local vendors! Last year’s event was such a big hit that we’re doing it THREE times this year!\n \nAPPROPRIATE FOR ALL AGESFREE TO ATTENDNO ADVANCE REGISTRATION REQUIREDAPPROXIMATE PROGRAM DURATION: 5 HOURS (ONGOING)\n \nVendor space is $20 for a 10’x10′ spot. If you would like to arrange booth space at this event\, contact us at mccloudnp@hcparks.net or (765) 676-5437.
URL:https://hendrickscountyparks.org/event/farmers-park-et-2/
LOCATION:W.S. Gibbs Memorial Park\, 4521 Gibbs Road\, Danville\, IN\, 46122\, United States
CATEGORIES:All Programs,W.S. Gibbs Memorial Park
ATTACH;FMTTYPE=image/jpeg:https://hendrickscountyparks.org/wp-content/uploads/2025/03/Farmers-Park-Et.jpg
END:VEVENT
END:VCALENDAR