BEGIN:VCALENDAR
VERSION:2.0
PRODID:-//Hendricks County Parks &amp; Recreation - ECPv6.15.20//NONSGML v1.0//EN
CALSCALE:GREGORIAN
METHOD:PUBLISH
X-ORIGINAL-URL:https://hendrickscountyparks.org
X-WR-CALDESC:Events for Hendricks County Parks &amp; Recreation
REFRESH-INTERVAL;VALUE=DURATION:PT1H
X-Robots-Tag:noindex
X-PUBLISHED-TTL:PT1H
BEGIN:VTIMEZONE
TZID:America/Indiana/Indianapolis
BEGIN:DAYLIGHT
TZOFFSETFROM:-0500
TZOFFSETTO:-0400
TZNAME:EDT
DTSTART:20240310T070000
END:DAYLIGHT
BEGIN:STANDARD
TZOFFSETFROM:-0400
TZOFFSETTO:-0500
TZNAME:EST
DTSTART:20241103T060000
END:STANDARD
BEGIN:DAYLIGHT
TZOFFSETFROM:-0500
TZOFFSETTO:-0400
TZNAME:EDT
DTSTART:20250309T070000
END:DAYLIGHT
BEGIN:STANDARD
TZOFFSETFROM:-0400
TZOFFSETTO:-0500
TZNAME:EST
DTSTART:20251102T060000
END:STANDARD
BEGIN:DAYLIGHT
TZOFFSETFROM:-0500
TZOFFSETTO:-0400
TZNAME:EDT
DTSTART:20260308T070000
END:DAYLIGHT
BEGIN:STANDARD
TZOFFSETFROM:-0400
TZOFFSETTO:-0500
TZNAME:EST
DTSTART:20261101T060000
END:STANDARD
END:VTIMEZONE
BEGIN:VEVENT
DTSTART;VALUE=DATE:20250906
DTEND;VALUE=DATE:20251101
DTSTAMP:20260421T174145
CREATED:20250814T191439Z
LAST-MODIFIED:20250915T193232Z
UID:10000966-1757116800-1761955199@hendrickscountyparks.org
SUMMARY:McCloud Prairie Maze
DESCRIPTION:Oh deer! We sure do have a good reason for you to come out to McCloud Nature Park during the months of September and October – our 2025 McCloud Prairie Maze celebrating deer! The maze is open daily from dawn to dusk from Sept. 6 to Oct. 31\, 2025. \nThe correct path through the maze is one (1) mile long. Be sure to explore the McCloud Prairie Maze by October 31! Bring the fawns\, too\, as this maze is appropriate for all ages. \nFor more information\, including a downloadable map\, visit: https://hendrickscountyparks.org/programs/mccloud-prairie-maze/ \nAPPROPRIATE FOR ALL AGES\nFREE TO ATTEND\nNO ADVANCE REGISTRATION REQUIRED
URL:https://hendrickscountyparks.org/event/mccloud-prairie-maze-4/
LOCATION:McCloud Nature Park\, 8518 Hughes Road\, North Salem\, IN\, 46165\, United States
CATEGORIES:All Programs,Hiking,Mammals,McCloud Nature Park,Wildlife
ATTACH;FMTTYPE=image/png:https://hendrickscountyparks.org/wp-content/uploads/2025/09/2025-Prairie-Maze.png
END:VEVENT
BEGIN:VEVENT
DTSTART;TZID=America/Indiana/Indianapolis:20250907T100000
DTEND;TZID=America/Indiana/Indianapolis:20250907T110000
DTSTAMP:20260421T174145
CREATED:20250813T192632Z
LAST-MODIFIED:20250813T192632Z
UID:10000930-1757239200-1757242800@hendrickscountyparks.org
SUMMARY:Backyard Birding
DESCRIPTION:Kick back with a warm cup of coffee and enjoy the peaceful sounds of a September morning as we gather for some casual birdwatching. Whether you’re a seasoned birder or just bird-curious\, this relaxing program invites you to slow down and discover who’s flitting by for breakfast. We’ll sip\, chat\, and watch the treetops together while adding to our community bird list—a running tally of all the avian visitors we spot throughout the month. From curious chickadees to flashy cardinals\, each week brings new feathered friends to the party. Binoculars and bird guides will be available or bring your own if you prefer. \nAPPROPRIATE FOR ALL AGES\nFREE TO ATTEND\nNO ADVANCE REGISTRATION REQUIRED\nAPPROX. PROGRAM DURATION: 1 HOUR \n(Photo by Nikki Hartung)
URL:https://hendrickscountyparks.org/event/backyard-birding/
LOCATION:McCloud Nature Park\, 8518 Hughes Road\, North Salem\, IN\, 46165\, United States
CATEGORIES:All Programs,Birds,McCloud Nature Park,Wildlife
ATTACH;FMTTYPE=image/jpeg:https://hendrickscountyparks.org/wp-content/uploads/2025/08/Backyard-Birding-CREDIT-NIKKI-HARTUNG-scaled.jpg
END:VEVENT
BEGIN:VEVENT
DTSTART;TZID=America/Indiana/Indianapolis:20250910T100000
DTEND;TZID=America/Indiana/Indianapolis:20250910T113000
DTSTAMP:20260421T174145
CREATED:20250814T181632Z
LAST-MODIFIED:20250814T181632Z
UID:10000958-1757498400-1757503800@hendrickscountyparks.org
SUMMARY:TADPOLE TIME: Geology Rocks!
DESCRIPTION:Get ready to rock your little one’s world at Tadpole Time: Geology Rocks! This hands on program introduces young explorers to the fascinating geology of Indiana through stories\, songs\, and interactive activities. From dazzling geodes to ancient fossils\, we’ll uncover the secrets hidden in our state’s stones then head outside for a short hike to discover what treasures might be lying beneath our feet. \nRECOMMENDED FOR AGES 2-7 WITH PARENT OR GUARDIAN (THIS IS NOT A DROP-OFF PROGRAM). OLDER SIBLINGS\, ARE WELCOME TO REGISTER AND PARTICIPATE\, TOO.\nFEE: $5/CHILD (PARENT/GUARDIAN IS FREE).\nADVANCE REGISTRATION REQUIRED BY SEPT. 3 AT: https://hcparks.recdesk.com/Community/Program/Detail?programId=938\nAPPROXIMATE PROGRAM DURATION: 1.5 HOURS.
URL:https://hendrickscountyparks.org/event/tadpole-time-geology-rocks/
LOCATION:McCloud Nature Park\, 8518 Hughes Road\, North Salem\, IN\, 46165\, United States
CATEGORIES:All Programs,McCloud Nature Park,Tadpole Time
ATTACH;FMTTYPE=image/jpeg:https://hendrickscountyparks.org/wp-content/uploads/2025/08/96215604_107386154302366_5777800292472979456_n.jpg
END:VEVENT
BEGIN:VEVENT
DTSTART;TZID=America/Indiana/Indianapolis:20250911T100000
DTEND;TZID=America/Indiana/Indianapolis:20250911T113000
DTSTAMP:20260421T174145
CREATED:20250814T181911Z
LAST-MODIFIED:20250814T181911Z
UID:10000959-1757584800-1757590200@hendrickscountyparks.org
SUMMARY:TADPOLE TIME: Geology Rocks!
DESCRIPTION:Get ready to rock your little one’s world at Tadpole Time: Geology Rocks! This hands on program introduces young explorers to the fascinating geology of Indiana through stories\, songs\, and interactive activities. From dazzling geodes to ancient fossils\, we’ll uncover the secrets hidden in our state’s stones then head outside for a short hike to discover what treasures might be lying beneath our feet. \nRECOMMENDED FOR AGES 2-7 WITH PARENT OR GUARDIAN (THIS IS NOT A DROP-OFF PROGRAM). OLDER SIBLINGS\, ARE WELCOME TO REGISTER AND PARTICIPATE\, TOO.\nFEE: $5/CHILD (PARENT/GUARDIAN IS FREE).\nADVANCE REGISTRATION REQUIRED BY SEPT. 4 AT: https://hcparks.recdesk.com/Community/Program/Detail?programId=939\nAPPROXIMATE PROGRAM DURATION: 1.5 HOURS.
URL:https://hendrickscountyparks.org/event/tadpole-time-geology-rocks-2/
LOCATION:W.S. Gibbs Memorial Park\, 4521 Gibbs Road\, Danville\, IN\, 46122\, United States
CATEGORIES:All Programs,Tadpole Time,W.S. Gibbs Memorial Park
ATTACH;FMTTYPE=image/jpeg:https://hendrickscountyparks.org/wp-content/uploads/2025/08/96215604_107386154302366_5777800292472979456_n.jpg
END:VEVENT
BEGIN:VEVENT
DTSTART;TZID=America/Indiana/Indianapolis:20250912T080000
DTEND;TZID=America/Indiana/Indianapolis:20250912T090000
DTSTAMP:20260421T174145
CREATED:20250813T193913Z
LAST-MODIFIED:20250813T193913Z
UID:10000935-1757664000-1757667600@hendrickscountyparks.org
SUMMARY:Run Club
DESCRIPTION:Come for the miles\, stay for the smiles! Running is better with friends—and a beautiful trail beneath your feet. Lace up and join us for Run Club\, a welcoming\, non-competitive group run through our local parks and nature trails. We’ll gather at 8 a.m. at the designated park or trailhead\, warm up together\, and hit the path for an hour-long journey that includes pre- and post-run stretching to keep your body happy and healthy. Whether you’re a seasoned runner or just starting out\, this program is open to all paces and experience levels. Come build endurance\, explore the outdoors\, and enjoy the camaraderie of a supportive running community. Wear running shoes\, appropriate clothing for the weather\, and bring snacks and water! \nAPPROPRIATE FOR ALL AGES\nFREE TO ATTEND\nNO ADVANCE REGISTRATION REQUIRED\nAPPROX. PROGRAM DURATION: 1 HOUR
URL:https://hendrickscountyparks.org/event/run-club/
LOCATION:Vandalia Trail – Amo Trailhead\, 5042 South Street\, Amo\, IN\, 46103\, United States
CATEGORIES:All Programs,Vandalia Trail
ATTACH;FMTTYPE=image/png:https://hendrickscountyparks.org/wp-content/uploads/2025/08/Run-Club-scaled.png
END:VEVENT
BEGIN:VEVENT
DTSTART;TZID=America/Indiana/Indianapolis:20250912T093000
DTEND;TZID=America/Indiana/Indianapolis:20250912T103000
DTSTAMP:20260421T174145
CREATED:20250813T185951Z
LAST-MODIFIED:20250813T185951Z
UID:10000922-1757669400-1757673000@hendrickscountyparks.org
SUMMARY:Phenology Fridays
DESCRIPTION:This is your invitation to watch the seasons change in McCloud Nature Park! We will go on a guided hike to the same spot every week and document our observations: weather\, wildlife\, plants at different stages\, including the turning of leaves for autumn. Our goal is to guide participants to explore and understand the cyclical nature of the seasons in Hendricks County. Bring anything that would make your hike more enjoyable: binoculars\, camera\, notebook\, field guidebooks\, etc. This program will be held rain or shine (except for lightning)\, so be prepared! \nRECOMMENDED FOR AGES 8 THROUGH ADULT\nFREE TO ATTEND\nNO ADVANCE REGISTRATION REQUIRED\nAPPROX. PROGRAM DURATION: 1 HOUR
URL:https://hendrickscountyparks.org/event/phenology-fridays-2/
LOCATION:McCloud Nature Park\, 8518 Hughes Road\, North Salem\, IN\, 46165\, United States
CATEGORIES:All Programs,Hiking,McCloud Nature Park,Wildlife
ATTACH;FMTTYPE=image/png:https://hendrickscountyparks.org/wp-content/uploads/2025/08/Phenology-Fridays-scaled.png
END:VEVENT
BEGIN:VEVENT
DTSTART;TZID=America/Indiana/Indianapolis:20250913T100000
DTEND;TZID=America/Indiana/Indianapolis:20250913T120000
DTSTAMP:20260421T174146
CREATED:20250813T193622Z
LAST-MODIFIED:20250813T193622Z
UID:10000934-1757757600-1757764800@hendrickscountyparks.org
SUMMARY:Sassafras Beads Workshop
DESCRIPTION:Create something beautiful naturally! Join us for a hands-on workshop where nature meets creativity! Using beads made from the native sassafras tree\, participants will craft their own unique bracelet or necklace while enjoying a cookie or muffin. Whether you’re a seasoned jewelry maker or trying something new\, this workshop is designed to guide you step-by-step in creating a wearable work of art inspired by the outdoors. \nAPPROPRIATE FOR ALL AGES\nFEE: $20/PERSON\nADVANCE REGISTRATION REQUIRED BY SEPT. 6 AT: https://hcparks.recdesk.com/Community/Program/Detail?programId=940\nAPPROX. PROGRAM DURATION: 2 HOURS
URL:https://hendrickscountyparks.org/event/sassafras-beads-workshop/
LOCATION:McCloud Nature Park\, 8518 Hughes Road\, North Salem\, IN\, 46165\, United States
CATEGORIES:All Programs,McCloud Nature Park
ATTACH;FMTTYPE=image/jpeg:https://hendrickscountyparks.org/wp-content/uploads/2025/08/526279190_1174519558042902_4118857380105139339_n.jpg
END:VEVENT
END:VCALENDAR