BEGIN:VCALENDAR
VERSION:2.0
PRODID:-//Hendricks County Parks &amp; Recreation - ECPv6.15.20//NONSGML v1.0//EN
CALSCALE:GREGORIAN
METHOD:PUBLISH
X-WR-CALNAME:Hendricks County Parks &amp; Recreation
X-ORIGINAL-URL:https://hendrickscountyparks.org
X-WR-CALDESC:Events for Hendricks County Parks &amp; Recreation
REFRESH-INTERVAL;VALUE=DURATION:PT1H
X-Robots-Tag:noindex
X-PUBLISHED-TTL:PT1H
BEGIN:VTIMEZONE
TZID:America/Indiana/Indianapolis
BEGIN:DAYLIGHT
TZOFFSETFROM:-0500
TZOFFSETTO:-0400
TZNAME:EDT
DTSTART:20240310T070000
END:DAYLIGHT
BEGIN:STANDARD
TZOFFSETFROM:-0400
TZOFFSETTO:-0500
TZNAME:EST
DTSTART:20241103T060000
END:STANDARD
BEGIN:DAYLIGHT
TZOFFSETFROM:-0500
TZOFFSETTO:-0400
TZNAME:EDT
DTSTART:20250309T070000
END:DAYLIGHT
BEGIN:STANDARD
TZOFFSETFROM:-0400
TZOFFSETTO:-0500
TZNAME:EST
DTSTART:20251102T060000
END:STANDARD
BEGIN:DAYLIGHT
TZOFFSETFROM:-0500
TZOFFSETTO:-0400
TZNAME:EDT
DTSTART:20260308T070000
END:DAYLIGHT
BEGIN:STANDARD
TZOFFSETFROM:-0400
TZOFFSETTO:-0500
TZNAME:EST
DTSTART:20261101T060000
END:STANDARD
END:VTIMEZONE
BEGIN:VEVENT
DTSTART;TZID=America/Indiana/Indianapolis:20251217T130000
DTEND;TZID=America/Indiana/Indianapolis:20251217T150000
DTSTAMP:20260421T035732
CREATED:20250813T145159Z
LAST-MODIFIED:20250813T145159Z
UID:10000897-1765976400-1765983600@hendrickscountyparks.org
SUMMARY:Crafty Creations
DESCRIPTION:Unleash your creativity with our Crafty Creations! In each session\, we’ll explore a different craft project\, so there’s always something new and exciting to make. Every class offers a unique opportunity to learn new techniques and create something you’ll love\, from painting to paper crafts and more. Come join us for a fun and inspiring crafting experience. \nAPPROPRIATE FOR ALL AGES\nFREE TO ATTEND\nNO ADVANCE REGISTRATION REQUIRED\nAPPROXIMATE PROGRAM DURATION: 2 HOURS (ONGOING)
URL:https://hendrickscountyparks.org/event/crafty-creations-16/
LOCATION:McCloud Nature Park\, 8518 Hughes Road\, North Salem\, IN\, 46165\, United States
CATEGORIES:All Programs,McCloud Nature Park
ATTACH;FMTTYPE=image/png:https://hendrickscountyparks.org/wp-content/uploads/2025/08/Crafty-Creations-scaled.png
END:VEVENT
BEGIN:VEVENT
DTSTART;TZID=America/Indiana/Indianapolis:20251218T130000
DTEND;TZID=America/Indiana/Indianapolis:20251218T150000
DTSTAMP:20260421T035732
CREATED:20250813T152608Z
LAST-MODIFIED:20250813T152608Z
UID:10000909-1766062800-1766070000@hendrickscountyparks.org
SUMMARY:Naturalist's Choice
DESCRIPTION:Join us for the Naturalist’s Choice program\, where every session is a surprise adventure led by our naturalist team! Depending on the weather\, season\, and local wildlife activity\, you’ll explore a unique and engaging topic tailored to the day’s conditions. Be ready for anything and wear closed-toed shoes that you don’t mind getting wet or dirty for your safety and comfort. The naturalists will decide the topic of the week and announce it in the nature center and on our social media. Don’t miss out on this ever-changing exploration of the natural world! \nAPPROPRIATE FOR ALL AGES\nFREE TO ATTEND\nNO ADVANCE REGISTRATION REQUIRED\nAPPROX. PROGRAM DURATION: 2 HOURS
URL:https://hendrickscountyparks.org/event/naturalists-choice-16/
LOCATION:McCloud Nature Park\, 8518 Hughes Road\, North Salem\, IN\, 46165\, United States
CATEGORIES:All Programs,McCloud Nature Park
ATTACH;FMTTYPE=image/png:https://hendrickscountyparks.org/wp-content/uploads/2025/08/Naturalists-Choice-scaled.png
END:VEVENT
BEGIN:VEVENT
DTSTART;TZID=America/Indiana/Indianapolis:20251219T080000
DTEND;TZID=America/Indiana/Indianapolis:20251219T090000
DTSTAMP:20260421T035732
CREATED:20250813T194753Z
LAST-MODIFIED:20250813T194753Z
UID:10000941-1766131200-1766134800@hendrickscountyparks.org
SUMMARY:Run Club
DESCRIPTION:Come for the miles\, stay for the smiles! Running is better with friends—and a beautiful trail beneath your feet. Lace up and join us for Run Club\, a welcoming\, non-competitive group run through our local parks and nature trails. We’ll gather at 8 a.m. at the designated park or trailhead\, warm up together\, and hit the path for an hour-long journey that includes pre- and post-run stretching to keep your body happy and healthy. Whether you’re a seasoned runner or just starting out\, this program is open to all paces and experience levels. Come build endurance\, explore the outdoors\, and enjoy the camaraderie of a supportive running community. Wear running shoes\, appropriate clothing for the weather\, and bring snacks and water! \nAPPROPRIATE FOR ALL AGES\nFREE TO ATTEND\nNO ADVANCE REGISTRATION REQUIRED\nAPPROX. PROGRAM DURATION: 1 HOUR
URL:https://hendrickscountyparks.org/event/run-club-7/
LOCATION:McCloud Nature Park\, 8518 Hughes Road\, North Salem\, IN\, 46165\, United States
CATEGORIES:All Programs,McCloud Nature Park
ATTACH;FMTTYPE=image/png:https://hendrickscountyparks.org/wp-content/uploads/2025/08/Run-Club-scaled.png
END:VEVENT
BEGIN:VEVENT
DTSTART;TZID=America/Indiana/Indianapolis:20251220T100000
DTEND;TZID=America/Indiana/Indianapolis:20251220T140000
DTSTAMP:20260421T035732
CREATED:20250814T153106Z
LAST-MODIFIED:20250814T153106Z
UID:10000955-1766224800-1766239200@hendrickscountyparks.org
SUMMARY:Winter Board Game Blitz
DESCRIPTION:Warm up your winter with a cozy day of classic fun at McCloud Nature Park’s Winter Board Game Day! Gather with friends and family in our heated nature center for an assortment of board games\, hot drinks\, and laughter-filled competition for all ages. Whether you’re a seasoned strategist or just in it for the giggles\, this is the perfect way to unwind and connect—no mittens required. \nAPPROPRIATE FOR ALL AGES\nFREE TO ATTEND\nNO ADVANCE REGISTRATION REQUIRED\nAPPROX. PROGRAM DURATION: 4 HOURS (ONGOING)
URL:https://hendrickscountyparks.org/event/winter-board-game-blitz-2/
LOCATION:McCloud Nature Park\, 8518 Hughes Road\, North Salem\, IN\, 46165\, United States
CATEGORIES:All Programs,Games,McCloud Nature Park
ATTACH;FMTTYPE=image/png:https://hendrickscountyparks.org/wp-content/uploads/2025/08/Winter-Board-Game-Blitz-scaled.png
END:VEVENT
END:VCALENDAR