BEGIN:VCALENDAR
VERSION:2.0
PRODID:-//Hendricks County Parks &amp; Recreation - ECPv6.15.20//NONSGML v1.0//EN
CALSCALE:GREGORIAN
METHOD:PUBLISH
X-ORIGINAL-URL:https://hendrickscountyparks.org
X-WR-CALDESC:Events for Hendricks County Parks &amp; Recreation
REFRESH-INTERVAL;VALUE=DURATION:PT1H
X-Robots-Tag:noindex
X-PUBLISHED-TTL:PT1H
BEGIN:VTIMEZONE
TZID:America/Indiana/Indianapolis
BEGIN:DAYLIGHT
TZOFFSETFROM:-0500
TZOFFSETTO:-0400
TZNAME:EDT
DTSTART:20250309T070000
END:DAYLIGHT
BEGIN:STANDARD
TZOFFSETFROM:-0400
TZOFFSETTO:-0500
TZNAME:EST
DTSTART:20251102T060000
END:STANDARD
BEGIN:DAYLIGHT
TZOFFSETFROM:-0500
TZOFFSETTO:-0400
TZNAME:EDT
DTSTART:20260308T070000
END:DAYLIGHT
BEGIN:STANDARD
TZOFFSETFROM:-0400
TZOFFSETTO:-0500
TZNAME:EST
DTSTART:20261101T060000
END:STANDARD
BEGIN:DAYLIGHT
TZOFFSETFROM:-0500
TZOFFSETTO:-0400
TZNAME:EDT
DTSTART:20270314T070000
END:DAYLIGHT
BEGIN:STANDARD
TZOFFSETFROM:-0400
TZOFFSETTO:-0500
TZNAME:EST
DTSTART:20271107T060000
END:STANDARD
END:VTIMEZONE
BEGIN:VEVENT
DTSTART;TZID=America/Indiana/Indianapolis:20260714T100000
DTEND;TZID=America/Indiana/Indianapolis:20260714T110000
DTSTAMP:20260420T095904
CREATED:20260416T162126Z
LAST-MODIFIED:20260416T162126Z
UID:10001052-1784023200-1784026800@hendrickscountyparks.org
SUMMARY:Kids' Yoga in the Park
DESCRIPTION:Join Balance & Breath Yoga & Wellness Center this summer for FREE Yoga in the Park programs!\nGrab a beach towel or yoga mat\, some water\, and join us at the Bluegill Shelter at W.S. Gibbs Memorial Park! Our beginner-friendly series of classes are great for meeting those in the community and enjoying gentle movement outdoors in a beautiful park!\n\nThree different programs available:\n\nFamily Yoga (families of all ages)\, Saturdays at 9 a.m.\, (1-hour session)\nKids Yoga (ages 5-10)\, Tuesdays at 10 a.m.\, (1-hour session)\nYoga in the Park (all ages)\, Fridays at 7 p.m.\, (1-hour session)\n\nFor kids ages 5-10\nFREE to attend\nNo Advance Registration Required
URL:https://hendrickscountyparks.org/event/kids-yoga-in-the-park/2026-07-14/
LOCATION:W.S. Gibbs Memorial Park\, 4521 Gibbs Road\, Danville\, IN\, 46122\, United States
CATEGORIES:All Programs,W.S. Gibbs Memorial Park
ATTACH;FMTTYPE=image/png:https://hendrickscountyparks.org/wp-content/uploads/2026/04/229B8BB8-C20D-4366-BAC5-A188D0CC0847.png
ORGANIZER;CN="Balance & Breath Yoga and Wellness Center":MAILTO:hello@balanceandbreathyoga.com
END:VEVENT
BEGIN:VEVENT
DTSTART;TZID=America/Indiana/Indianapolis:20260714T100000
DTEND;TZID=America/Indiana/Indianapolis:20260714T110000
DTSTAMP:20260420T095904
CREATED:20260417T195850Z
LAST-MODIFIED:20260417T195850Z
UID:10001129-1784023200-1784026800@hendrickscountyparks.org
SUMMARY:TADPOLE TIME: Natural Dyes!
DESCRIPTION:Come join us for a fun and creative time as we explore how to make natural dyes from things you can find right in your backyard! Plus you’ll get to dye a piece of fabric to take home and cherish! \nFOR AGES 2-7 WITH A PARENT OR GUARDIAN\nFEE: $5/CHILD\nADVANCE REGISTRATION REQUIRED BY JULY 10 AT: https://hcparks.recdesk.com/Community/Program/Detail?programId=1011\nAPPROXIMATE PROGRAM DURATION: 1 HOUR
URL:https://hendrickscountyparks.org/event/tadpole-time-natural-dyes/
LOCATION:W.S. Gibbs Memorial Park\, 4521 Gibbs Road\, Danville\, IN\, 46122\, United States
CATEGORIES:All Programs,Crafts,Plants and Trees,Reptiles,Tadpole Time,W.S. Gibbs Memorial Park
ATTACH;FMTTYPE=image/jpeg:https://hendrickscountyparks.org/wp-content/uploads/2026/04/Natural-Dye-Workshop.jpg
END:VEVENT
BEGIN:VEVENT
DTSTART;TZID=America/Indiana/Indianapolis:20260715T100000
DTEND;TZID=America/Indiana/Indianapolis:20260715T120000
DTSTAMP:20260420T095904
CREATED:20260417T184114Z
LAST-MODIFIED:20260417T184114Z
UID:10001117-1784109600-1784116800@hendrickscountyparks.org
SUMMARY:NATURE DISCOVERY: Fossil Hunters
DESCRIPTION:Thousands of fossils lay on the shores of Big Walnut Creek at McCloud Nature Park! Though we are unlikely to find a T-Rex skull\, we will search for Paleozoic marine fossils like crinoids and corals and learn how to identify them. Our naturalists will talk you through the ancient history of our land. \nFOR AGES 7-12 WITH A PARENT OR GUARDIAN\nFEE: $5/PARTICIPANT\nADVANCE REGISTRATION REQUIRED BY JULY 10 AT: https://hcparks.recdesk.com/Community/Program/Detail?programId=990\nAPPROXIMATE PROGRAM DURATION: 2 HOURS
URL:https://hendrickscountyparks.org/event/nature-discovery-fossil-hunters/
LOCATION:McCloud Nature Park\, 8518 Hughes Road\, North Salem\, IN\, 46165\, United States
CATEGORIES:All Programs,Hiking,McCloud Nature Park,Nature Discovery Series,Soil & Water,Tweens
ATTACH;FMTTYPE=image/jpeg:https://hendrickscountyparks.org/wp-content/uploads/2026/04/Richmond_Horn_fossil_NS_e1597259662483_7827a1e1-7d9e-40cc-8127-8ae7d6784c95.jpg
END:VEVENT
BEGIN:VEVENT
DTSTART;TZID=America/Indiana/Indianapolis:20260715T163000
DTEND;TZID=America/Indiana/Indianapolis:20260715T183000
DTSTAMP:20260420T095904
CREATED:20260416T184400Z
LAST-MODIFIED:20260416T184421Z
UID:10001100-1784133000-1784140200@hendrickscountyparks.org
SUMMARY:Summer Fun Run
DESCRIPTION:The Parks Foundation of Hendricks County’s Summer Fun Run Series is back for 2026! Enjoy an untimed stroll or run with family and friends at McCloud Nature Park at your convenience anytime between July 15 and July 20. We will offer a short and a long course to run or walk on trails with gravel and natural surfaces. (Some trails are not conducive to standard strollers. Jogging strollers with larger tires are a better option.) On July 15 between 4:30 and 6:30 p.m.\, we’ll have staff on-site with ice cold water for you to cool down with when you’re done if you’d like to complete your run or walk at that time.\n\nAPPROPRIATE FOR ALL AGES\nVISIT https://runsignup.com/Race/IN/Danville/ParksFoundationofHendricksCountySummerFunRunSeries FOR REGISTRATION INFORMATION\nAPPROXIMATE PROGRAM DURATION: 2 HOURS (ONGOING)\n\n(Photo by Parks Foundation of Hendricks County)
URL:https://hendrickscountyparks.org/event/summer-fun-run-14/
LOCATION:McCloud Nature Park\, 8518 Hughes Road\, North Salem\, IN\, 46165\, United States
CATEGORIES:All Programs,McCloud Nature Park,Summer Fun Run Series
ATTACH;FMTTYPE=image/jpeg:https://hendrickscountyparks.org/wp-content/uploads/2026/03/McCloud-Summer-Fun-Run-CREDIT-PFOHC.jpg
ORGANIZER;CN="Parks Foundation of Hendricks County":MAILTO:katy@pfohc.org
END:VEVENT
BEGIN:VEVENT
DTSTART;TZID=America/Indiana/Indianapolis:20260716T140000
DTEND;TZID=America/Indiana/Indianapolis:20260716T150000
DTSTAMP:20260420T095904
CREATED:20260416T171505Z
LAST-MODIFIED:20260416T171505Z
UID:10001071-1784210400-1784214000@hendrickscountyparks.org
SUMMARY:Critter Feeding!
DESCRIPTION:Meet all of our ambassador animals for a late lunch while we talk about what and how they eat! \nAPPROPRIATE FOR ALL AGESFEE: $2/PERSONADVANCE REGISTRATION REQUIREDAPPROXIMATE PROGRAM DURATION: 1 HOUR \nRegistration Links \n\nMay 14: https://hcparks.recdesk.com/Community/Program/Detail?programId=1017\nMay 21: https://hcparks.recdesk.com/Community/Program/Detail?programId=1018\nMay 28: https://hcparks.recdesk.com/Community/Program/Detail?programId=1019\nJune 4: https://hcparks.recdesk.com/Community/Program/Detail?programId=1020\nJune 11: https://hcparks.recdesk.com/Community/Program/Detail?programId=1021\nJune 18: https://hcparks.recdesk.com/Community/Program/Detail?programId=1022\nJune 25: https://hcparks.recdesk.com/Community/Program/Detail?programId=1023\nJuly 2: https://hcparks.recdesk.com/Community/Program/Detail?programId=1024\nJuly 9: https://hcparks.recdesk.com/Community/Program/Detail?programId=1025\nJuly 16: https://hcparks.recdesk.com/Community/Program/Detail?programId=1026\nJuly 23: https://hcparks.recdesk.com/Community/Program/Detail?programId=1027\nJuly 30: https://hcparks.recdesk.com/Community/Program/Detail?programId=1029\nAug. 6: https://hcparks.recdesk.com/Community/Program/Detail?programId=1030\nAug. 13: https://hcparks.recdesk.com/Community/Program/Detail?programId=1031\nAug. 20: https://hcparks.recdesk.com/Community/Program/Detail?programId=1032\nAug. 27: https://hcparks.recdesk.com/Community/Program/Detail?programId=1033
URL:https://hendrickscountyparks.org/event/critter-feeding/2026-07-16/
LOCATION:McCloud Nature Park\, 8518 Hughes Road\, North Salem\, IN\, 46165\, United States
CATEGORIES:All Programs,Amphibians,Insects,McCloud Nature Park,Reptiles,Wildlife
ATTACH;FMTTYPE=image/jpeg:https://hendrickscountyparks.org/wp-content/uploads/2026/03/critter-feeding-photo.jpg
END:VEVENT
BEGIN:VEVENT
DTSTART;TZID=America/Indiana/Indianapolis:20260716T203000
DTEND;TZID=America/Indiana/Indianapolis:20260716T220000
DTSTAMP:20260420T095904
CREATED:20260417T181951Z
LAST-MODIFIED:20260417T181951Z
UID:10001113-1784233800-1784239200@hendrickscountyparks.org
SUMMARY:ROOTED IN NATURE CLUB: Night Hike
DESCRIPTION:You’ve seen our parks in the day\, but now is your chance to explore them at night! This evening session of our club will include a campfire (with s’mores\, of course!) and faith in our naturalists as we guide you through the dark. Don’t worry\, we’ll have flashlights on hand for safety\, but the more we are in the dark\, the more our eyes will adjust\, similar to the nocturnal critters we’ll meet along the way. Snacks provided. \nFOR AGES 13-18\nFEE: $10/TEEN\nADVANCE REGISTRATION REQUIRED BY JULY 13 AT: https://hcparks.recdesk.com/Community/Program/Detail?programId=1015\nAPPROXIMATE PROGRAM DURATION: 90 MINUTES
URL:https://hendrickscountyparks.org/event/rooted-in-nature-club-night-hike/
LOCATION:McCloud Nature Park\, 8518 Hughes Road\, North Salem\, IN\, 46165\, United States
CATEGORIES:All Programs,Hiking,McCloud Nature Park,Rooted in Nature Club,Teens
ATTACH;FMTTYPE=image/jpeg:https://hendrickscountyparks.org/wp-content/uploads/2026/04/raccoon-nighttime-vision.jpg
END:VEVENT
BEGIN:VEVENT
DTSTART;TZID=America/Indiana/Indianapolis:20260717T190000
DTEND;TZID=America/Indiana/Indianapolis:20260717T200000
DTSTAMP:20260420T095904
CREATED:20260416T155715Z
LAST-MODIFIED:20260416T160118Z
UID:10001047-1784314800-1784318400@hendrickscountyparks.org
SUMMARY:Yoga in the Park - All Ages
DESCRIPTION:Join Balance & Breath Yoga & Wellness Center this summer for FREE Yoga in the Park programs!\nGrab a beach towel or yoga mat\, some water\, and join us at the Bluegill Shelter at W.S. Gibbs Memorial Park! Our beginner-friendly series of classes are great for meeting those in the community and enjoying gentle movement outdoors in a beautiful park!\n\nThree different programs available:\n\nFamily Yoga (families of all ages)\, Saturdays at 9 a.m.\, (1-hour session)\nKids Yoga (ages 5-10)\, Tuesdays at 10 a.m.\, (1-hour session)\nYoga in the Park (all ages)\, Fridays at 7 p.m.\, (1-hour session)\n\nFREE to attend\nNo Advance Registration Required
URL:https://hendrickscountyparks.org/event/yoga-in-the-park-all-ages-5/2026-07-17/
LOCATION:W.S. Gibbs Memorial Park\, 4521 Gibbs Road\, Danville\, IN\, 46122\, United States
CATEGORIES:All Programs,W.S. Gibbs Memorial Park
ATTACH;FMTTYPE=image/jpeg:https://hendrickscountyparks.org/wp-content/uploads/2026/04/Yoga-in-the-Park-1-scaled.jpg
ORGANIZER;CN="Balance & Breath Yoga and Wellness Center":MAILTO:hello@balanceandbreathyoga.com
END:VEVENT
BEGIN:VEVENT
DTSTART;TZID=America/Indiana/Indianapolis:20260717T210000
DTEND;TZID=America/Indiana/Indianapolis:20260717T223000
DTSTAMP:20260420T095904
CREATED:20260416T193016Z
LAST-MODIFIED:20260416T193016Z
UID:10001108-1784322000-1784327400@hendrickscountyparks.org
SUMMARY:Night Hike at McCloud
DESCRIPTION:Join us for a night at one of our parks! You’ll get the rare chance to experience our trails in the evening with a naturalist to guide you. Each night hike\, we will be looking for what the woods have to offer: bats\, owls\, fireflies\, and more! This program will last about 1.5 hours and will trek easy to moderate trails. Our parks have a variety of paved\, gravel\, and grassy trails\, so come prepared! Small flashlights will be available for use\, but light usage will be minimized in order to get the best experience and to avoid disrupting wildlife. In the event of rain or severe weather\, the event will be canceled. \nAPPROPRIATE FOR ALL AGESFEE: $5/PERSONADVANCE REGISTRATION REQUIRED BY JULY 15 AT: https://hcparks.recdesk.com/Community/Program/Detail?programId=994APPROXIMATE PROGRAM DURATION: 1.5 HOURS
URL:https://hendrickscountyparks.org/event/night-hike-at-mccloud-3/
LOCATION:McCloud Nature Park\, 8518 Hughes Road\, North Salem\, IN\, 46165\, United States
CATEGORIES:All Programs,Hiking,McCloud Nature Park
ATTACH;FMTTYPE=image/jpeg:https://hendrickscountyparks.org/wp-content/uploads/2026/03/night-hike-photo.jpg
END:VEVENT
END:VCALENDAR