BEGIN:VCALENDAR
VERSION:2.0
PRODID:-//Hendricks County Parks &amp; Recreation - ECPv6.15.20//NONSGML v1.0//EN
CALSCALE:GREGORIAN
METHOD:PUBLISH
X-WR-CALNAME:Hendricks County Parks &amp; Recreation
X-ORIGINAL-URL:https://hendrickscountyparks.org
X-WR-CALDESC:Events for Hendricks County Parks &amp; Recreation
REFRESH-INTERVAL;VALUE=DURATION:PT1H
X-Robots-Tag:noindex
X-PUBLISHED-TTL:PT1H
BEGIN:VTIMEZONE
TZID:America/Indiana/Indianapolis
BEGIN:DAYLIGHT
TZOFFSETFROM:-0500
TZOFFSETTO:-0400
TZNAME:EDT
DTSTART:20250309T070000
END:DAYLIGHT
BEGIN:STANDARD
TZOFFSETFROM:-0400
TZOFFSETTO:-0500
TZNAME:EST
DTSTART:20251102T060000
END:STANDARD
BEGIN:DAYLIGHT
TZOFFSETFROM:-0500
TZOFFSETTO:-0400
TZNAME:EDT
DTSTART:20260308T070000
END:DAYLIGHT
BEGIN:STANDARD
TZOFFSETFROM:-0400
TZOFFSETTO:-0500
TZNAME:EST
DTSTART:20261101T060000
END:STANDARD
BEGIN:DAYLIGHT
TZOFFSETFROM:-0500
TZOFFSETTO:-0400
TZNAME:EDT
DTSTART:20270314T070000
END:DAYLIGHT
BEGIN:STANDARD
TZOFFSETFROM:-0400
TZOFFSETTO:-0500
TZNAME:EST
DTSTART:20271107T060000
END:STANDARD
END:VTIMEZONE
BEGIN:VEVENT
DTSTART;TZID=America/Indiana/Indianapolis:20260721T183000
DTEND;TZID=America/Indiana/Indianapolis:20260721T203000
DTSTAMP:20260420T033930
CREATED:20260416T145839Z
LAST-MODIFIED:20260416T145839Z
UID:10001036-1784658600-1784665800@hendrickscountyparks.org
SUMMARY:Vandalia Trail Bike Rides
DESCRIPTION:Bicyclists\, join Friends of the Vandalia Trail for weekly rides along the Vandalia Trail alternating between Amo and Plainfield. This event is for the rides starting from Amo. \n\n\n1st\, 3rd\, & 5th Tuesdays each month (trailhead at Railroad St. & Pearl St.). Enjoy the countryside and small towns riding Hendricks County Parks and Recreation’s paved Vandalia Trail to Coatesville and the Putnam County line (8 miles round trip\, 16 miles for two round trips) and occasionally part of the Putnam Parks & Pathways’ packed stone Vandalia Trail towards Fillmore\, depending on the group. \n\nPlease note that riders participate at their own risk and minors must be accompanied by an adult responsible for them.\nIf you have any questions\, please contact Greg Midgley (greg@nrht.org).\nhttp://www.nrht.org/vandalia/page.php?p=events#weekly_bike
URL:https://hendrickscountyparks.org/event/vandalia-trail-bike-rides-6/
LOCATION:Vandalia Trail – Amo Trailhead\, 5042 South Street\, Amo\, IN\, 46103\, United States
CATEGORIES:All Programs,Bicycling,Vandalia Trail
ATTACH;FMTTYPE=image/jpeg:https://hendrickscountyparks.org/wp-content/uploads/2026/04/662577403_1263465095956360_9029667292415593017_n.jpg
ORGANIZER;CN="Greg Midgley":MAILTO:greg@nrht.org
END:VEVENT
BEGIN:VEVENT
DTSTART;TZID=America/Indiana/Indianapolis:20260722T103000
DTEND;TZID=America/Indiana/Indianapolis:20260722T123000
DTSTAMP:20260420T033930
CREATED:20260417T192618Z
LAST-MODIFIED:20260417T192618Z
UID:10001125-1784716200-1784723400@hendrickscountyparks.org
SUMMARY:NATURE DAY CAMP (AGES 2-6): Get Messy!
DESCRIPTION:Time to get your hands dirty! Campers will enjoy fun messy stations\, like making mud pies\, mud painting and playing games that WILL earn a few grass stains. Bring a change of clothes for this one! \nFOR AGES 2-6 WITH A PARENT OR GUARDIAN\nFEE: $15/CAMPER & PARENT/GUARDIAN\nADVANCE REGISTRATION REQUIRED BY JULY 15 AT: https://hcparks.recdesk.com/Community/Program/Detail?programId=985\nAPPROXIMATE PROGRAM DURATION: 2 HOURS
URL:https://hendrickscountyparks.org/event/nature-day-camp-ages-2-6-get-messy/
LOCATION:McCloud Nature Park\, 8518 Hughes Road\, North Salem\, IN\, 46165\, United States
CATEGORIES:Ages 2-6,All Programs,Crafts,Day Camps,McCloud Nature Park
ATTACH;FMTTYPE=image/png:https://hendrickscountyparks.org/wp-content/uploads/2026/04/Get-Messy.png
END:VEVENT
BEGIN:VEVENT
DTSTART;TZID=America/Indiana/Indianapolis:20260723T140000
DTEND;TZID=America/Indiana/Indianapolis:20260723T150000
DTSTAMP:20260420T033930
CREATED:20260416T171505Z
LAST-MODIFIED:20260416T171505Z
UID:10001072-1784815200-1784818800@hendrickscountyparks.org
SUMMARY:Critter Feeding!
DESCRIPTION:Meet all of our ambassador animals for a late lunch while we talk about what and how they eat! \nAPPROPRIATE FOR ALL AGESFEE: $2/PERSONADVANCE REGISTRATION REQUIREDAPPROXIMATE PROGRAM DURATION: 1 HOUR \nRegistration Links \n\nMay 14: https://hcparks.recdesk.com/Community/Program/Detail?programId=1017\nMay 21: https://hcparks.recdesk.com/Community/Program/Detail?programId=1018\nMay 28: https://hcparks.recdesk.com/Community/Program/Detail?programId=1019\nJune 4: https://hcparks.recdesk.com/Community/Program/Detail?programId=1020\nJune 11: https://hcparks.recdesk.com/Community/Program/Detail?programId=1021\nJune 18: https://hcparks.recdesk.com/Community/Program/Detail?programId=1022\nJune 25: https://hcparks.recdesk.com/Community/Program/Detail?programId=1023\nJuly 2: https://hcparks.recdesk.com/Community/Program/Detail?programId=1024\nJuly 9: https://hcparks.recdesk.com/Community/Program/Detail?programId=1025\nJuly 16: https://hcparks.recdesk.com/Community/Program/Detail?programId=1026\nJuly 23: https://hcparks.recdesk.com/Community/Program/Detail?programId=1027\nJuly 30: https://hcparks.recdesk.com/Community/Program/Detail?programId=1029\nAug. 6: https://hcparks.recdesk.com/Community/Program/Detail?programId=1030\nAug. 13: https://hcparks.recdesk.com/Community/Program/Detail?programId=1031\nAug. 20: https://hcparks.recdesk.com/Community/Program/Detail?programId=1032\nAug. 27: https://hcparks.recdesk.com/Community/Program/Detail?programId=1033
URL:https://hendrickscountyparks.org/event/critter-feeding/2026-07-23/
LOCATION:McCloud Nature Park\, 8518 Hughes Road\, North Salem\, IN\, 46165\, United States
CATEGORIES:All Programs,Amphibians,Insects,McCloud Nature Park,Reptiles,Wildlife
ATTACH;FMTTYPE=image/jpeg:https://hendrickscountyparks.org/wp-content/uploads/2026/03/critter-feeding-photo.jpg
END:VEVENT
BEGIN:VEVENT
DTSTART;TZID=America/Indiana/Indianapolis:20260724T103000
DTEND;TZID=America/Indiana/Indianapolis:20260724T143000
DTSTAMP:20260420T033930
CREATED:20260417T192813Z
LAST-MODIFIED:20260417T192813Z
UID:10001126-1784889000-1784903400@hendrickscountyparks.org
SUMMARY:NATURE DAY CAMP (AGES 7-12): Get Messy!
DESCRIPTION:Time to get your hands dirty! Campers will enjoy fun messy stations\, like making mud pies\, mud painting and playing games that WILL earn a few grass stains. Bring a change of clothes for this one! \nFOR AGES 7-12\nFEE: $30/CAMPER\nADVANCE REGISTRATION REQUIRED BY JULY 17 AT: https://hcparks.recdesk.com/Community/Program/Detail?programId=986\nAPPROXIMATE PROGRAM DURATION: 4 HOURS
URL:https://hendrickscountyparks.org/event/nature-day-camp-ages-7-12-get-messy/
LOCATION:McCloud Nature Park\, 8518 Hughes Road\, North Salem\, IN\, 46165\, United States
CATEGORIES:Ages 7-12,All Programs,Crafts,Day Camps,McCloud Nature Park,Tweens
ATTACH;FMTTYPE=image/png:https://hendrickscountyparks.org/wp-content/uploads/2026/04/Get-Messy.png
END:VEVENT
BEGIN:VEVENT
DTSTART;TZID=America/Indiana/Indianapolis:20260725T090000
DTEND;TZID=America/Indiana/Indianapolis:20260725T100000
DTSTAMP:20260420T033930
CREATED:20260416T162356Z
LAST-MODIFIED:20260416T162356Z
UID:10001055-1784970000-1784973600@hendrickscountyparks.org
SUMMARY:Family Yoga in the Park
DESCRIPTION:Join Balance & Breath Yoga & Wellness Center this summer for FREE Yoga in the Park programs!\nGrab a beach towel or yoga mat\, some water\, and join us at the Bluegill Shelter at W.S. Gibbs Memorial Park! Our beginner-friendly series of classes are great for meeting those in the community and enjoying gentle movement outdoors in a beautiful park!\n\nThree different programs available:\n\nFamily Yoga (families of all ages)\, Saturdays at 9 a.m.\, (1-hour session)\nKids Yoga (ages 5-10)\, Tuesdays at 10 a.m.\, (1-hour session)\nYoga in the Park (all ages)\, Fridays at 7 p.m.\, (1-hour session)\n\nFREE to attend\nNo Advance Registration Required
URL:https://hendrickscountyparks.org/event/family-yoga-in-the-park/2026-07-25/
LOCATION:W.S. Gibbs Memorial Park\, 4521 Gibbs Road\, Danville\, IN\, 46122\, United States
CATEGORIES:All Programs,W.S. Gibbs Memorial Park
ATTACH;FMTTYPE=image/png:https://hendrickscountyparks.org/wp-content/uploads/2026/04/EADBBAFB-5AB9-4304-B170-4633ACDC2FEA.png
ORGANIZER;CN="Balance & Breath Yoga and Wellness Center":MAILTO:hello@balanceandbreathyoga.com
END:VEVENT
END:VCALENDAR