BEGIN:VCALENDAR
VERSION:2.0
PRODID:-//Hendricks County Parks &amp; Recreation - ECPv6.15.20//NONSGML v1.0//EN
CALSCALE:GREGORIAN
METHOD:PUBLISH
X-WR-CALNAME:Hendricks County Parks &amp; Recreation
X-ORIGINAL-URL:https://hendrickscountyparks.org
X-WR-CALDESC:Events for Hendricks County Parks &amp; Recreation
REFRESH-INTERVAL;VALUE=DURATION:PT1H
X-Robots-Tag:noindex
X-PUBLISHED-TTL:PT1H
BEGIN:VTIMEZONE
TZID:America/Indiana/Indianapolis
BEGIN:DAYLIGHT
TZOFFSETFROM:-0500
TZOFFSETTO:-0400
TZNAME:EDT
DTSTART:20210314T070000
END:DAYLIGHT
BEGIN:STANDARD
TZOFFSETFROM:-0400
TZOFFSETTO:-0500
TZNAME:EST
DTSTART:20211107T060000
END:STANDARD
BEGIN:DAYLIGHT
TZOFFSETFROM:-0500
TZOFFSETTO:-0400
TZNAME:EDT
DTSTART:20220313T070000
END:DAYLIGHT
BEGIN:STANDARD
TZOFFSETFROM:-0400
TZOFFSETTO:-0500
TZNAME:EST
DTSTART:20221106T060000
END:STANDARD
BEGIN:DAYLIGHT
TZOFFSETFROM:-0500
TZOFFSETTO:-0400
TZNAME:EDT
DTSTART:20230312T070000
END:DAYLIGHT
BEGIN:STANDARD
TZOFFSETFROM:-0400
TZOFFSETTO:-0500
TZNAME:EST
DTSTART:20231105T060000
END:STANDARD
END:VTIMEZONE
BEGIN:VEVENT
DTSTART;TZID=America/Indiana/Indianapolis:20220924T140000
DTEND;TZID=America/Indiana/Indianapolis:20220924T170000
DTSTAMP:20260424T132112
CREATED:20220825T193346Z
LAST-MODIFIED:20220825T193346Z
UID:10000465-1664028000-1664038800@hendrickscountyparks.org
SUMMARY:Danville Geocaching Tour
DESCRIPTION:***ADVANCE REGISTRATION REQUIRED*** Walk-in registration at the time of the event is not available. Upon completing registration through the link below\, you will receive an email confirming your registration. If you need assistance completing your registration\, please call the McCloud Nature Center at (765) 676-5437.\n \nLooking for a new activity to do as a family? Try geocaching: a high-tech treasure hunt! Locate a handful of caches around Danville with a Park Naturalist geocacher!\n \nStart off with treats at the Bread Basket Café & Bakery and then drive short distances between caches in Danville.\n \nYou’ll need a few tools to go geocaching\, and we’ve put together a geocaching kit for you!\n \nRecommended but not required: create a free account on Geocaching.com\, and download a free geocaching app to a smart device with data prior to the program.\n \nSpecial thanks to the Bread Basket and Danville Parks & Recreation for partnering with us to bring you this activity!\n \nAPPROPRIATE FOR ALL AGES\nFEE: $10/FAMILY (INCLUDES 1 GEOCACHING KIT)\nADVANCE REGISTRATION REQUIRED BY SEPT. 20 AT: https://hcparks.recdesk.com/Community/Program/Detail?programId=695
URL:https://hendrickscountyparks.org/event/danville-geocaching-tour/
LOCATION:Bread Basket Cafe & Bakery\, 46 S. Tennessee Street\, Danville\, IN\, 46122\, United States
CATEGORIES:All Programs,Games
END:VEVENT
END:VCALENDAR